BEGIN:VCALENDAR
VERSION:2.0
PRODID:-//femvents.at - ECPv6.15.18//NONSGML v1.0//EN
CALSCALE:GREGORIAN
METHOD:PUBLISH
X-WR-CALNAME:femvents.at
X-ORIGINAL-URL:https://www.femvents.at
X-WR-CALDESC:Veranstaltungen für femvents.at
REFRESH-INTERVAL;VALUE=DURATION:PT1H
X-Robots-Tag:noindex
X-PUBLISHED-TTL:PT1H
BEGIN:VTIMEZONE
TZID:Europe/Berlin
BEGIN:DAYLIGHT
TZOFFSETFROM:+0100
TZOFFSETTO:+0200
TZNAME:CEST
DTSTART:20240331T010000
END:DAYLIGHT
BEGIN:STANDARD
TZOFFSETFROM:+0200
TZOFFSETTO:+0100
TZNAME:CET
DTSTART:20241027T010000
END:STANDARD
BEGIN:DAYLIGHT
TZOFFSETFROM:+0100
TZOFFSETTO:+0200
TZNAME:CEST
DTSTART:20250330T010000
END:DAYLIGHT
BEGIN:STANDARD
TZOFFSETFROM:+0200
TZOFFSETTO:+0100
TZNAME:CET
DTSTART:20251026T010000
END:STANDARD
BEGIN:DAYLIGHT
TZOFFSETFROM:+0100
TZOFFSETTO:+0200
TZNAME:CEST
DTSTART:20260329T010000
END:DAYLIGHT
BEGIN:STANDARD
TZOFFSETFROM:+0200
TZOFFSETTO:+0100
TZNAME:CET
DTSTART:20261025T010000
END:STANDARD
END:VTIMEZONE
BEGIN:VEVENT
DTSTART;TZID=Europe/Berlin:20250531T100000
DTEND;TZID=Europe/Berlin:20250531T140000
DTSTAMP:20260423T055548
CREATED:20250522T082854Z
LAST-MODIFIED:20250522T083135Z
UID:10000031-1748685600-1748700000@www.femvents.at
SUMMARY:Female Empowerment Morning
DESCRIPTION:Was erwartet dich beim 🌸FEM🌸? \nUm 10:00 Uhr geht’s gemütlich los – und dann starten wir mit der ersten Session durch 💪 \nBist du dabei? 😍 \nDann meld dich an – entweder per PN oder E-Mail an kontakt@julia-buchner.at! \nStart your day right! 🤩\nWir freuen uns auf dich!
URL:https://www.femvents.at/event/female-empowerment-morning/
LOCATION:La Vie Coworking\, Wolf-Dietrich-Straße 9\, Salzburg\, Salzburg\, 5020\, Austria
CATEGORIES:Coaching,Netzwerk-Treffen
ATTACH;FMTTYPE=image/png:https://www.femvents.at/wp-content/uploads/2025/05/Female-Empowerment-Morning.png
GEO:47.8048508;13.047892
X-APPLE-STRUCTURED-LOCATION;VALUE=URI;X-ADDRESS=La Vie Coworking Wolf-Dietrich-Straße 9 Salzburg Salzburg 5020 Austria;X-APPLE-RADIUS=500;X-TITLE=Wolf-Dietrich-Straße 9:geo:13.047892,47.8048508
END:VEVENT
END:VCALENDAR