BEGIN:VCALENDAR
VERSION:2.0
PRODID:-//femvents.at - ECPv6.15.18//NONSGML v1.0//EN
CALSCALE:GREGORIAN
METHOD:PUBLISH
X-ORIGINAL-URL:https://www.femvents.at
X-WR-CALDESC:Veranstaltungen für femvents.at
REFRESH-INTERVAL;VALUE=DURATION:PT1H
X-Robots-Tag:noindex
X-PUBLISHED-TTL:PT1H
BEGIN:VTIMEZONE
TZID:Europe/Berlin
BEGIN:DAYLIGHT
TZOFFSETFROM:+0100
TZOFFSETTO:+0200
TZNAME:CEST
DTSTART:20240331T010000
END:DAYLIGHT
BEGIN:STANDARD
TZOFFSETFROM:+0200
TZOFFSETTO:+0100
TZNAME:CET
DTSTART:20241027T010000
END:STANDARD
BEGIN:DAYLIGHT
TZOFFSETFROM:+0100
TZOFFSETTO:+0200
TZNAME:CEST
DTSTART:20250330T010000
END:DAYLIGHT
BEGIN:STANDARD
TZOFFSETFROM:+0200
TZOFFSETTO:+0100
TZNAME:CET
DTSTART:20251026T010000
END:STANDARD
BEGIN:DAYLIGHT
TZOFFSETFROM:+0100
TZOFFSETTO:+0200
TZNAME:CEST
DTSTART:20260329T010000
END:DAYLIGHT
BEGIN:STANDARD
TZOFFSETFROM:+0200
TZOFFSETTO:+0100
TZNAME:CET
DTSTART:20261025T010000
END:STANDARD
END:VTIMEZONE
BEGIN:VEVENT
DTSTART;TZID=Europe/Berlin:20250603T180000
DTEND;TZID=Europe/Berlin:20250603T193000
DTSTAMP:20260423T055708
CREATED:20250515T102523Z
LAST-MODIFIED:20250515T102742Z
UID:10000026-1748973600-1748979000@www.femvents.at
SUMMARY:Female After Work - Das beste Netzwerkevent der Stadt
DESCRIPTION:Jeden Monat am ersten Dienstag: Das exklusive Networking-Event gehostet vom Female Membersclub Leaders in Heels 🔥 \nSchnupper dich in unsere Community aus ambitionierten Frauen\, Selbstständigen\, Angestellten\, die sich gegenseitig unterstützen und inspirieren. \nHier steht nicht nur der Austausch von Visitenkarten im Vordergrund\, sondern das echte Kennenlernen\, wertvolle Gespräche und der Aufbau langfristiger Beziehungen. \nLerne den Membersclub kennen.\nFür jedes Event stellen wir 10 Tickets für Nicht-Mitglieder zur Verfügung\, um den Club kennenzulernen. Einmalig kannst du dabei sein und dir ein Bild von unserer einzigartigen Atmosphäre machen.\nEntscheide danach ganz ohne Zwang\, ob du dem Club beitreten möchtest – es ist alles komplett unverbindlich! \nUnsere Mission ist es\, Frauen mehr zusammenzubringen und den Zusammenhalt zu stärken 🔥 \nhttps://leaders-in-heels.com/
URL:https://www.femvents.at/event/female-after-work-das-beste-netzwerkevent-der-stadt/
LOCATION:Wien\, wien\, Wien\, 1060\, Austria
CATEGORIES:Netzwerk-Treffen
ATTACH;FMTTYPE=image/avif:https://www.femvents.at/wp-content/uploads/2025/05/https___cdn.evbuc_.com_images_965093063_1294747781843_1_original.avif
GEO:48.1945985;16.3504336
END:VEVENT
END:VCALENDAR