BEGIN:VCALENDAR
VERSION:2.0
PRODID:-//femvents.at - ECPv6.15.18//NONSGML v1.0//EN
CALSCALE:GREGORIAN
METHOD:PUBLISH
X-ORIGINAL-URL:https://www.femvents.at
X-WR-CALDESC:Veranstaltungen für femvents.at
REFRESH-INTERVAL;VALUE=DURATION:PT1H
X-Robots-Tag:noindex
X-PUBLISHED-TTL:PT1H
BEGIN:VTIMEZONE
TZID:Europe/Vienna
BEGIN:DAYLIGHT
TZOFFSETFROM:+0100
TZOFFSETTO:+0200
TZNAME:CEST
DTSTART:20240331T010000
END:DAYLIGHT
BEGIN:STANDARD
TZOFFSETFROM:+0200
TZOFFSETTO:+0100
TZNAME:CET
DTSTART:20241027T010000
END:STANDARD
BEGIN:DAYLIGHT
TZOFFSETFROM:+0100
TZOFFSETTO:+0200
TZNAME:CEST
DTSTART:20250330T010000
END:DAYLIGHT
BEGIN:STANDARD
TZOFFSETFROM:+0200
TZOFFSETTO:+0100
TZNAME:CET
DTSTART:20251026T010000
END:STANDARD
BEGIN:DAYLIGHT
TZOFFSETFROM:+0100
TZOFFSETTO:+0200
TZNAME:CEST
DTSTART:20260329T010000
END:DAYLIGHT
BEGIN:STANDARD
TZOFFSETFROM:+0200
TZOFFSETTO:+0100
TZNAME:CET
DTSTART:20261025T010000
END:STANDARD
END:VTIMEZONE
BEGIN:VEVENT
DTSTART;TZID=Europe/Vienna:20250628T093000
DTEND;TZID=Europe/Vienna:20250628T170000
DTSTAMP:20260423T055638
CREATED:20250623T104623Z
LAST-MODIFIED:20250623T104623Z
UID:10000073-1751103000-1751130000@www.femvents.at
SUMMARY:Symposium: Feministische Frauen- und Erwachsenenbildung: quo vadis?
DESCRIPTION:Inzwischen erleben wir es täglich: ohne eine aufklärende und kritische Bildung stirbt das demokratische Gemeinwesen. Auch deshalb möchten wir uns mit verschiedenen feministischen Perspektiven auf Bildung auseinandersetzen. Es geht um die Relevanz feministischer und gesellschaftskritischer Frauen- und Erwachsenenbildung sowie um Selbstverständigungsprozesse von Bildnerinnen. Ein Reflexionstag mit und für Frauenbildnerinnen und -beraterinnen\, sowie an emanzipatorischen Prozessen interessierten Frauen aus allen Bildungsbereichen. \n9:30 Welcomecafe \n10:00 Podium zur Bildungspraxis mit Vertreterinnen verschiedener Bildungsprojekte\, wie AEP (Innsbruck)\, Kath. Frauenbewegung\, FZ-Wien\, IGfem Autorinnen\, Schwarze Frauen Community (tbc)\, Stichwort Archiv\, Frauenhetz\, Frauennetzwerk Rohrbach. \n11:30 Prinzipien und Differenzen der Frauenbildung und feministischen Bildung der 2. Frauenbewegung. Vortrag von Andrea Strutzmann (Fem. Erwachsenenbildnerin\, Aktivistin) \n12:30 Zwischen Emanzipation und Entwertung: Drei Jahrzehnte feministische Bildung im Spannungsfeld neoliberaler Hochschulpolitik. Vortrag von Barbara Hey (Gleichstellung & Diversität an Hochschulen\, Graz) \n13:30 Mittagspause mit Büffet \n14:30 „Freeing the Voices“ – Erinnerungen und Vorgaben für eine feministische Erwachsenenbildung der Zukunft. Vortrag von Brigitte Menne (Autorin\, Friedensaktivistin) \n15:30 Feministische Bildung als gelebte Kritik und Praxis zum Dissens. Keynote von Susanne Maurer (Prof. em. Erziehungswissenschaft\, Marburg) \n17:00 Abschlussdiskussion: Denk- und Handlungsperspektiven entwickeln…
URL:https://www.femvents.at/event/symposium-feministische-frauen-und-erwachsenenbildung-quo-vadis/
LOCATION:Frauenhetz\, Untere Weißgerberstraße 41\, Wien\, 1030
CATEGORIES:Netzwerk-Treffen,Vortrag
ATTACH;FMTTYPE=image/png:https://www.femvents.at/wp-content/uploads/2025/06/Facebook-Veranstaltung4.png
GEO:48.2085132;16.3946651
X-APPLE-STRUCTURED-LOCATION;VALUE=URI;X-ADDRESS=Frauenhetz Untere Weißgerberstraße 41 Wien 1030;X-APPLE-RADIUS=500;X-TITLE=Untere Weißgerberstraße 41:geo:16.3946651,48.2085132
END:VEVENT
BEGIN:VEVENT
DTSTART;TZID=Europe/Vienna:20250628T150000
DTEND;TZID=Europe/Vienna:20250628T170000
DTSTAMP:20260423T055638
CREATED:20250612T083040Z
LAST-MODIFIED:20250612T083246Z
UID:10000039-1751122800-1751130000@www.femvents.at
SUMMARY:Frauenkräuter - Frauen(heil)kraft
DESCRIPTION:In diesem Workshop tauchen wir gemeinsam ein in die Welt der Frauenkräuter und der Frauenheilkraft – für hormonelle Balance\, gelebte Zyklusweisheit und eine tiefe Verbindung zur weiblichen Urkraft in allen Lebensphasen. Du lernst kraftvolle Heilpflanzen kennen\, die Frauen seit Jahrhunderten begleiten – und wie du sie heute ganz praktisch für dich anwenden kannst. Neben Kräuterwissen erwarten dich Impulse zur Selbstfürsorge\, kleine Rituale\, Raum für Austausch und eine wohltuende Auszeit vom Alltag. \nFür dich – in jeder Phase deines Frau-Seins \nOb du gerade mitten im Zyklus-Karussell steckst\, dich nach innerer Stabilität sehnst\, oder in der Weisheit der Wechseljahre neue Kraft finden möchtest – dieser Workshop ist eine Einladung\, deinem Körper zuzuhören\, dich mit deinem inneren Rhythmus zu verbinden und altes Pflanzenwissen neu zu entdecken. \nDu brauchst keine Vorkenntnisse – nur Offenheit für dich selbst und die Kraft der Natur. \nDich interessieren Frauenkräuter und du möchtest mehr darüber lernen? \nDu sehnst dich nach einer tieferen Verbindung mit deiner weiblichen Urkraft? \nDann schenke dir diese Zeit – für dich\, für dein Frausein\, für deine Verbindung zur Natur.
URL:https://www.femvents.at/event/frauenkraeuter-frauenheilkraft/
LOCATION:The Soul Space\, Alexander-Girardi-Straße 39\, Salzburg\, 5020
CATEGORIES:Workshop
ATTACH;FMTTYPE=image/jpeg:https://www.femvents.at/wp-content/uploads/2025/06/Frauenkraeuter-2025-klein.jpg
ORGANIZER;CN="WiseHerbs by Janja":MAILTO:janja@wiseherbs.at
GEO:47.8014154;13.0448441
X-APPLE-STRUCTURED-LOCATION;VALUE=URI;X-ADDRESS=The Soul Space Alexander-Girardi-Straße 39 Salzburg 5020;X-APPLE-RADIUS=500;X-TITLE=Alexander-Girardi-Straße 39:geo:13.0448441,47.8014154
END:VEVENT
BEGIN:VEVENT
DTSTART;TZID=Europe/Vienna:20250628T183000
DTEND;TZID=Europe/Vienna:20250628T210000
DTSTAMP:20260423T055638
CREATED:20250619T121736Z
LAST-MODIFIED:20250619T121736Z
UID:10000070-1751135400-1751144400@www.femvents.at
SUMMARY:Breathe & Release mit Katrin Anna Hauser
DESCRIPTION:Sol Rising . The Journey \nBreathe & Release mit Katrin Anna Hauser \nSAMSTAG 28. JUNI\n18:30-21:00 Uhr\nThe Soulspace\nAlexander-GirardiStraße 39\nhallo@katrinannahauser.com \nKatrin lädt dich ein zu einer ganz besonderen Conscious Connected Breathwork Session – eine kraftvolle Reise durch den Atem\, tief in dein Inneres. Du bist eingeladen\, dich von allem zu lösen\, was du nicht mehr tragen willst. Emotionale Spannungen\, alte Muster\, Stress. \nWas dich erwartet: \nAnkommen – Einführung in die Technik des verbundenen Atems – Grounding & Meditation – Consciuos connected Breathwork Journey – Intuitive Writing & Drawing for Integration – Sharing Circle \nMehr Infos & Anmeldung direkt bei Katrin
URL:https://www.femvents.at/event/breathe-release-mit-katrin-anna-hauser/
LOCATION:The Soul Space\, Alexander-Girardi-Straße 39\, Salzburg\, 5020
CATEGORIES:Workshop
ATTACH;FMTTYPE=image/jpeg:https://www.femvents.at/wp-content/uploads/2025/06/IMG_7337.jpeg
ORGANIZER;CN="Katrin Anna Hauser":MAILTO:hallo@katrinannahauser.com
GEO:47.8014154;13.0448441
X-APPLE-STRUCTURED-LOCATION;VALUE=URI;X-ADDRESS=The Soul Space Alexander-Girardi-Straße 39 Salzburg 5020;X-APPLE-RADIUS=500;X-TITLE=Alexander-Girardi-Straße 39:geo:13.0448441,47.8014154
END:VEVENT
END:VCALENDAR