BEGIN:VCALENDAR
VERSION:2.0
PRODID:-//femvents.at - ECPv6.15.18//NONSGML v1.0//EN
CALSCALE:GREGORIAN
METHOD:PUBLISH
X-ORIGINAL-URL:https://www.femvents.at
X-WR-CALDESC:Veranstaltungen für femvents.at
REFRESH-INTERVAL;VALUE=DURATION:PT1H
X-Robots-Tag:noindex
X-PUBLISHED-TTL:PT1H
BEGIN:VTIMEZONE
TZID:Europe/Vienna
BEGIN:DAYLIGHT
TZOFFSETFROM:+0100
TZOFFSETTO:+0200
TZNAME:CEST
DTSTART:20240331T010000
END:DAYLIGHT
BEGIN:STANDARD
TZOFFSETFROM:+0200
TZOFFSETTO:+0100
TZNAME:CET
DTSTART:20241027T010000
END:STANDARD
BEGIN:DAYLIGHT
TZOFFSETFROM:+0100
TZOFFSETTO:+0200
TZNAME:CEST
DTSTART:20250330T010000
END:DAYLIGHT
BEGIN:STANDARD
TZOFFSETFROM:+0200
TZOFFSETTO:+0100
TZNAME:CET
DTSTART:20251026T010000
END:STANDARD
BEGIN:DAYLIGHT
TZOFFSETFROM:+0100
TZOFFSETTO:+0200
TZNAME:CEST
DTSTART:20260329T010000
END:DAYLIGHT
BEGIN:STANDARD
TZOFFSETFROM:+0200
TZOFFSETTO:+0100
TZNAME:CET
DTSTART:20261025T010000
END:STANDARD
END:VTIMEZONE
BEGIN:VEVENT
DTSTART;TZID=Europe/Vienna:20250630T183000
DTEND;TZID=Europe/Vienna:20250630T200000
DTSTAMP:20260423T035722
CREATED:20250618T080041Z
LAST-MODIFIED:20250618T080041Z
UID:10000062-1751308200-1751313600@www.femvents.at
SUMMARY:Impulsabend
DESCRIPTION:Lass dich inspirieren wieder bewusster mit dir und deiner inneren Stärke in Kontakt zu treten und die Verbindung zu deiner inneren Stärke und Klarheit zu vertiefen. \nIch zeige dir Methoden die du leicht im Alltag integrieren kannst um Stress abzubauen und Blockaden zu lösen.
URL:https://www.femvents.at/event/impulsabend-4/
LOCATION:Therapiezentrum Garsten\, St. Berthold-Allee 25\, Garsten\, Oberösterreich\, 4451\, Austria
CATEGORIES:Workshop
ATTACH;FMTTYPE=image/jpeg:https://www.femvents.at/wp-content/uploads/2025/06/499712487_10229889471926102_1364947021375897022_n.jpg
ORGANIZER;CN="Angelika Kamleitner":MAILTO:beratung@kamleitner.net
GEO:48.0260024;14.4069618
X-APPLE-STRUCTURED-LOCATION;VALUE=URI;X-ADDRESS=Therapiezentrum Garsten St. Berthold-Allee 25 Garsten Oberösterreich 4451 Austria;X-APPLE-RADIUS=500;X-TITLE=St. Berthold-Allee 25:geo:14.4069618,48.0260024
END:VEVENT
BEGIN:VEVENT
DTSTART;TZID=Europe/Vienna:20250630T190000
DTEND;TZID=Europe/Vienna:20250630T200000
DTSTAMP:20260423T035722
CREATED:20250625T100018Z
LAST-MODIFIED:20250711T135142Z
UID:10000076-1751310000-1751313600@www.femvents.at
SUMMARY:Beckenboden-Yoga-Kurs
DESCRIPTION:60 Minuten Kombination aus Hatha Yoga\, Yin Yoga\, Yoga Nidra und Beckenboden-Übungen \nMontag\, 19:00 – 20:00\, online 30.6.\, 7.7.\, 14.7.\, 21.7.\, 28.7.\, 4.8.\, 11.8.\, 18.8.\, 25.8.\, 1.9. \nKeine Vorkenntnisse notwendig\nWähle deine Termine frei: 6x\, 8x\, 10x \nWirkungen des Kurses:\n– Körperwahrnehmung wird gestärkt\n– Verbindung zum Beckenboden wird aufgebaut bzw. vertieft\n– Ganzheitliche Entspannung (mental\, physisch)\n– Mit aufgefüllter “Batterie” in den Abend starten \nWeitere Informationen & Anmeldung unter: www.im-gefuehl.at/yogakurs
URL:https://www.femvents.at/event/beckenboden-yoga-kurs/
LOCATION:Online-Event\, Austria
CATEGORIES:Online-Event
ATTACH;FMTTYPE=image/png:https://www.femvents.at/wp-content/uploads/2025/06/Beckenboden-Yoga-Kurs.png
ORGANIZER;CN="Im Gef%C3%BChl - Christina Hopf":MAILTO:office@im-gefuehl.at
GEO:47.516231;14.550072
END:VEVENT
END:VCALENDAR