BEGIN:VCALENDAR
VERSION:2.0
PRODID:-//femvents.at - ECPv6.15.18//NONSGML v1.0//EN
CALSCALE:GREGORIAN
METHOD:PUBLISH
X-WR-CALNAME:femvents.at
X-ORIGINAL-URL:https://www.femvents.at
X-WR-CALDESC:Veranstaltungen für femvents.at
REFRESH-INTERVAL;VALUE=DURATION:PT1H
X-Robots-Tag:noindex
X-PUBLISHED-TTL:PT1H
BEGIN:VTIMEZONE
TZID:Europe/Vienna
BEGIN:DAYLIGHT
TZOFFSETFROM:+0100
TZOFFSETTO:+0200
TZNAME:CEST
DTSTART:20240331T010000
END:DAYLIGHT
BEGIN:STANDARD
TZOFFSETFROM:+0200
TZOFFSETTO:+0100
TZNAME:CET
DTSTART:20241027T010000
END:STANDARD
BEGIN:DAYLIGHT
TZOFFSETFROM:+0100
TZOFFSETTO:+0200
TZNAME:CEST
DTSTART:20250330T010000
END:DAYLIGHT
BEGIN:STANDARD
TZOFFSETFROM:+0200
TZOFFSETTO:+0100
TZNAME:CET
DTSTART:20251026T010000
END:STANDARD
BEGIN:DAYLIGHT
TZOFFSETFROM:+0100
TZOFFSETTO:+0200
TZNAME:CEST
DTSTART:20260329T010000
END:DAYLIGHT
BEGIN:STANDARD
TZOFFSETFROM:+0200
TZOFFSETTO:+0100
TZNAME:CET
DTSTART:20261025T010000
END:STANDARD
END:VTIMEZONE
BEGIN:VEVENT
DTSTART;TZID=Europe/Vienna:20250703T080000
DTEND;TZID=Europe/Vienna:20250703T113000
DTSTAMP:20260423T035627
CREATED:20250616T085425Z
LAST-MODIFIED:20250616T085425Z
UID:10000053-1751529600-1751542200@www.femvents.at
SUMMARY:Aus der Kraft der Weiblichkeit schöpfen
DESCRIPTION:Ein Workshop mit begrenzter Teilnehmerzahl mit max. 4 Frauen. \nIm Workshop gibts auch Räucherdüfte speziell für Frauen. \nViele Inputs und Tools um die Weiblichkeit zu finden/stärken.
URL:https://www.femvents.at/event/aus-der-kraft-der-weiblichkeit-schoepfen-4/
LOCATION:Kraftplatz Mühlberger\, Schubertstr. 9\, Wels\, Oberösterreich\, 4600\, Austria
CATEGORIES:Coaching,Frauenkreis,Workshop
ATTACH;FMTTYPE=image/png:https://www.femvents.at/wp-content/uploads/2025/06/Aus-der-Kraft-der-Weiblichkeit-schoepfen-Mit-Raeucherwerken_20250616_101130_0000.png
ORGANIZER;CN="Kraftplatz M%C3%BChlberger":MAILTO:kraftplatz.muehlberger@gmx.at
GEO:48.163701;14.0233625
X-APPLE-STRUCTURED-LOCATION;VALUE=URI;X-ADDRESS=Kraftplatz Mühlberger Schubertstr. 9 Wels Oberösterreich 4600 Austria;X-APPLE-RADIUS=500;X-TITLE=Schubertstr. 9:geo:14.0233625,48.163701
END:VEVENT
BEGIN:VEVENT
DTSTART;TZID=Europe/Vienna:20250703T190000
DTEND;TZID=Europe/Vienna:20250703T203000
DTSTAMP:20260423T035627
CREATED:20250624T115705Z
LAST-MODIFIED:20250624T115705Z
UID:10000074-1751569200-1751574600@www.femvents.at
SUMMARY:Webinar "Bye bye Sparbuch - hallo Rendite!" - Investieren lernen für Frauen
DESCRIPTION:Viele ambitionierte Frauen sparen zwar\, investieren aber nicht – aus Unsicherheit oder weil der Einstieg kompliziert wirkt. Oder weil sie gewohnt sind\, sich selbst und ihre Bedürfnisse hinten anzustellen.\n\nDabei spürst du längst: Da geht mehr.\n\n📉 Die Realität: Dein Geld verliert auf dem Sparbuch jeden Tag an Wert.\n\n📈 Die Alternative: Investieren – strategisch\, sicher & mit System.\n\n🎯 Deshalb gibt’s mein kostenloses Online-Webinar:\n\n„Bye bye Sparbuch – hallo Rendite!“\nFür Frauen\, die wissen\, dass sie mehr aus ihrem Geld machen können.\n\n✨ Du lernst:\n\n\nWas zu dir passt: z.B. ETFs\, Aktien\, Immobilien\, Gold\, Kryptos…\n\n\nWie du entspannt investierst – auch ohne Finanzvorwissen\n\n\nWarum du kein Mathe-Genie sein musst\, um Vermögen aufzubauen\n\n\n💡 Du brauchst keine Vorkenntnisse – nur die Entscheidung\, loszugehen.\n\n👉 Sichere dir gleich deinen Platz – um 0€!
URL:https://www.femvents.at/event/webinar-bye-bye-sparbuch-hallo-rendite-investieren-lernen-fuer-frauen/
LOCATION:Online-Event\, Austria
CATEGORIES:Coaching,Online-Event
ATTACH;FMTTYPE=image/jpeg:https://www.femvents.at/wp-content/uploads/2025/06/Bye-bye-Sparbuch-Sujet-hochkant.jpg
GEO:47.516231;14.550072
END:VEVENT
END:VCALENDAR