BEGIN:VCALENDAR
VERSION:2.0
PRODID:-//femvents.at - ECPv6.15.18//NONSGML v1.0//EN
CALSCALE:GREGORIAN
METHOD:PUBLISH
X-ORIGINAL-URL:https://www.femvents.at
X-WR-CALDESC:Veranstaltungen für femvents.at
REFRESH-INTERVAL;VALUE=DURATION:PT1H
X-Robots-Tag:noindex
X-PUBLISHED-TTL:PT1H
BEGIN:VTIMEZONE
TZID:Europe/Vienna
BEGIN:DAYLIGHT
TZOFFSETFROM:+0100
TZOFFSETTO:+0200
TZNAME:CEST
DTSTART:20240331T010000
END:DAYLIGHT
BEGIN:STANDARD
TZOFFSETFROM:+0200
TZOFFSETTO:+0100
TZNAME:CET
DTSTART:20241027T010000
END:STANDARD
BEGIN:DAYLIGHT
TZOFFSETFROM:+0100
TZOFFSETTO:+0200
TZNAME:CEST
DTSTART:20250330T010000
END:DAYLIGHT
BEGIN:STANDARD
TZOFFSETFROM:+0200
TZOFFSETTO:+0100
TZNAME:CET
DTSTART:20251026T010000
END:STANDARD
BEGIN:DAYLIGHT
TZOFFSETFROM:+0100
TZOFFSETTO:+0200
TZNAME:CEST
DTSTART:20260329T010000
END:DAYLIGHT
BEGIN:STANDARD
TZOFFSETFROM:+0200
TZOFFSETTO:+0100
TZNAME:CET
DTSTART:20261025T010000
END:STANDARD
END:VTIMEZONE
BEGIN:VEVENT
DTSTART;TZID=Europe/Vienna:20250707T173000
DTEND;TZID=Europe/Vienna:20250707T200000
DTSTAMP:20260423T035802
CREATED:20250620T091850Z
LAST-MODIFIED:20250620T092031Z
UID:10000071-1751909400-1751918400@www.femvents.at
SUMMARY:MeetUp Demokratie und Gleichberechtigung
DESCRIPTION:Dieses Mal geht es bei dem kostenlosen MeetUp um das Thema Demokratie und Gleichberechtigung. Wir haben uns überlegt\, was in dieser Zeit relevant und interessant sein könnte und waren uns dabei schnell einig… \nDu bekommst wieder spannenden\, kompakten Input und darfst dich im besonderen Rahmen des Dialogkreises ausprobieren. \n7.7.2025\nAnkommen 17 Uhr/ Start 17:30\nEnde 20 Uhr \nKostenlos und für alle Geschlechter offen \nBei Fragen melde dich gerne!
URL:https://www.femvents.at/event/7727/
LOCATION:Lendhafen Graz\, Lendkai 17\, Graz\, 8020\, Austria
CATEGORIES:Meetup
ATTACH;FMTTYPE=image/png:https://www.femvents.at/wp-content/uploads/2025/06/mentorverde.png
GEO:47.0818178;15.4285527
X-APPLE-STRUCTURED-LOCATION;VALUE=URI;X-ADDRESS=Lendhafen Graz Lendkai 17 Graz 8020 Austria;X-APPLE-RADIUS=500;X-TITLE=Lendkai 17:geo:15.4285527,47.0818178
END:VEVENT
END:VCALENDAR