BEGIN:VCALENDAR
VERSION:2.0
PRODID:-//femvents.at - ECPv6.15.18//NONSGML v1.0//EN
CALSCALE:GREGORIAN
METHOD:PUBLISH
X-WR-CALNAME:femvents.at
X-ORIGINAL-URL:https://www.femvents.at
X-WR-CALDESC:Veranstaltungen für femvents.at
REFRESH-INTERVAL;VALUE=DURATION:PT1H
X-Robots-Tag:noindex
X-PUBLISHED-TTL:PT1H
BEGIN:VTIMEZONE
TZID:Europe/Vienna
BEGIN:DAYLIGHT
TZOFFSETFROM:+0100
TZOFFSETTO:+0200
TZNAME:CEST
DTSTART:20240331T010000
END:DAYLIGHT
BEGIN:STANDARD
TZOFFSETFROM:+0200
TZOFFSETTO:+0100
TZNAME:CET
DTSTART:20241027T010000
END:STANDARD
BEGIN:DAYLIGHT
TZOFFSETFROM:+0100
TZOFFSETTO:+0200
TZNAME:CEST
DTSTART:20250330T010000
END:DAYLIGHT
BEGIN:STANDARD
TZOFFSETFROM:+0200
TZOFFSETTO:+0100
TZNAME:CET
DTSTART:20251026T010000
END:STANDARD
BEGIN:DAYLIGHT
TZOFFSETFROM:+0100
TZOFFSETTO:+0200
TZNAME:CEST
DTSTART:20260329T010000
END:DAYLIGHT
BEGIN:STANDARD
TZOFFSETFROM:+0200
TZOFFSETTO:+0100
TZNAME:CET
DTSTART:20261025T010000
END:STANDARD
END:VTIMEZONE
BEGIN:VEVENT
DTSTART;TZID=Europe/Vienna:20250709T083000
DTEND;TZID=Europe/Vienna:20250709T100000
DTSTAMP:20260423T035625
CREATED:20250702T152917Z
LAST-MODIFIED:20250702T152951Z
UID:10000091-1752049800-1752055200@www.femvents.at
SUMMARY:Ge(h)rede Plus
DESCRIPTION:Ein Sommerpicknick mit erfrischenden Getränken und leckeren Köstlichkeiten gibt es beim kommenden Ge(h)rede PLUS am 9. Juli 2025. \nBeim letzten Termin vor der Sommerpause feiern wir gemeinsam den Saisonabschluss und werden nach einem (aufgrund der Temperaturen) kurzen Stadtspaziergang im schattigen Garten des Mutter Teresa Hauses einkehren. \nNeben Einblicken in den Alltag des Senior*innenheims gibt es genug Zeit für Austausch und Plaudereien. Anmelden nicht vergessen!
URL:https://www.femvents.at/event/gehrede-plus-frauenberatung-burgenland/
LOCATION:Frauen-\, Mädchen- & Familienberatungsstelle Jennersdorf\, Hauptstrasse 15\, Jennersdorf\, 8380\, Austria
CATEGORIES:Frauenkreis,Meetup
ATTACH;FMTTYPE=image/jpeg:https://www.femvents.at/wp-content/uploads/2025/07/vereinfrauenburgenland.jpg
GEO:46.9369154;16.1378575
X-APPLE-STRUCTURED-LOCATION;VALUE=URI;X-ADDRESS=Frauen- Mädchen- & Familienberatungsstelle Jennersdorf Hauptstrasse 15 Jennersdorf 8380 Austria;X-APPLE-RADIUS=500;X-TITLE=Hauptstrasse 15:geo:16.1378575,46.9369154
END:VEVENT
BEGIN:VEVENT
DTSTART;TZID=Europe/Vienna:20250709T183000
DTEND;TZID=Europe/Vienna:20250709T200000
DTSTAMP:20260423T035625
CREATED:20250606T105844Z
LAST-MODIFIED:20250711T135205Z
UID:10000035-1752085800-1752091200@www.femvents.at
SUMMARY:Selflove & Bootyshake Sommer online Kurs 🌴👙❤️‍🔥💃🏼✨
DESCRIPTION:Anmeldebedingungen:\nQueen du musst nichts an Erfahrung mitbringen\, wir starten in allen Bereichen von Anfang an. Das Einzige was du brauchst ist eine kleine Portion Mut & Offenheit für Veränderung\, um zur glänzendsten Version von dir selbst wachsen zu wollen. ✨💕 \nWas dich erwartet:\nEin ganzheitliches Wohlfühl-Paket für deine innere & äußere Welt! Es wird ein Safe-Place geboten\, wo ALLE Frauen\, mit all ihren Emotionen\, Themen\, Kurven und Freude an der Bewegung zu rhythmischer Musik herzlich willkommen sind. Gemeinsam stärken wir dein eigenes Selbstbild\, sowie dein Selbstbewusstsein & Körperbewusstsein. 🥰 \nDas Programm ist eine wundervolle Mischung aus: \n\nTools für deine Persönlichkeitsentwicklung\nAustausch in der Gruppe\nBewegungen um dich wieder mehr in deine weibliche Energie zu kommen\nTanztechniken wie twerking\, wining und bootyshaken um dein volles Hüftpotenzial zu entfalten & energetische Blockaden zu lösen\nChoreografie-Dance\, um zu lernen auf dem Beat zu tanzen und deine Kurven in Szene zu setzen\nStretching um für mehr Körperflexibilität\nMeditation/Atemübung/Journaling\, um dein Nervensystem zu entspannen und an deinen Träumen zu arbeiten\n\nMusik: Afrobeats\, Dancehall\, Soca\, Reggaeton \nDas Konzept wurde von mir entwickelt\, um andere Frauen wieder an ihren eigenen Glanz & einzigartige Schönheit zu erinnern. ❤️ \nonline Ablauf: – Erklärungsvideo (falls das alles neu für dich ist) – Zoom Link um dich einzuloggen \n8 Einheiten x 1\,5 Stunden \nIch freue mich auf dich Queen! 😍 \nLet’s shine together 💎 lovely greetings Johanna
URL:https://www.femvents.at/event/selflove-bootyshake-sommer-online-kurs-%f0%9f%8c%b4%f0%9f%91%99%e2%9d%a4%ef%b8%8f%f0%9f%94%a5%f0%9f%92%83%f0%9f%8f%bc%e2%9c%a8/
LOCATION:Online-Event\, Austria
CATEGORIES:Online-Event
ATTACH;FMTTYPE=image/png:https://www.femvents.at/wp-content/uploads/2025/06/Kopie-von-Beige-Braun-Minimalistisch-Elegant-Kurs-Workshop-Instagram-Story-Instagram-Post-45-1.png
ORGANIZER;CN="Selflove &amp%3B Bootyshake by Johanna":MAILTO:info@selflove-bootyshake.com
GEO:47.516231;14.550072
END:VEVENT
END:VCALENDAR