BEGIN:VCALENDAR
VERSION:2.0
PRODID:-//femvents.at - ECPv6.15.18//NONSGML v1.0//EN
CALSCALE:GREGORIAN
METHOD:PUBLISH
X-ORIGINAL-URL:https://www.femvents.at
X-WR-CALDESC:Veranstaltungen für femvents.at
REFRESH-INTERVAL;VALUE=DURATION:PT1H
X-Robots-Tag:noindex
X-PUBLISHED-TTL:PT1H
BEGIN:VTIMEZONE
TZID:Europe/Vienna
BEGIN:DAYLIGHT
TZOFFSETFROM:+0100
TZOFFSETTO:+0200
TZNAME:CEST
DTSTART:20240331T010000
END:DAYLIGHT
BEGIN:STANDARD
TZOFFSETFROM:+0200
TZOFFSETTO:+0100
TZNAME:CET
DTSTART:20241027T010000
END:STANDARD
BEGIN:DAYLIGHT
TZOFFSETFROM:+0100
TZOFFSETTO:+0200
TZNAME:CEST
DTSTART:20250330T010000
END:DAYLIGHT
BEGIN:STANDARD
TZOFFSETFROM:+0200
TZOFFSETTO:+0100
TZNAME:CET
DTSTART:20251026T010000
END:STANDARD
BEGIN:DAYLIGHT
TZOFFSETFROM:+0100
TZOFFSETTO:+0200
TZNAME:CEST
DTSTART:20260329T010000
END:DAYLIGHT
BEGIN:STANDARD
TZOFFSETFROM:+0200
TZOFFSETTO:+0100
TZNAME:CET
DTSTART:20261025T010000
END:STANDARD
END:VTIMEZONE
BEGIN:VEVENT
DTSTART;TZID=Europe/Vienna:20250710T100000
DTEND;TZID=Europe/Vienna:20250710T113000
DTSTAMP:20260423T035801
CREATED:20250702T074922Z
LAST-MODIFIED:20250702T075241Z
UID:10000088-1752141600-1752147000@www.femvents.at
SUMMARY:Soulful Business Networking
DESCRIPTION:Du wünschst dir mehr echte Verbindungen in deinem Business-Alltag? \nFrauen\, die dich verstehen\, die deine Vision teilen und die – genau wie du – mutig ihren Weg gehen? Dann lade ich dich von Herzen zum nächsten Soulful Business Networking ein! \n📅 Donnerstag\, 10. Juli | 10:00–11:30 Uhr | Online | kostenlos Diese Online-Vernetzungsveranstaltung ist für selbstständige Frauen und Visionärinnen gedacht\, die Lust auf neue Impulse\, inspirierende Begegnungen und ein starkes Netzwerk haben. \nWas dich erwartet: \nIn drei kleinen\, feinen Vernetzungsrunden à 15 Minuten lernst du in Kleingruppen andere spannende Unternehmerinnen kennen und bekommst Raum\, dich auszutauschen\, dein Business sichtbar zu machen – und vielleicht schon erste Kooperationen oder Kundinnen zu gewinnen. Das Besondere: Kein Verkaufsdruck\, kein „Pitch-Zwang“ – einfach du\, dein Business\, deine Vision. Offenheit\, Neugier und gegenseitige Unterstützung stehen im Mittelpunkt. \nMach den ersten Schritt in Richtung neuer Verbindungen. \nHier gehts zur Anmeldung: https://www.digitales-coworking.at/anmeldung-soulful-business-event/ \nIch freu mich auf dich! \nAlles Liebe\, Sarah
URL:https://www.femvents.at/event/soulful-business-networking-soulmates-buisnessfriends/
LOCATION:Online-Event\, Austria
CATEGORIES:Netzwerk-Treffen
ATTACH;FMTTYPE=image/png:https://www.femvents.at/wp-content/uploads/2025/07/Soulful-Business-Networking-2.png
GEO:47.516231;14.550072
END:VEVENT
BEGIN:VEVENT
DTSTART;TZID=Europe/Vienna:20250710T190000
DTEND;TZID=Europe/Vienna:20250710T200000
DTSTAMP:20260423T035801
CREATED:20250703T100142Z
LAST-MODIFIED:20250703T104822Z
UID:10000094-1752174000-1752177600@www.femvents.at
SUMMARY:Gründerinnen-Sprechstunde: Fempreneur
DESCRIPTION:Du möchtest dich selbstständig machen aber hast noch 1000 Fragen? \n💬 Komm zum zweiwöchentlichen Online-Expertinnen-Talk für Gründerinnen (in spe) zu allen Fragen rund um deine Selbstständigkeit! \nIn diesem kostenlosen Webinar erwartet dich: \n\nOffene Q&A-Session zu allen Themen der Unternehmensgründung\nPraxisnahe Antworten auf deine individuellen Herausforderungen\nVernetzung mit Gleichgesinnten in entspannter Atmosphäre\nWertvolle Impulse und konkrete Handlungsschritte\n\nDetails:\n🗓️ Jeden zweiten Donnerstag\n⏰ 19:00 Uhr\n💻 Via Zoom\n💰 Kostenlos \nBringe deine Fragen mit oder höre einfach zu und lass dich inspirieren.\nDieser interaktive Austausch ist perfekt für dich\, egal ob du… \n\nmit dem Gedanken spielst\, dich selbstständig zu machen\nkonkrete Schritte zur Gründung planst\nbereits gegründet hast und vor neuen Herausforderungen stehst\n\n👩‍💼 Über den Host:\nIsabella ist diplomierte psychologische Beraterin\, Business Coach\, Trainerin für Erwachsenenbildung und zertifiziert für systemische Aufstellungsarbeit. Mit 13+ Jahren Erfahrung als selbstständige Senior UX-Designerin bringt sie einen reichen Erfahrungsschatz in der Zusammenarbeit mit Kund:innen in ganz Europa mit. ✨ \n🔗 Melde dich jetzt für einen der nächsten Termine an!
URL:https://www.femvents.at/event/gruenderinnen-sprechstunde-fempreneur/
LOCATION:Online-Event\, Austria
CATEGORIES:After Work,Coaching,Frauenkreis,Meetup,Netzwerk-Treffen,Online-Event
ATTACH;FMTTYPE=image/png:https://www.femvents.at/wp-content/uploads/2025/07/Fempreneur-After-Work-femvents.png
ORGANIZER;CN="Mind Distillery":MAILTO:hello@mind-distillery.com
GEO:47.516231;14.550072
END:VEVENT
END:VCALENDAR