BEGIN:VCALENDAR
VERSION:2.0
PRODID:-//femvents.at - ECPv6.15.18//NONSGML v1.0//EN
CALSCALE:GREGORIAN
METHOD:PUBLISH
X-ORIGINAL-URL:https://www.femvents.at
X-WR-CALDESC:Veranstaltungen für femvents.at
REFRESH-INTERVAL;VALUE=DURATION:PT1H
X-Robots-Tag:noindex
X-PUBLISHED-TTL:PT1H
BEGIN:VTIMEZONE
TZID:Europe/Vienna
BEGIN:DAYLIGHT
TZOFFSETFROM:+0100
TZOFFSETTO:+0200
TZNAME:CEST
DTSTART:20240331T010000
END:DAYLIGHT
BEGIN:STANDARD
TZOFFSETFROM:+0200
TZOFFSETTO:+0100
TZNAME:CET
DTSTART:20241027T010000
END:STANDARD
BEGIN:DAYLIGHT
TZOFFSETFROM:+0100
TZOFFSETTO:+0200
TZNAME:CEST
DTSTART:20250330T010000
END:DAYLIGHT
BEGIN:STANDARD
TZOFFSETFROM:+0200
TZOFFSETTO:+0100
TZNAME:CET
DTSTART:20251026T010000
END:STANDARD
BEGIN:DAYLIGHT
TZOFFSETFROM:+0100
TZOFFSETTO:+0200
TZNAME:CEST
DTSTART:20260329T010000
END:DAYLIGHT
BEGIN:STANDARD
TZOFFSETFROM:+0200
TZOFFSETTO:+0100
TZNAME:CET
DTSTART:20261025T010000
END:STANDARD
END:VTIMEZONE
BEGIN:VEVENT
DTSTART;TZID=Europe/Vienna:20250716T180000
DTEND;TZID=Europe/Vienna:20250716T200000
DTSTAMP:20260423T035800
CREATED:20250714T130827Z
LAST-MODIFIED:20250714T131010Z
UID:10000107-1752688800-1752696000@www.femvents.at
SUMMARY:FRAU SEiN Seminare: Frauen und ihre Pension
DESCRIPTION:Dieses Seminar richtet sich an Frauen\, die sich über das Pensionssystem und die eigene Absicherung informieren möchten. Es vermittelt verständliche Grundlagen dazu\, wie das Pensionssystem funktioniert und welche Faktoren die Pensionshöhe beeinflussen. \nEin besonderer Schwerpunkt liegt auf der Vorsorge: Welche Möglichkeiten gibt es\, frühzeitig Maßnahmen zu ergreifen\, um die finanzielle Sicherheit im Alter zu gewährleisten? Praktische Tipps und individuelle Fragestellungen werden aufgegriffen\, um den Teilnehmenden ein besseres Verständnis und eine stärkere Handlungskompetenz zu vermitteln.
URL:https://www.femvents.at/event/frau-sein-seminare-frauen-und-ihre-pension/
LOCATION:FRAU iDA\, Hauptplatz 16\, Zwettl\, Niederösterreich\, 3910\, Austria
CATEGORIES:Coaching,Workshop
ATTACH;FMTTYPE=image/jpeg:https://www.femvents.at/wp-content/uploads/2025/07/Logo-FRAU-SEiN.jpg
ORGANIZER;CN="FRAU iDA":MAILTO:office@frau-ida.at
GEO:48.6041614;15.167567
X-APPLE-STRUCTURED-LOCATION;VALUE=URI;X-ADDRESS=FRAU iDA Hauptplatz 16 Zwettl Niederösterreich 3910 Austria;X-APPLE-RADIUS=500;X-TITLE=Hauptplatz 16:geo:15.167567,48.6041614
END:VEVENT
END:VCALENDAR