BEGIN:VCALENDAR
VERSION:2.0
PRODID:-//femvents.at - ECPv6.15.18//NONSGML v1.0//EN
CALSCALE:GREGORIAN
METHOD:PUBLISH
X-WR-CALNAME:femvents.at
X-ORIGINAL-URL:https://www.femvents.at
X-WR-CALDESC:Veranstaltungen für femvents.at
REFRESH-INTERVAL;VALUE=DURATION:PT1H
X-Robots-Tag:noindex
X-PUBLISHED-TTL:PT1H
BEGIN:VTIMEZONE
TZID:Europe/Vienna
BEGIN:DAYLIGHT
TZOFFSETFROM:+0100
TZOFFSETTO:+0200
TZNAME:CEST
DTSTART:20240331T010000
END:DAYLIGHT
BEGIN:STANDARD
TZOFFSETFROM:+0200
TZOFFSETTO:+0100
TZNAME:CET
DTSTART:20241027T010000
END:STANDARD
BEGIN:DAYLIGHT
TZOFFSETFROM:+0100
TZOFFSETTO:+0200
TZNAME:CEST
DTSTART:20250330T010000
END:DAYLIGHT
BEGIN:STANDARD
TZOFFSETFROM:+0200
TZOFFSETTO:+0100
TZNAME:CET
DTSTART:20251026T010000
END:STANDARD
BEGIN:DAYLIGHT
TZOFFSETFROM:+0100
TZOFFSETTO:+0200
TZNAME:CEST
DTSTART:20260329T010000
END:DAYLIGHT
BEGIN:STANDARD
TZOFFSETFROM:+0200
TZOFFSETTO:+0100
TZNAME:CET
DTSTART:20261025T010000
END:STANDARD
END:VTIMEZONE
BEGIN:VEVENT
DTSTART;TZID=Europe/Vienna:20250717T080000
DTEND;TZID=Europe/Vienna:20250717T113000
DTSTAMP:20260423T035540
CREATED:20250616T085524Z
LAST-MODIFIED:20250616T085524Z
UID:10000054-1752739200-1752751800@www.femvents.at
SUMMARY:Aus der Kraft der Weiblichkeit schöpfen
DESCRIPTION:Ein Workshop mit begrenzter Teilnehmerzahl mit max. 4 Frauen. \nIm Workshop gibts auch Räucherdüfte speziell für Frauen. \nViele Inputs und Tools um die Weiblichkeit zu finden/stärken.
URL:https://www.femvents.at/event/aus-der-kraft-der-weiblichkeit-schoepfen-5/
LOCATION:Wels\, Schubertstr. 9\, Wels\, Wels\, 4600\, Austria
CATEGORIES:Coaching,Frauenkreis,Workshop
ATTACH;FMTTYPE=image/png:https://www.femvents.at/wp-content/uploads/2025/06/Aus-der-Kraft-der-Weiblichkeit-schoepfen-Mit-Raeucherwerken_20250616_101130_0000-1.png
ORGANIZER;CN="Kraftplatz M%C3%BChlberger":MAILTO:kraftplatz.muehlberger@gmx.at
GEO:48.163701;14.0233625
X-APPLE-STRUCTURED-LOCATION;VALUE=URI;X-ADDRESS=Wels Schubertstr. 9 Wels Wels 4600 Austria;X-APPLE-RADIUS=500;X-TITLE=Schubertstr. 9:geo:14.0233625,48.163701
END:VEVENT
END:VCALENDAR