BEGIN:VCALENDAR
VERSION:2.0
PRODID:-//femvents.at - ECPv6.15.18//NONSGML v1.0//EN
CALSCALE:GREGORIAN
METHOD:PUBLISH
X-WR-CALNAME:femvents.at
X-ORIGINAL-URL:https://www.femvents.at
X-WR-CALDESC:Veranstaltungen für femvents.at
REFRESH-INTERVAL;VALUE=DURATION:PT1H
X-Robots-Tag:noindex
X-PUBLISHED-TTL:PT1H
BEGIN:VTIMEZONE
TZID:Europe/Vienna
BEGIN:DAYLIGHT
TZOFFSETFROM:+0100
TZOFFSETTO:+0200
TZNAME:CEST
DTSTART:20240331T010000
END:DAYLIGHT
BEGIN:STANDARD
TZOFFSETFROM:+0200
TZOFFSETTO:+0100
TZNAME:CET
DTSTART:20241027T010000
END:STANDARD
BEGIN:DAYLIGHT
TZOFFSETFROM:+0100
TZOFFSETTO:+0200
TZNAME:CEST
DTSTART:20250330T010000
END:DAYLIGHT
BEGIN:STANDARD
TZOFFSETFROM:+0200
TZOFFSETTO:+0100
TZNAME:CET
DTSTART:20251026T010000
END:STANDARD
BEGIN:DAYLIGHT
TZOFFSETFROM:+0100
TZOFFSETTO:+0200
TZNAME:CEST
DTSTART:20260329T010000
END:DAYLIGHT
BEGIN:STANDARD
TZOFFSETFROM:+0200
TZOFFSETTO:+0100
TZNAME:CET
DTSTART:20261025T010000
END:STANDARD
END:VTIMEZONE
BEGIN:VEVENT
DTSTART;TZID=Europe/Vienna:20250719T093000
DTEND;TZID=Europe/Vienna:20250719T113000
DTSTAMP:20260423T035630
CREATED:20250620T161028Z
LAST-MODIFIED:20250620T161028Z
UID:10000072-1752917400-1752924600@www.femvents.at
SUMMARY:Female creative breakfast club
DESCRIPTION:Der etwas andere Stammtisch … \n✨ Kreativer Austausch bei Kaffee & Croissants – sei dabei! ✨ \nAm Samstag\, den 19. Juli\, lade ich wieder herzlich alle Frauen aus der Kreativbranche zu einem inspirierenden Frühstückstreff ein. Ob Grafikdesignerin\, Fotografin\, Texterin\, Illustratorin\, Filmemacherin oder anderweitig kreativ unterwegs – du bist willkommen! \nIn entspannter Atmosphäre wollen wir uns kennenlernen\, austauschen\, gegenseitig unterstützen und gemeinsam neue Impulse sammeln. Es geht nicht um Netzwerken im klassischen Sinn\, sondern um echtes Miteinander\, offene Gespräche und den wertvollen Support unter Gleichgesinnten. \n🗓 Wann: Samstag\, 19. Juli\, ab 9:30 Uhr📍 Wo: Erfährst du bei Anmeldung\, in der Stadt Salzburg🥐 Was: Frühstück\, Gespräche\, kreative Energie \nBring gern deine Visitenkarte\, dein neuestes Projekt oder einfach nur dich selbst mit – wir freuen uns auf dich und den gemeinsamen Vormittag! \nLass uns gemeinsam den Tag mit einem guten Kaffee und tollen Gesprächen starten. 💛
URL:https://www.femvents.at/event/female-creative-breakfast-club/
LOCATION:Salzburg Stadt
CATEGORIES:Netzwerk-Treffen,Stammtisch
ATTACH;FMTTYPE=image/jpeg:https://www.femvents.at/wp-content/uploads/2025/06/SM-female-breakfast-club-1.jpg
END:VEVENT
END:VCALENDAR