BEGIN:VCALENDAR
VERSION:2.0
PRODID:-//femvents.at - ECPv6.15.18//NONSGML v1.0//EN
CALSCALE:GREGORIAN
METHOD:PUBLISH
X-WR-CALNAME:femvents.at
X-ORIGINAL-URL:https://www.femvents.at
X-WR-CALDESC:Veranstaltungen für femvents.at
REFRESH-INTERVAL;VALUE=DURATION:PT1H
X-Robots-Tag:noindex
X-PUBLISHED-TTL:PT1H
BEGIN:VTIMEZONE
TZID:Europe/Vienna
BEGIN:DAYLIGHT
TZOFFSETFROM:+0100
TZOFFSETTO:+0200
TZNAME:CEST
DTSTART:20240331T010000
END:DAYLIGHT
BEGIN:STANDARD
TZOFFSETFROM:+0200
TZOFFSETTO:+0100
TZNAME:CET
DTSTART:20241027T010000
END:STANDARD
BEGIN:DAYLIGHT
TZOFFSETFROM:+0100
TZOFFSETTO:+0200
TZNAME:CEST
DTSTART:20250330T010000
END:DAYLIGHT
BEGIN:STANDARD
TZOFFSETFROM:+0200
TZOFFSETTO:+0100
TZNAME:CET
DTSTART:20251026T010000
END:STANDARD
BEGIN:DAYLIGHT
TZOFFSETFROM:+0100
TZOFFSETTO:+0200
TZNAME:CEST
DTSTART:20260329T010000
END:DAYLIGHT
BEGIN:STANDARD
TZOFFSETFROM:+0200
TZOFFSETTO:+0100
TZNAME:CET
DTSTART:20261025T010000
END:STANDARD
END:VTIMEZONE
BEGIN:VEVENT
DTSTART;TZID=Europe/Vienna:20250722T163000
DTEND;TZID=Europe/Vienna:20250722T193000
DTSTAMP:20260423T035627
CREATED:20250711T170734Z
LAST-MODIFIED:20250711T170734Z
UID:10000106-1753201800-1753212600@www.femvents.at
SUMMARY:Netzwerktreffen Graz
DESCRIPTION:Ziel ist es\, uns mit Gleichgesinnten Frauen zu vernetzen. Im Vordergrund steht der gegeseitige Austausch und Support. \n\nAnmeldung bis spätestens 18.7.25 am Vormittag. (ich@webdirwas.at)\n\nDer genaue Ort wird dir nach der Anmeldung bekanntgegeben.
URL:https://www.femvents.at/event/netzwerktreffen-graz/
LOCATION:Citypark Graz\, Graz\, Steiermark\, Austria
CATEGORIES:Netzwerk-Treffen
ATTACH;FMTTYPE=image/jpeg:https://www.femvents.at/wp-content/uploads/2025/07/inbound1111567544179094863.jpg
ORGANIZER;CN="webdirwas.at":MAILTO:ich@webdirwas.at
GEO:47.0678961;15.4417305
END:VEVENT
END:VCALENDAR