BEGIN:VCALENDAR
VERSION:2.0
PRODID:-//femvents.at - ECPv6.15.18//NONSGML v1.0//EN
CALSCALE:GREGORIAN
METHOD:PUBLISH
X-WR-CALNAME:femvents.at
X-ORIGINAL-URL:https://www.femvents.at
X-WR-CALDESC:Veranstaltungen für femvents.at
REFRESH-INTERVAL;VALUE=DURATION:PT1H
X-Robots-Tag:noindex
X-PUBLISHED-TTL:PT1H
BEGIN:VTIMEZONE
TZID:Europe/Vienna
BEGIN:DAYLIGHT
TZOFFSETFROM:+0100
TZOFFSETTO:+0200
TZNAME:CEST
DTSTART:20240331T010000
END:DAYLIGHT
BEGIN:STANDARD
TZOFFSETFROM:+0200
TZOFFSETTO:+0100
TZNAME:CET
DTSTART:20241027T010000
END:STANDARD
BEGIN:DAYLIGHT
TZOFFSETFROM:+0100
TZOFFSETTO:+0200
TZNAME:CEST
DTSTART:20250330T010000
END:DAYLIGHT
BEGIN:STANDARD
TZOFFSETFROM:+0200
TZOFFSETTO:+0100
TZNAME:CET
DTSTART:20251026T010000
END:STANDARD
BEGIN:DAYLIGHT
TZOFFSETFROM:+0100
TZOFFSETTO:+0200
TZNAME:CEST
DTSTART:20260329T010000
END:DAYLIGHT
BEGIN:STANDARD
TZOFFSETFROM:+0200
TZOFFSETTO:+0100
TZNAME:CET
DTSTART:20261025T010000
END:STANDARD
END:VTIMEZONE
BEGIN:VEVENT
DTSTART;TZID=Europe/Vienna:20250725T160000
DTEND;TZID=Europe/Vienna:20250726T210000
DTSTAMP:20260423T035629
CREATED:20250702T093824Z
LAST-MODIFIED:20250702T093824Z
UID:10000089-1753459200-1753563600@www.femvents.at
SUMMARY:THE PULSE
DESCRIPTION:Dance Workshops brought to you by Maja\, Lena & Paula. \nWe’re bringing you our knowledge\, technique and passion for styles such as Dancehall\, Twerk + Soca\, Slow Wine\, Heels  & Reggaeton ♥️ \nSign Up via Link: \nhttps://form.jotform.com/251812952074356 \nYou can find us on Instagram for more Info: @lena__mercedes
URL:https://www.femvents.at/event/the-pulse/
LOCATION:Streetmotion Studio\, Viaduktbögen 7-10\, Innsbruck\, Tirol\, 6020\, Austria
CATEGORIES:Tanzveranstaltung
ATTACH;FMTTYPE=image/jpeg:https://www.femvents.at/wp-content/uploads/2025/07/59122f64-4c4b-46ad-8900-300c1bdf4d73.jpeg
GEO:47.269258;11.4040792
X-APPLE-STRUCTURED-LOCATION;VALUE=URI;X-ADDRESS=Streetmotion Studio Viaduktbögen 7-10 Innsbruck Tirol 6020 Austria;X-APPLE-RADIUS=500;X-TITLE=Viaduktbögen 7-10:geo:11.4040792,47.269258
END:VEVENT
END:VCALENDAR