BEGIN:VCALENDAR
VERSION:2.0
PRODID:-//femvents.at - ECPv6.15.18//NONSGML v1.0//EN
CALSCALE:GREGORIAN
METHOD:PUBLISH
X-ORIGINAL-URL:https://www.femvents.at
X-WR-CALDESC:Veranstaltungen für femvents.at
REFRESH-INTERVAL;VALUE=DURATION:PT1H
X-Robots-Tag:noindex
X-PUBLISHED-TTL:PT1H
BEGIN:VTIMEZONE
TZID:Europe/Vienna
BEGIN:DAYLIGHT
TZOFFSETFROM:+0100
TZOFFSETTO:+0200
TZNAME:CEST
DTSTART:20240331T010000
END:DAYLIGHT
BEGIN:STANDARD
TZOFFSETFROM:+0200
TZOFFSETTO:+0100
TZNAME:CET
DTSTART:20241027T010000
END:STANDARD
BEGIN:DAYLIGHT
TZOFFSETFROM:+0100
TZOFFSETTO:+0200
TZNAME:CEST
DTSTART:20250330T010000
END:DAYLIGHT
BEGIN:STANDARD
TZOFFSETFROM:+0200
TZOFFSETTO:+0100
TZNAME:CET
DTSTART:20251026T010000
END:STANDARD
BEGIN:DAYLIGHT
TZOFFSETFROM:+0100
TZOFFSETTO:+0200
TZNAME:CEST
DTSTART:20260329T010000
END:DAYLIGHT
BEGIN:STANDARD
TZOFFSETFROM:+0200
TZOFFSETTO:+0100
TZNAME:CET
DTSTART:20261025T010000
END:STANDARD
END:VTIMEZONE
BEGIN:VEVENT
DTSTART;TZID=Europe/Vienna:20250729T183000
DTEND;TZID=Europe/Vienna:20250729T210000
DTSTAMP:20260423T021006
CREATED:20250704T105907Z
LAST-MODIFIED:20250704T105907Z
UID:10000098-1753813800-1753822800@www.femvents.at
SUMMARY:Astrologischer Frauenkreis /Schlaflosigkeit
DESCRIPTION:Thema: Schlaflos oder müde trotz genug Schlaf? Wie kann ich meinen Schlaf verbessern? \nDu möchtest dich mit anderen Frauen austauschen? Du suchst Gleichgesinnte? Dann komm in meinen Frauenkreis.  Wir treffen einander am letzten Dienstag des Monats um 18:30 Uhr online via Zoom. \nJedes Monat werden wir uns in ein spezielles Thema vertiefen\, wie etwa Wechseljahre\, Partnerschaft\, Job\, uvm.  Bring dich auch gerne in der Gruppe aktiv ein – hier darf und soll ein lebendiger Austausch entstehen. \nDu erfährst in dieser Runde exklusiv die astrologischen Aussichten auf das nächste Monat. Am Ende des Abends werden wir unsere weibliche Verbundenheit besonders stärken\, indem ich euch durch eine geführte Meditation leite.
URL:https://www.femvents.at/event/astrologischer-frauenkreis-schlaflosigkeit/
LOCATION:Online-Event\, Austria
CATEGORIES:Online-Event
ATTACH;FMTTYPE=image/jpeg:https://www.femvents.at/wp-content/uploads/2025/07/IMG_2672.jpeg
GEO:47.516231;14.550072
END:VEVENT
END:VCALENDAR