BEGIN:VCALENDAR
VERSION:2.0
PRODID:-//femvents.at - ECPv6.15.18//NONSGML v1.0//EN
CALSCALE:GREGORIAN
METHOD:PUBLISH
X-WR-CALNAME:femvents.at
X-ORIGINAL-URL:https://www.femvents.at
X-WR-CALDESC:Veranstaltungen für femvents.at
REFRESH-INTERVAL;VALUE=DURATION:PT1H
X-Robots-Tag:noindex
X-PUBLISHED-TTL:PT1H
BEGIN:VTIMEZONE
TZID:Europe/Vienna
BEGIN:DAYLIGHT
TZOFFSETFROM:+0100
TZOFFSETTO:+0200
TZNAME:CEST
DTSTART:20240331T010000
END:DAYLIGHT
BEGIN:STANDARD
TZOFFSETFROM:+0200
TZOFFSETTO:+0100
TZNAME:CET
DTSTART:20241027T010000
END:STANDARD
BEGIN:DAYLIGHT
TZOFFSETFROM:+0100
TZOFFSETTO:+0200
TZNAME:CEST
DTSTART:20250330T010000
END:DAYLIGHT
BEGIN:STANDARD
TZOFFSETFROM:+0200
TZOFFSETTO:+0100
TZNAME:CET
DTSTART:20251026T010000
END:STANDARD
BEGIN:DAYLIGHT
TZOFFSETFROM:+0100
TZOFFSETTO:+0200
TZNAME:CEST
DTSTART:20260329T010000
END:DAYLIGHT
BEGIN:STANDARD
TZOFFSETFROM:+0200
TZOFFSETTO:+0100
TZNAME:CET
DTSTART:20261025T010000
END:STANDARD
END:VTIMEZONE
BEGIN:VEVENT
DTSTART;TZID=Europe/Vienna:20250730T190000
DTEND;TZID=Europe/Vienna:20250730T200000
DTSTAMP:20260423T020744
CREATED:20250627T084752Z
LAST-MODIFIED:20250826T104012Z
UID:10000077-1753902000-1753905600@www.femvents.at
SUMMARY:Auszeit für Powerfrauen
DESCRIPTION:Kurs für Mütter und Frauen\, die zwischen dem stressigen und überfüllten Alltagswahnsinn oft auf sich selbst vergessen und das Gefühl haben\, eine Auszeit zu brauchen. \nIn meinem Achtsamkeits- und Entspannungskurs legen wir den Hauptfokus auf die Positive Psychologie. Wir werden wieder bei uns ankommen\, loslassen\, ICH-sein und entspannen. Es wird immer ein Thema der Woche geben und ich verwende gerne dazu die ätherischen Öle von Young Living\, die uns helfen\, noch tiefer zu entspannen. Es wird Impulse\, Tipps und Ideen von mir geben und Zeit und Raum für Gespräche. Wer möchte kann auch Übungen für zuhause mitbekommen. \nDer Kurs ist sowohl einzeln als auch als 5er-Block buchbar. \nIch freue mich auf entspannte Abende und eure Anmeldungen!
URL:https://www.femvents.at/event/auszeit-fuer-powerfrauen/
LOCATION:DEINE PRAXIS Oberalm\, Salzburg\, Österreich\, Halleiner Landesstraße 40\, Oberalm\, Salzburg\, 5411\, Austria
CATEGORIES:Coaching,Frauenkreis,Kurs
ATTACH;FMTTYPE=image/jpeg:https://www.femvents.at/wp-content/uploads/2025/06/Auszeit-fuer-Powerfrauen.jpg
ORGANIZER;CN="imSinn Claudia Strubegger":MAILTO:claudia.strubegger@outlook.com
GEO:47.699157;13.0999683
X-APPLE-STRUCTURED-LOCATION;VALUE=URI;X-ADDRESS=DEINE PRAXIS Oberalm Salzburg Österreich Halleiner Landesstraße 40 Oberalm Salzburg 5411 Austria;X-APPLE-RADIUS=500;X-TITLE=Halleiner Landesstraße 40:geo:13.0999683,47.699157
END:VEVENT
BEGIN:VEVENT
DTSTART;TZID=Europe/Vienna:20250730T190000
DTEND;TZID=Europe/Vienna:20250730T200000
DTSTAMP:20260423T020744
CREATED:20250630T091238Z
LAST-MODIFIED:20250630T091320Z
UID:10000081-1753902000-1753905600@www.femvents.at
SUMMARY:Hoopdance.Love – Sunset Flow & Beats
DESCRIPTION:Sanfte Flows im Reifen\, gute Vibes im Herzen und House Music für deine Seele! \nTauche ein in die Welt von Hoopdance.Love – bring deine Mitte in Schwung\, \nfinde Balance und erlebe\, wie leicht sich Bewegung anfühlen kann. \nFür den perfekten Sound sorgt DJ Jimmy Clank mit seinem einzigartigen House Music – \nlass dich von den Beats tragen und genieße einen Sommerabend \nvoller Freude und Lebendigkeit.
URL:https://www.femvents.at/event/hoopdance-love-sunset-flow-beats/
LOCATION:Donau Lodge Ybbs\, Wiener Straße 10\, Ybbs a. d. Donau\, Niederösterreich\, 3370\, Austria
CATEGORIES:Kurs,Tanzveranstaltung
ATTACH;FMTTYPE=image/png:https://www.femvents.at/wp-content/uploads/2025/06/20250605_155139000_iOS.png
ORGANIZER;CN="Hoopdance.Love":MAILTO:hello@sylviatomek.com
GEO:48.1761335;15.0862749
X-APPLE-STRUCTURED-LOCATION;VALUE=URI;X-ADDRESS=Donau Lodge Ybbs Wiener Straße 10 Ybbs a. d. Donau Niederösterreich 3370 Austria;X-APPLE-RADIUS=500;X-TITLE=Wiener Straße 10:geo:15.0862749,48.1761335
END:VEVENT
BEGIN:VEVENT
DTSTART;TZID=Europe/Vienna:20250730T203000
DTEND;TZID=Europe/Vienna:20250730T210000
DTSTAMP:20260423T020744
CREATED:20250722T072009Z
LAST-MODIFIED:20250722T072009Z
UID:10000131-1753907400-1753909200@www.femvents.at
SUMMARY:Yoga Nidra Event
DESCRIPTION:Monatliches Yoga Nidra Event\n\nTiefenentspannung pur („Entschleunigte Me-Time“) \nFür Wen: Es sind keine Vorkenntnisse notwendig \nDauer: 1 Einheit a 30 Minuten \nTermine: Immer der letzte Mittwoch im Monat (Ausnahme Dezember): 30.7.; 27.8.; 24.9.; 29.10.; 26.11.; 17.12.; \nUhrzeit: 20:30 – 21:00 \nRäumlichkeit: Online via Zoom
URL:https://www.femvents.at/event/yoga-nidra-event/
LOCATION:Online-Event\, Austria
CATEGORIES:Online-Event
ATTACH;FMTTYPE=image/jpeg:https://www.femvents.at/wp-content/uploads/2025/07/Kopie-von-Kopie-von-Kopie-von-Kopie-von-Kopie-von-Kopie-von-Kopie-von-Kopie-von-Kopie-von-Kopie-von-Kopie-von-Kopie-von-Kopie-von-Kopie-von-Kopie-von-Kopie-von-Insta-Live-Cover-Atemreise.jpg
ORGANIZER;CN="Im Gef%C3%BChl - Christina Hopf":MAILTO:office@im-gefuehl.at
GEO:47.516231;14.550072
END:VEVENT
END:VCALENDAR