BEGIN:VCALENDAR
VERSION:2.0
PRODID:-//femvents.at - ECPv6.15.18//NONSGML v1.0//EN
CALSCALE:GREGORIAN
METHOD:PUBLISH
X-WR-CALNAME:femvents.at
X-ORIGINAL-URL:https://www.femvents.at
X-WR-CALDESC:Veranstaltungen für femvents.at
REFRESH-INTERVAL;VALUE=DURATION:PT1H
X-Robots-Tag:noindex
X-PUBLISHED-TTL:PT1H
BEGIN:VTIMEZONE
TZID:Europe/Vienna
BEGIN:DAYLIGHT
TZOFFSETFROM:+0100
TZOFFSETTO:+0200
TZNAME:CEST
DTSTART:20240331T010000
END:DAYLIGHT
BEGIN:STANDARD
TZOFFSETFROM:+0200
TZOFFSETTO:+0100
TZNAME:CET
DTSTART:20241027T010000
END:STANDARD
BEGIN:DAYLIGHT
TZOFFSETFROM:+0100
TZOFFSETTO:+0200
TZNAME:CEST
DTSTART:20250330T010000
END:DAYLIGHT
BEGIN:STANDARD
TZOFFSETFROM:+0200
TZOFFSETTO:+0100
TZNAME:CET
DTSTART:20251026T010000
END:STANDARD
BEGIN:DAYLIGHT
TZOFFSETFROM:+0100
TZOFFSETTO:+0200
TZNAME:CEST
DTSTART:20260329T010000
END:DAYLIGHT
BEGIN:STANDARD
TZOFFSETFROM:+0200
TZOFFSETTO:+0100
TZNAME:CET
DTSTART:20261025T010000
END:STANDARD
END:VTIMEZONE
BEGIN:VEVENT
DTSTART;TZID=Europe/Vienna:20250809T080000
DTEND;TZID=Europe/Vienna:20250809T170000
DTSTAMP:20260423T020922
CREATED:20250809T160855Z
LAST-MODIFIED:20250809T160855Z
UID:10000162-1754726400-1754758800@www.femvents.at
SUMMARY:Female Circle - Achtsame Leichtigkeit für den emotionalen Alltag
DESCRIPTION:Du wünscht dir mehr Leichtigkeit im emotionalen Alltag?🪶 \nDann nimm dich wichtig und komm in meinen „Female Circle“ – gemeinsam entdecken wir\, wie wir in dieser herausfordernden Zeit als Frauen achtsam für uns sorgen können!✨💜 \n🗓️ Anmeldungen gerne unter 0699-11487580 \noder über meine Homepage \nhttp://www.xn--stilleweiteberhrung-jbc.com/ \nDie Abende sind auch einzeln buchbar! \n📣 Achtung\, begrenzte TN-Zahl! \n↪️ AKTION: Melde dich gemeinsam mit deiner Freundin an und profitiert beide vom „Come with a friend“-Tarif!!👭 \n 
URL:https://www.femvents.at/event/female-circle-achtsame-leichtigkeit-fuer-den-emotionalen-alltag/
LOCATION:Perg\, Perg\, Österreich\, 4320\, Austria
CATEGORIES:Frauenkreis
ATTACH;FMTTYPE=image/jpeg:https://www.femvents.at/wp-content/uploads/2025/08/IMG_20250809_173524.jpg
ORGANIZER;CN="Kathrin Grufeneder BEd":MAILTO:kathrin.grufeneder@gmail.com
GEO:48.2622014;14.6270371
END:VEVENT
BEGIN:VEVENT
DTSTART;TZID=Europe/Vienna:20250809T090000
DTEND;TZID=Europe/Vienna:20250809T110000
DTSTAMP:20260423T020922
CREATED:20250724T080330Z
LAST-MODIFIED:20250724T080330Z
UID:10000142-1754730000-1754737200@www.femvents.at
SUMMARY:Pilates & Picknick
DESCRIPTION:Pilates. Picknick.Networking. – Ein Event des Glow Club Salzburg für ambitionierte Frauen\, die andere inspirierende Frauen kennenlernen wollen.💥 \n9. August 2025 | 09:00-11:00 Uhr \nPark Hellbrunn | Treffpunkt: Kneippanlage / Wundergarten der Sinne \nStarte deinen Samstag mit Bewegung\, Verbindung und guter Energie! \nWir laden dich herzlich zu unserer sommerlichen Netzwerkveranstaltung ein: \n09:00 Uhr – Pilates-Session unter freiem Himmel \nAnschließend Picknick & Networking mit gesunden Snacks. \nOb Gründerin oder einfach auf der Suche nach inspirierenden Begegnungen – bei uns ist jede willkommen! \nAnmeldungen gerne an hello@glowclub.at \nBitte bring deine eigene Matte mit. \nBei Schlechtwetter informieren wir dich spätestens 3 Stunden vor Beginn\, ob das Event stattfinden kann. \nWir freuen uns auf dich und viele strahlende Gesichter! \nDein Glow Club-Team
URL:https://www.femvents.at/event/pilates-picknick/
LOCATION:Hellbrunner Park\, exact location will be shared\, Salzburg\, 5020\, Austria
CATEGORIES:Netzwerk-Treffen
ATTACH;FMTTYPE=image/jpeg:https://www.femvents.at/wp-content/uploads/2025/07/3.jpeg
GEO:47.8051393;13.0380686
X-APPLE-STRUCTURED-LOCATION;VALUE=URI;X-ADDRESS=Hellbrunner Park exact location will be shared Salzburg 5020 Austria;X-APPLE-RADIUS=500;X-TITLE=exact location will be shared:geo:13.0380686,47.8051393
END:VEVENT
END:VCALENDAR