BEGIN:VCALENDAR
VERSION:2.0
PRODID:-//femvents.at - ECPv6.15.18//NONSGML v1.0//EN
CALSCALE:GREGORIAN
METHOD:PUBLISH
X-WR-CALNAME:femvents.at
X-ORIGINAL-URL:https://www.femvents.at
X-WR-CALDESC:Veranstaltungen für femvents.at
REFRESH-INTERVAL;VALUE=DURATION:PT1H
X-Robots-Tag:noindex
X-PUBLISHED-TTL:PT1H
BEGIN:VTIMEZONE
TZID:Europe/Vienna
BEGIN:DAYLIGHT
TZOFFSETFROM:+0100
TZOFFSETTO:+0200
TZNAME:CEST
DTSTART:20240331T010000
END:DAYLIGHT
BEGIN:STANDARD
TZOFFSETFROM:+0200
TZOFFSETTO:+0100
TZNAME:CET
DTSTART:20241027T010000
END:STANDARD
BEGIN:DAYLIGHT
TZOFFSETFROM:+0100
TZOFFSETTO:+0200
TZNAME:CEST
DTSTART:20250330T010000
END:DAYLIGHT
BEGIN:STANDARD
TZOFFSETFROM:+0200
TZOFFSETTO:+0100
TZNAME:CET
DTSTART:20251026T010000
END:STANDARD
BEGIN:DAYLIGHT
TZOFFSETFROM:+0100
TZOFFSETTO:+0200
TZNAME:CEST
DTSTART:20260329T010000
END:DAYLIGHT
BEGIN:STANDARD
TZOFFSETFROM:+0200
TZOFFSETTO:+0100
TZNAME:CET
DTSTART:20261025T010000
END:STANDARD
END:VTIMEZONE
BEGIN:VEVENT
DTSTART;TZID=Europe/Vienna:20250810T100000
DTEND;TZID=Europe/Vienna:20250810T120000
DTSTAMP:20260423T020743
CREATED:20250805T120811Z
LAST-MODIFIED:20250805T120811Z
UID:10000155-1754820000-1754827200@www.femvents.at
SUMMARY:Women Circle
DESCRIPTION:Du hast es satt\, dass das ganze Leben nur mehr online stattfindet? Du möchtest endlich wieder echte Menschen im realen Leben kennenlernen? Du möchtest  in einem bewussten Rahmen innehalten\, dich mit dir selbst und anderen Frauen verbinden und neue Impulse für dein Leben mitnehmen? \nDieser Circle bietet dir genau das: einen geschützten Raum für ehrlichen Austausch\, persönliche Entwicklung und gelebte Sisterhood. \n\nBrunch Edition 10-12 Uhr\nÜbungen\, Impulse\, Sharing Runden\, kurze Meditationen\, Breathwork\, embodiment Übungen\nThemen rund ums Leben\, Weiblichkeit\, Zyklus\, Persönlichkeit und alles was bewegt\n\nInkludiert sind eine erdende Kakao-Zeremonie\, Tee & Getränke sowie kleine\, gesunde Snacks. \nBring a Friend: Mit dem Friendsticket kommt ihr zu zweit – und spart dabei gemeinsam!
URL:https://www.femvents.at/event/women-circle/
LOCATION:Studio Vollwunder\, Attersee Straße 22\, Seewalchen\, Oberösterreich\, 4863\, Austria
CATEGORIES:Frauenkreis
ATTACH;FMTTYPE=image/jpeg:https://www.femvents.at/wp-content/uploads/2025/08/IMG_7303-scaled.jpeg
ORGANIZER;CN="Soulcircles | Alexandra Regensburger":MAILTO:hello@soulcircles.at
GEO:47.949564;13.5943458
X-APPLE-STRUCTURED-LOCATION;VALUE=URI;X-ADDRESS=Studio Vollwunder Attersee Straße 22 Seewalchen Oberösterreich 4863 Austria;X-APPLE-RADIUS=500;X-TITLE=Attersee Straße 22:geo:13.5943458,47.949564
END:VEVENT
END:VCALENDAR