BEGIN:VCALENDAR
VERSION:2.0
PRODID:-//femvents.at - ECPv6.15.18//NONSGML v1.0//EN
CALSCALE:GREGORIAN
METHOD:PUBLISH
X-ORIGINAL-URL:https://www.femvents.at
X-WR-CALDESC:Veranstaltungen für femvents.at
REFRESH-INTERVAL;VALUE=DURATION:PT1H
X-Robots-Tag:noindex
X-PUBLISHED-TTL:PT1H
BEGIN:VTIMEZONE
TZID:Europe/Vienna
BEGIN:DAYLIGHT
TZOFFSETFROM:+0100
TZOFFSETTO:+0200
TZNAME:CEST
DTSTART:20240331T010000
END:DAYLIGHT
BEGIN:STANDARD
TZOFFSETFROM:+0200
TZOFFSETTO:+0100
TZNAME:CET
DTSTART:20241027T010000
END:STANDARD
BEGIN:DAYLIGHT
TZOFFSETFROM:+0100
TZOFFSETTO:+0200
TZNAME:CEST
DTSTART:20250330T010000
END:DAYLIGHT
BEGIN:STANDARD
TZOFFSETFROM:+0200
TZOFFSETTO:+0100
TZNAME:CET
DTSTART:20251026T010000
END:STANDARD
BEGIN:DAYLIGHT
TZOFFSETFROM:+0100
TZOFFSETTO:+0200
TZNAME:CEST
DTSTART:20260329T010000
END:DAYLIGHT
BEGIN:STANDARD
TZOFFSETFROM:+0200
TZOFFSETTO:+0100
TZNAME:CET
DTSTART:20261025T010000
END:STANDARD
END:VTIMEZONE
BEGIN:VEVENT
DTSTART;TZID=Europe/Vienna:20250818T090000
DTEND;TZID=Europe/Vienna:20250820T130000
DTSTAMP:20260423T021006
CREATED:20250805T213414Z
LAST-MODIFIED:20250805T213414Z
UID:10000156-1755507600-1755694800@www.femvents.at
SUMMARY:Ferienprogramm am Bauernhof - Achtsamkeit\, Natur\, Freude
DESCRIPTION:Wir Eltern und unsere Kinder haben uns nach den letzten anstrengenden Wochen mit viel Schulstress\, Tests\, Schularbeiten und Aktivitäten jetzt endlich mal eine Pause verdient! \n3 Tage lang können Kinder ab 5 Jahren bis open end am ResiLenz Hof in Oberalm mit Gertraud Hochfilzer und mir gemeinsam eine tolle und entspannte Zeit verbringen. \nWir bieten ein kostengünstiges Programm (inkl. Rabatten)\, bei dem die Kinder mit uns am Hof die Tiere versorgen\, reiten\, führen und Spaß haben. Es geht dabei auch um den achtsamen Umgang mit den Tieren und dem SELBST der Kinder\, das gestärkt wird. Unser Mittagessen werden wir zuerst selbst ernten\, dann zusammen zubereiten und mit allen Sinnen beim Essen genießen! Es wird Zeit geben für Bauernhofspiele\, Basteln und ganz viel Spaß!
URL:https://www.femvents.at/event/ferienprogramm-am-bauernhof-achtsamkeit-natur-freude/
LOCATION:ResiLenz Hof Oberalm\, Hühnerauweg 21\, Oberalm\, Salzburg\, 5411\, Austria
CATEGORIES:Workshop
ATTACH;FMTTYPE=image/jpeg:https://www.femvents.at/wp-content/uploads/2025/08/2.jpg
ORGANIZER;CN="imSinn Claudia Strubegger":MAILTO:claudia.strubegger@outlook.com
GEO:47.6920576;13.1054893
X-APPLE-STRUCTURED-LOCATION;VALUE=URI;X-ADDRESS=ResiLenz Hof Oberalm Hühnerauweg 21 Oberalm Salzburg 5411 Austria;X-APPLE-RADIUS=500;X-TITLE=Hühnerauweg 21:geo:13.1054893,47.6920576
END:VEVENT
BEGIN:VEVENT
DTSTART;TZID=Europe/Vienna:20250820T180000
DTEND;TZID=Europe/Vienna:20250820T200000
DTSTAMP:20260423T021006
CREATED:20250714T130841Z
LAST-MODIFIED:20250714T131044Z
UID:10000108-1755712800-1755720000@www.femvents.at
SUMMARY:FRAU SEiN Seminare: Gesunder Beckenboden – Stärkung der inneren Mitte
DESCRIPTION:In diesem Seminar steht der Beckenboden im Mittelpunkt: Die Teilnehmenden lernen\, wie sie die Wahrnehmung für diese wichtige Muskelgruppe schärfen und sie gezielt stärken können. Neben entspannenden Übungen werden alltagstaugliche Trainingsmethoden vorgestellt\, die einfach umsetzbar sind. \nEin besonderer Fokus liegt auf der Verbindung zwischen Beckenboden\, innerer Balance und allgemeinem Wohlbefinden. Ziel ist es\, die innere Mitte zu stärken und langfristig für mehr Stabilität und Lebensqualität zu sorgen.
URL:https://www.femvents.at/event/frau-sein-seminare-gesunder-beckenboden-staerkung-der-inneren-mitte/
LOCATION:FRAU iDA\, Hauptplatz 16\, Zwettl\, Niederösterreich\, 3910\, Austria
CATEGORIES:Coaching,Workshop
ATTACH;FMTTYPE=image/png:https://www.femvents.at/wp-content/uploads/2025/07/FRAU-SEiN.png
ORGANIZER;CN="FRAU iDA":MAILTO:office@frau-ida.at
GEO:48.6041614;15.167567
X-APPLE-STRUCTURED-LOCATION;VALUE=URI;X-ADDRESS=FRAU iDA Hauptplatz 16 Zwettl Niederösterreich 3910 Austria;X-APPLE-RADIUS=500;X-TITLE=Hauptplatz 16:geo:15.167567,48.6041614
END:VEVENT
END:VCALENDAR