BEGIN:VCALENDAR
VERSION:2.0
PRODID:-//femvents.at - ECPv6.15.18//NONSGML v1.0//EN
CALSCALE:GREGORIAN
METHOD:PUBLISH
X-ORIGINAL-URL:https://www.femvents.at
X-WR-CALDESC:Veranstaltungen für femvents.at
REFRESH-INTERVAL;VALUE=DURATION:PT1H
X-Robots-Tag:noindex
X-PUBLISHED-TTL:PT1H
BEGIN:VTIMEZONE
TZID:Europe/Vienna
BEGIN:DAYLIGHT
TZOFFSETFROM:+0100
TZOFFSETTO:+0200
TZNAME:CEST
DTSTART:20240331T010000
END:DAYLIGHT
BEGIN:STANDARD
TZOFFSETFROM:+0200
TZOFFSETTO:+0100
TZNAME:CET
DTSTART:20241027T010000
END:STANDARD
BEGIN:DAYLIGHT
TZOFFSETFROM:+0100
TZOFFSETTO:+0200
TZNAME:CEST
DTSTART:20250330T010000
END:DAYLIGHT
BEGIN:STANDARD
TZOFFSETFROM:+0200
TZOFFSETTO:+0100
TZNAME:CET
DTSTART:20251026T010000
END:STANDARD
BEGIN:DAYLIGHT
TZOFFSETFROM:+0100
TZOFFSETTO:+0200
TZNAME:CEST
DTSTART:20260329T010000
END:DAYLIGHT
BEGIN:STANDARD
TZOFFSETFROM:+0200
TZOFFSETTO:+0100
TZNAME:CET
DTSTART:20261025T010000
END:STANDARD
END:VTIMEZONE
BEGIN:VEVENT
DTSTART;TZID=Europe/Vienna:20250823T093000
DTEND;TZID=Europe/Vienna:20250823T113000
DTSTAMP:20260423T021002
CREATED:20250721T154757Z
LAST-MODIFIED:20250721T154757Z
UID:10000129-1755941400-1755948600@www.femvents.at
SUMMARY:🧡 Female creative breakfast club 🧡
DESCRIPTION:Frühstück & Netzwerken.\nDu kommst aus der Kreativbranche oder löst Probleme auf Kreative Art und Weise\,Unterstützung\, Brainstorming\, Ideenaustausch\, Kontakte knüpfen. \nDarum geht’s beim Female creative breakfast club. Wir frühstücken gemeinsam\, lernen uns kennen und tauschen uns aus. Im Mittelpunkt stehen Netzwerkaufbau und -erweiterung\, gegenseitiger Support unter kreativen Frauen. Neue Perspektiven können sich auftun\, Lösungen gefunden werden\, neue Ideen können entstehen\, und am Ende gehst du inspiriert ins Wochenende.
URL:https://www.femvents.at/event/%f0%9f%a7%a1-female-creative-breakfast-club-%f0%9f%a7%a1/
CATEGORIES:Frauenkreis,Meetup,Netzwerk-Treffen,Stammtisch
ATTACH;FMTTYPE=image/jpeg:https://www.femvents.at/wp-content/uploads/2025/07/SM-female-breakfast-club.jpg
END:VEVENT
BEGIN:VEVENT
DTSTART;TZID=Europe/Vienna:20250823T100000
DTEND;TZID=Europe/Vienna:20250823T123000
DTSTAMP:20260423T021002
CREATED:20250721T154807Z
LAST-MODIFIED:20250721T154807Z
UID:10000130-1755943200-1755952200@www.femvents.at
SUMMARY:WORKSHOP: FACE & YIN YOGA.
DESCRIPTION:GLOW & SLOW:\nEine Auszeit für Selbstliebe von außen nach innen.\nSchenke dir einmal im Monat einen Moment voller Achtsamkeit\, Schönheit und Selbstliebe – jedes Mal mit einem neuen Thema & Inhalt. \nWorkshop Ablauf:\nLeitmotiv im August: Selbstwert & Blühen \n\n1\,5 Stunden Face Yoga (du bekommst ein Handout)\n1 Stunde Yin Yoga\nim Anschluss: gemeinsamer Lunch (optional)\n\nWann: 23.8. von 10:00 – 12:30 Uhr\nWo: Inama Institut I Seeham\nInvestition in dich: € 89\nTermine:  27.9. | 24.10. | 28.11.  \n** sehr kleine Gruppengröße (exklusiv) \nDu lernst wie du mit Face Yoga deine Gesichtsmuskulatur sanft aktivierst\, Verspannungen löst und deinen natürlichen Glow weckst. \nVORTEILE:\n\n\n\n\nnatürliches Lifting: strafft die Muskulatur\nlösen von Spannungen: wirkt stresslösend (Kiefer\, Nacken\, Stirn)\nFalten sanft glätten:  unterstützt die Hautelastizität\nSchwellungen reduzieren: aktiviert den Lymphfluss hilft bei Tränensäcken / Wassereinlagerungen\nGesichtszüge definieren: kräftigt Kiefer\, Wangen & Hals\n\n\n\n\nDanach tauchen wir in die wohltuende Ruhe des Yin Yoga ein – mit achtsamen Dehnungen\, bewusstem Atmen und Ankommen bei dir selbst. \nVORTEILE YIN YOGA:\n\nöffnet tief liegende Faszien & dehnt sanft den Körper\nfördert tiefe Entspannung & innere Ruhe\nunterstützt emotionales Loslassen und Regeneration\n\nFreue mich auf Dich! \nAlice Fabiola \nMAIL: hello@alicefabiola.com\nMOBIL: +43 660 2271645
URL:https://www.femvents.at/event/workshop-face-yin-yoga/
CATEGORIES:Frauenkreis,Kurs,Retreat,Workshop
ATTACH;FMTTYPE=image/jpeg:https://www.femvents.at/wp-content/uploads/2025/07/E9B5423A-08C4-4CF4-AF82-CB75F860FD08.jpg
END:VEVENT
END:VCALENDAR