BEGIN:VCALENDAR
VERSION:2.0
PRODID:-//femvents.at - ECPv6.15.18//NONSGML v1.0//EN
CALSCALE:GREGORIAN
METHOD:PUBLISH
X-ORIGINAL-URL:https://www.femvents.at
X-WR-CALDESC:Veranstaltungen für femvents.at
REFRESH-INTERVAL;VALUE=DURATION:PT1H
X-Robots-Tag:noindex
X-PUBLISHED-TTL:PT1H
BEGIN:VTIMEZONE
TZID:Europe/Vienna
BEGIN:DAYLIGHT
TZOFFSETFROM:+0100
TZOFFSETTO:+0200
TZNAME:CEST
DTSTART:20240331T010000
END:DAYLIGHT
BEGIN:STANDARD
TZOFFSETFROM:+0200
TZOFFSETTO:+0100
TZNAME:CET
DTSTART:20241027T010000
END:STANDARD
BEGIN:DAYLIGHT
TZOFFSETFROM:+0100
TZOFFSETTO:+0200
TZNAME:CEST
DTSTART:20250330T010000
END:DAYLIGHT
BEGIN:STANDARD
TZOFFSETFROM:+0200
TZOFFSETTO:+0100
TZNAME:CET
DTSTART:20251026T010000
END:STANDARD
BEGIN:DAYLIGHT
TZOFFSETFROM:+0100
TZOFFSETTO:+0200
TZNAME:CEST
DTSTART:20260329T010000
END:DAYLIGHT
BEGIN:STANDARD
TZOFFSETFROM:+0200
TZOFFSETTO:+0100
TZNAME:CET
DTSTART:20261025T010000
END:STANDARD
END:VTIMEZONE
BEGIN:VEVENT
DTSTART;TZID=Europe/Vienna:20250826T080000
DTEND;TZID=Europe/Vienna:20250826T170000
DTSTAMP:20260423T021000
CREATED:20250806T124727Z
LAST-MODIFIED:20250826T154445Z
UID:10000158-1756195200-1756227600@www.femvents.at
SUMMARY:Frauenkreis zum Thema Wechseljahre
DESCRIPTION:🌕 Ich lade dich herzlich ein zu meinem Astrologischen Frauenkreis online (via Zoom)💫💞 \nDas Thema dieses Mal: Wechseljahre – wie umgehen mit Hitzewallungen\, Reizbarkeit & Co? \n💻 Anmeldung & Buchung:  \nhttps://astroconnection.at/frauenkreis/ \n💸 Teilnahmebeitrag: € 45\,- \nHitzewallungen\, Reizbarkeit und nächtliche Gedankenkarusselle? Willkommen im Club! 🌡️😅🔥 \nIn meinem astrologischen Frauenkreis widmen wir uns diesen Monat einem Thema\, das viele von uns nur zu gut kennen – den Wechseljahren. Gemeinsam erkunden wir\, wie wir mit den körperlichen und seelischen Herausforderungen dieser spannenden Lebensphase umgehen können – mit einem Augenzwinkern\, mit Tiefe und mit astrologischer Begleitung. 🌙✨ \n🔮 Ich gebe dir einen Einblick in die astrologischen Konstellationen für den kommenden Monat (September) und zeige dir\, wie du die Energien ganz praktisch für dich nutzen kannst. \n🧘‍♀️ Zum Abschluss lade ich dich zu einer geführten Meditation ein – stärkend\, beruhigend und ganz im Zeichen weiblicher Wandlungskraft. \n🎯 Für wen ist mein Frauenkreis gedacht? \nFür Frauen in der Lebensmitte\, die Lust auf Austausch\, Selbsterkenntnis\, Humor und astrologische Impulse haben. \n💫 Jeden Monat ein neues Thema – immer mit astrologischem Ausblick\, viel Herz und Raum für dich. \n👉 Melde dich jetzt an und sei dabei: \n📍 https://astroconnection.at/frauenkreis/ \nIch freue mich auf dich und auf einen Abend mit der Kraft der Sterne – und der Weiblichkeit! 💖 \nAlles Liebe\, \nSiglinde 💫✨
URL:https://www.femvents.at/event/frauenkreis-zum-thema-wechseljahre/
CATEGORIES:Frauenkreis,Netzwerk-Treffen,Online-Event
ATTACH;FMTTYPE=image/jpeg:https://www.femvents.at/wp-content/uploads/2025/08/Insta-Reel-Titel-Var.-1.png.jpeg
END:VEVENT
BEGIN:VEVENT
DTSTART;TZID=Europe/Vienna:20250826T183000
DTEND;TZID=Europe/Vienna:20250826T210000
DTSTAMP:20260423T021000
CREATED:20250806T124727Z
LAST-MODIFIED:20250826T154445Z
UID:10000159-1756233000-1756242000@www.femvents.at
SUMMARY:Frauenkreis zum Thema Wechseljahre
DESCRIPTION:🌕 Ich lade dich herzlich ein zu meinem Astrologischen Frauenkreis online (via Zoom)💫💞 \nDas Thema dieses Mal: Wechseljahre – wie umgehen mit Hitzewallungen\, Reizbarkeit & Co? \n💻 Anmeldung & Buchung:  \nhttps://astroconnection.at/frauenkreis/ \n💸 Teilnahmebeitrag: € 45\,- \nHitzewallungen\, Reizbarkeit und nächtliche Gedankenkarusselle? Willkommen im Club! 🌡️😅🔥 \nIn meinem astrologischen Frauenkreis widmen wir uns diesen Monat einem Thema\, das viele von uns nur zu gut kennen – den Wechseljahren. Gemeinsam erkunden wir\, wie wir mit den körperlichen und seelischen Herausforderungen dieser spannenden Lebensphase umgehen können – mit einem Augenzwinkern\, mit Tiefe und mit astrologischer Begleitung. 🌙✨ \n🔮 Ich gebe dir einen Einblick in die astrologischen Konstellationen für den kommenden Monat (September) und zeige dir\, wie du die Energien ganz praktisch für dich nutzen kannst. \n🧘‍♀️ Zum Abschluss lade ich dich zu einer geführten Meditation ein – stärkend\, beruhigend und ganz im Zeichen weiblicher Wandlungskraft. \n🎯 Für wen ist mein Frauenkreis gedacht? \nFür Frauen in der Lebensmitte\, die Lust auf Austausch\, Selbsterkenntnis\, Humor und astrologische Impulse haben. \n💫 Jeden Monat ein neues Thema – immer mit astrologischem Ausblick\, viel Herz und Raum für dich. \n👉 Melde dich jetzt an und sei dabei: \n📍 https://astroconnection.at/frauenkreis/ \nIch freue mich auf dich und auf einen Abend mit der Kraft der Sterne – und der Weiblichkeit! 💖 \nAlles Liebe\, \nSiglinde 💫✨
URL:https://www.femvents.at/event/frauenkreis-zum-thema-wechseljahre/
CATEGORIES:Frauenkreis,Netzwerk-Treffen,Online-Event
ATTACH;FMTTYPE=image/jpeg:https://www.femvents.at/wp-content/uploads/2025/08/Insta-Reel-Titel-Var.-1.png.jpeg
END:VEVENT
END:VCALENDAR