BEGIN:VCALENDAR
VERSION:2.0
PRODID:-//femvents.at - ECPv6.15.18//NONSGML v1.0//EN
CALSCALE:GREGORIAN
METHOD:PUBLISH
X-WR-CALNAME:femvents.at
X-ORIGINAL-URL:https://www.femvents.at
X-WR-CALDESC:Veranstaltungen für femvents.at
REFRESH-INTERVAL;VALUE=DURATION:PT1H
X-Robots-Tag:noindex
X-PUBLISHED-TTL:PT1H
BEGIN:VTIMEZONE
TZID:Europe/Vienna
BEGIN:DAYLIGHT
TZOFFSETFROM:+0100
TZOFFSETTO:+0200
TZNAME:CEST
DTSTART:20240331T010000
END:DAYLIGHT
BEGIN:STANDARD
TZOFFSETFROM:+0200
TZOFFSETTO:+0100
TZNAME:CET
DTSTART:20241027T010000
END:STANDARD
BEGIN:DAYLIGHT
TZOFFSETFROM:+0100
TZOFFSETTO:+0200
TZNAME:CEST
DTSTART:20250330T010000
END:DAYLIGHT
BEGIN:STANDARD
TZOFFSETFROM:+0200
TZOFFSETTO:+0100
TZNAME:CET
DTSTART:20251026T010000
END:STANDARD
BEGIN:DAYLIGHT
TZOFFSETFROM:+0100
TZOFFSETTO:+0200
TZNAME:CEST
DTSTART:20260329T010000
END:DAYLIGHT
BEGIN:STANDARD
TZOFFSETFROM:+0200
TZOFFSETTO:+0100
TZNAME:CET
DTSTART:20261025T010000
END:STANDARD
END:VTIMEZONE
BEGIN:VEVENT
DTSTART;TZID=Europe/Vienna:20250831T183000
DTEND;TZID=Europe/Vienna:20250831T203000
DTSTAMP:20260423T020742
CREATED:20250722T111531Z
LAST-MODIFIED:20250722T111531Z
UID:10000136-1756665000-1756672200@www.femvents.at
SUMMARY:Frauenkreis in Salzburg
DESCRIPTION:Du möchtest in einem bewussten Rahmen innehalten\, dich mit dir selbst und anderen Frauen verbinden und neue Impulse für dein Leben mitnehmen? \nDieser Circle bietet dir genau das: einen geschützten Raum für ehrlichen Austausch\, persönliche Entwicklung und gelebte Sisterhood. \n\n18:30 Uhr\, ca. 2 Stunden\nkleine Gruppe ca. 6-10 Frauen\nÜbungen\, Impulse\, Sharing Runden\, kurze Meditationen\, Breathwork\, embodiment Übungen\nThemen rund ums Leben\, Weiblichkeit\, Zyklus\, Persönlichkeit und alles was bewegt\n\nInkludiert sind eine erdende Kakao-Zeremonie\, Tee & Getränke sowie kleine\, gesunde Snacks. \nBring a Friend: Mit dem Friendsticket kommt ihr zu zweit – und spart dabei gemeinsam!
URL:https://www.femvents.at/event/frauenkreis-in-salzburg/
LOCATION:faem Studio | Wildknots Salzburg\, Werkstättenstraße 5\, Salzburg\, Salzburg\, 5020\, Austria
CATEGORIES:Frauenkreis
ATTACH;FMTTYPE=image/png:https://www.femvents.at/wp-content/uploads/2025/07/frauenkreis-salzburg-attersee-salzkammergut-soulcircles-scaled.png
ORGANIZER;CN="Soulcircles | Alexandra Regensburger":MAILTO:hello@soulcircles.at
GEO:47.8201536;13.0449636
X-APPLE-STRUCTURED-LOCATION;VALUE=URI;X-ADDRESS=faem Studio | Wildknots Salzburg Werkstättenstraße 5 Salzburg Salzburg 5020 Austria;X-APPLE-RADIUS=500;X-TITLE=Werkstättenstraße 5:geo:13.0449636,47.8201536
END:VEVENT
END:VCALENDAR