BEGIN:VCALENDAR
VERSION:2.0
PRODID:-//femvents.at - ECPv6.15.18//NONSGML v1.0//EN
CALSCALE:GREGORIAN
METHOD:PUBLISH
X-WR-CALNAME:femvents.at
X-ORIGINAL-URL:https://www.femvents.at
X-WR-CALDESC:Veranstaltungen für femvents.at
REFRESH-INTERVAL;VALUE=DURATION:PT1H
X-Robots-Tag:noindex
X-PUBLISHED-TTL:PT1H
BEGIN:VTIMEZONE
TZID:Europe/Vienna
BEGIN:DAYLIGHT
TZOFFSETFROM:+0100
TZOFFSETTO:+0200
TZNAME:CEST
DTSTART:20240331T010000
END:DAYLIGHT
BEGIN:STANDARD
TZOFFSETFROM:+0200
TZOFFSETTO:+0100
TZNAME:CET
DTSTART:20241027T010000
END:STANDARD
BEGIN:DAYLIGHT
TZOFFSETFROM:+0100
TZOFFSETTO:+0200
TZNAME:CEST
DTSTART:20250330T010000
END:DAYLIGHT
BEGIN:STANDARD
TZOFFSETFROM:+0200
TZOFFSETTO:+0100
TZNAME:CET
DTSTART:20251026T010000
END:STANDARD
BEGIN:DAYLIGHT
TZOFFSETFROM:+0100
TZOFFSETTO:+0200
TZNAME:CEST
DTSTART:20260329T010000
END:DAYLIGHT
BEGIN:STANDARD
TZOFFSETFROM:+0200
TZOFFSETTO:+0100
TZNAME:CET
DTSTART:20261025T010000
END:STANDARD
END:VTIMEZONE
BEGIN:VEVENT
DTSTART;TZID=Europe/Vienna:20250910T183000
DTEND;TZID=Europe/Vienna:20250910T210000
DTSTAMP:20260423T002247
CREATED:20250804T152153Z
LAST-MODIFIED:20250804T152153Z
UID:10000152-1757529000-1757538000@www.femvents.at
SUMMARY:Frauenkreis – Raum und Zeit nur für dich
DESCRIPTION:Wir laden dich herzlich ein\, Teil unseres offenen Frauenkreises zu werden – ein geschützter Ort\, an dem du ganz bei dir ankommen und dein Frausein in all seinen Facetten erleben kannst.\nAlle Themen\, die uns als Frauen bewegen\, gehen über das Individuelle hinaus und berühren uns als Gemeinschaft. \nIndem wir unsere Gedanken und Anliegen offen teilen\, erkennen wir\, dass auch andere Frauen ähnlich empfinden und so können wir uns gegenseitig stärken und inspirieren. \nWas erwartet dich?\nWir treffen uns monatlich\, um uns auszutauschen\, zu meditieren\, zu singen\, zu tanzen und zu kreieren… \nWir gestalten unsere gemeinsame Zeit achtsam und offen\, sodass alles\, was dich bewegt\, seinen Platz finden kann. Jeder Abend steht unter einem bestimmten Thema\, das wir mit einem Impuls eröffnen. Danach lassen wir Raum für das\, was von uns Frauen kommt – für Gedanken\, Gefühle\, Ideen und Bedürfnisse. \nAlles\, was du bist und was dich bewegt\, ist hier willkommen. \nWir freuen uns auf dich! \nSylvia und Cassandra
URL:https://www.femvents.at/event/frauenkreis-raum-und-zeit-nur-fuer-dich/
LOCATION:Zentrum Annagasse\, Annagasse 5\, Dornbirn\, Vorarlberg\, 6850\, Austria
CATEGORIES:Frauenkreis,Salon13
ATTACH;FMTTYPE=image/jpeg:https://www.femvents.at/wp-content/uploads/2025/08/salon13-53-scaled-e1749750821548.jpg
ORGANIZER;CN="SALON 13":MAILTO:info@salon13.at
GEO:47.4109743;9.7409698
X-APPLE-STRUCTURED-LOCATION;VALUE=URI;X-ADDRESS=Zentrum Annagasse Annagasse 5 Dornbirn Vorarlberg 6850 Austria;X-APPLE-RADIUS=500;X-TITLE=Annagasse 5:geo:9.7409698,47.4109743
END:VEVENT
END:VCALENDAR