BEGIN:VCALENDAR
VERSION:2.0
PRODID:-//femvents.at - ECPv6.15.18//NONSGML v1.0//EN
CALSCALE:GREGORIAN
METHOD:PUBLISH
X-WR-CALNAME:femvents.at
X-ORIGINAL-URL:https://www.femvents.at
X-WR-CALDESC:Veranstaltungen für femvents.at
REFRESH-INTERVAL;VALUE=DURATION:PT1H
X-Robots-Tag:noindex
X-PUBLISHED-TTL:PT1H
BEGIN:VTIMEZONE
TZID:Europe/Vienna
BEGIN:DAYLIGHT
TZOFFSETFROM:+0100
TZOFFSETTO:+0200
TZNAME:CEST
DTSTART:20240331T010000
END:DAYLIGHT
BEGIN:STANDARD
TZOFFSETFROM:+0200
TZOFFSETTO:+0100
TZNAME:CET
DTSTART:20241027T010000
END:STANDARD
BEGIN:DAYLIGHT
TZOFFSETFROM:+0100
TZOFFSETTO:+0200
TZNAME:CEST
DTSTART:20250330T010000
END:DAYLIGHT
BEGIN:STANDARD
TZOFFSETFROM:+0200
TZOFFSETTO:+0100
TZNAME:CET
DTSTART:20251026T010000
END:STANDARD
BEGIN:DAYLIGHT
TZOFFSETFROM:+0100
TZOFFSETTO:+0200
TZNAME:CEST
DTSTART:20260329T010000
END:DAYLIGHT
BEGIN:STANDARD
TZOFFSETFROM:+0200
TZOFFSETTO:+0100
TZNAME:CET
DTSTART:20261025T010000
END:STANDARD
END:VTIMEZONE
BEGIN:VEVENT
DTSTART;TZID=Europe/Vienna:20250915T093000
DTEND;TZID=Europe/Vienna:20250915T110000
DTSTAMP:20260423T002321
CREATED:20250911T094515Z
LAST-MODIFIED:20250911T094515Z
UID:10000263-1757928600-1757934000@www.femvents.at
SUMMARY:„Du bist es wert!“ – Gehaltsverhandlung für Frauen (Live-Online-Seminar)
DESCRIPTION:Wie verhandelt frau richtig? \nIn diesem interaktiven Online-Seminar lernen Teilnehmerinnen\, sich auf das nächste Gehaltsgespräch vorzubereiten. Durch praxisnahe Übungen erkennen Sie Ihre Stärken und gewinnen mehr Selbstbewusstsein für das nächste Gespräch. Wir möchten Frauen dazu ermutigen\, das Gehalt einzufordern\, das ihnen zusteht\, und Wege aufzeigen\, um es souverän anzusprechen. \nEin kostenloses Angebot von: LEA – Let’s empower Austria\nÖsterreichischer Fonds zur Stärkung und Förderung von Frauen und Mädchen \nSeminarleitung: Iris Litschauer \nHinweis: Dieses Seminar wird als Live-Online-Veranstaltung abgehalten
URL:https://www.femvents.at/event/du-bist-es-wert-gehaltsverhandlung-fuer-frauen-live-online-seminar/
LOCATION:Live-Online-Seminar
CATEGORIES:Online-Event
ATTACH;FMTTYPE=image/jpeg:https://www.femvents.at/wp-content/uploads/2025/09/lea.jpg
END:VEVENT
END:VCALENDAR