BEGIN:VCALENDAR
VERSION:2.0
PRODID:-//femvents.at - ECPv6.15.18//NONSGML v1.0//EN
CALSCALE:GREGORIAN
METHOD:PUBLISH
X-WR-CALNAME:femvents.at
X-ORIGINAL-URL:https://www.femvents.at
X-WR-CALDESC:Veranstaltungen für femvents.at
REFRESH-INTERVAL;VALUE=DURATION:PT1H
X-Robots-Tag:noindex
X-PUBLISHED-TTL:PT1H
BEGIN:VTIMEZONE
TZID:Europe/Vienna
BEGIN:DAYLIGHT
TZOFFSETFROM:+0100
TZOFFSETTO:+0200
TZNAME:CEST
DTSTART:20240331T010000
END:DAYLIGHT
BEGIN:STANDARD
TZOFFSETFROM:+0200
TZOFFSETTO:+0100
TZNAME:CET
DTSTART:20241027T010000
END:STANDARD
BEGIN:DAYLIGHT
TZOFFSETFROM:+0100
TZOFFSETTO:+0200
TZNAME:CEST
DTSTART:20250330T010000
END:DAYLIGHT
BEGIN:STANDARD
TZOFFSETFROM:+0200
TZOFFSETTO:+0100
TZNAME:CET
DTSTART:20251026T010000
END:STANDARD
BEGIN:DAYLIGHT
TZOFFSETFROM:+0100
TZOFFSETTO:+0200
TZNAME:CEST
DTSTART:20260329T010000
END:DAYLIGHT
BEGIN:STANDARD
TZOFFSETFROM:+0200
TZOFFSETTO:+0100
TZNAME:CET
DTSTART:20261025T010000
END:STANDARD
END:VTIMEZONE
BEGIN:VEVENT
DTSTART;TZID=Europe/Vienna:20250916T180000
DTEND;TZID=Europe/Vienna:20250916T193000
DTSTAMP:20260423T002325
CREATED:20250909T071112Z
LAST-MODIFIED:20250909T071127Z
UID:10000248-1758045600-1758051000@www.femvents.at
SUMMARY:Immunfit durch die kalte Jahreszeit
DESCRIPTION:Du willst dich und deine Familie mit natürlichen Lösungen in der kalten Jahreszeit unterstützen – und endlich in deine Selbstwirksamkeit kommen? In diesem kompakten Workshop zeige ich dir alltagstaugliche\, schnelle Rituale – ganz ohne viel Aufwand – und wie ihr mit den 10 Basisölen euer Immunsystem sanft stärkt: vom kleinen Hoppala über die Schnupfennase bis zum Gefühlssturm. \nDeine natürliche Hausapotheke – deine Ergänzung aus der Natur – wird klar\, sicher und kinderfreundlich anwendbar. Ideal für Kiga- & Schulstart.
URL:https://www.femvents.at/event/immunfit-durch-die-kalte-jahreszeit/
LOCATION:RaumGarten Graz\, Raiffeisenstraße 192\, Graz\, Austria\, Raiffeisenstraße 192\, Graz\, Steiermark\, 8041\, Austria
CATEGORIES:Workshop
ATTACH;FMTTYPE=image/jpeg:https://www.femvents.at/wp-content/uploads/2025/09/IconsBlogE60-1.jpg
ORGANIZER;CN="Sonja H%C3%B6dl":MAILTO:hoedl.sonja@gmx.net
GEO:47.0416284;15.4547442
X-APPLE-STRUCTURED-LOCATION;VALUE=URI;X-ADDRESS=RaumGarten Graz Raiffeisenstraße 192 Graz Austria Raiffeisenstraße 192 Graz Steiermark 8041 Austria;X-APPLE-RADIUS=500;X-TITLE=Raiffeisenstraße 192:geo:15.4547442,47.0416284
END:VEVENT
BEGIN:VEVENT
DTSTART;TZID=Europe/Vienna:20250916T180000
DTEND;TZID=Europe/Vienna:20250916T203000
DTSTAMP:20260423T002325
CREATED:20250710T154406Z
LAST-MODIFIED:20250910T103508Z
UID:10000104-1758045600-1758054600@www.femvents.at
SUMMARY:Workshop Touch Yourself
DESCRIPTION:Lerne die Mamma Care Methode\, die präziseste Technik zur Brustselbstuntersuchung direkt am Modell. \nErfahre wie dein Zyklus deine Brust beeinflusst und komm in echte Verbindung mit dir und deinem Körper. \nWir schaffen einen sicheren Raum für Aufklärung\, Selbstfürsorge & Empowerment. \nGoodie Bags \nGetränke & Snacks \nAustausch & Achtsamkeit \nSei dabei und tu dir was gutes \nwww.tatjana-lagus.at\nwww.katharinakoenig.at
URL:https://www.femvents.at/event/workshop-touch-yourself/
LOCATION:all about period\, Lerchenfelderstrasse 65\, Wien\, Wien\, 1070\, Austria
CATEGORIES:Wien,Workshop
ATTACH;FMTTYPE=image/jpeg:https://www.femvents.at/wp-content/uploads/2025/07/femalecare_Businessportraits-105-scaled.jpg
GEO:48.206719;16.3466189
X-APPLE-STRUCTURED-LOCATION;VALUE=URI;X-ADDRESS=all about period Lerchenfelderstrasse 65 Wien Wien 1070 Austria;X-APPLE-RADIUS=500;X-TITLE=Lerchenfelderstrasse 65:geo:16.3466189,48.206719
END:VEVENT
BEGIN:VEVENT
DTSTART;TZID=Europe/Vienna:20250916T190000
DTEND;TZID=Europe/Vienna:20250916T203000
DTSTAMP:20260423T002325
CREATED:20250905T151235Z
LAST-MODIFIED:20250905T151235Z
UID:10000241-1758049200-1758054600@www.femvents.at
SUMMARY:THE:SORORITY Online-Sisters Meet Up im September
DESCRIPTION:Wir starten in den Herbst mit einem online Treffen\, um Frauen und weiblich gelesenen Personen auch außerhalb Wiens die Möglichkeit zu bieten THE:Sorority kennenzulernen. Wir sind eine Gemeinschaft von Frauen*\, die sich gegenseitig stärken\, unterstützen und inspirieren. Bei unserem nächsten Netzwerktreffen hast du die Gelegenheit\, neue Kontakte zu knüpfen\, Erfahrungen auszutauschen und wertvolle Impulse für deine persönliche und berufliche Entwicklung zu sammeln.
URL:https://www.femvents.at/event/thesorority-online-sisters-meet-up-im-september/
CATEGORIES:Frauenkreis,Netzwerk-Treffen,Online-Event
ATTACH;FMTTYPE=image/jpeg:https://www.femvents.at/wp-content/uploads/2025/09/Sisters-Meet-Up-16.9.jpg
ORGANIZER;CN="THE%3ASorority":MAILTO:events@sorority.at
END:VEVENT
BEGIN:VEVENT
DTSTART;TZID=Europe/Vienna:20250916T190000
DTEND;TZID=Europe/Vienna:20250916T203000
DTSTAMP:20260423T002325
CREATED:20250915T133022Z
LAST-MODIFIED:20250915T133022Z
UID:10000283-1758049200-1758054600@www.femvents.at
SUMMARY:Mit Kindern über Geld sprechen (Live-Online-Seminar)
DESCRIPTION:Kindern den guten Umgang mit Geld spielerisch vermitteln\nDie meisten Menschen lernen den Umgang mit Geld – wenn überhaupt – in der Familie. In diesem Seminar beschäftigen wir uns daher damit\, welche Fertigkeiten für Finanzkompetenz wichtig sind\, wie man sie im Alltag vermittelt und gehen speziell auf das Thema Taschengeld ein. \nDieses Online-Seminar richtet sich v.a. an Eltern oder Bezugspersonen von Kindern zwischen 6 und 10 Jahren. \nVeranstaltet von: \nLEA – Let’s empower Austria\nÖsterreichischer Fonds zur Stärkung und Förderung von Frauen und Mädchen\n1020 Wien\, Vorgartenstraße 204\nhttps://letsempoweraustria.at\nInstagram | LinkedIn
URL:https://www.femvents.at/event/mit-kindern-ueber-geld-sprechen-live-online-seminar/
CATEGORIES:Frauenkreis
ATTACH;FMTTYPE=image/jpeg:https://www.femvents.at/wp-content/uploads/2025/09/lea-1.jpg
END:VEVENT
END:VCALENDAR