BEGIN:VCALENDAR
VERSION:2.0
PRODID:-//femvents.at - ECPv6.15.18//NONSGML v1.0//EN
CALSCALE:GREGORIAN
METHOD:PUBLISH
X-WR-CALNAME:femvents.at
X-ORIGINAL-URL:https://www.femvents.at
X-WR-CALDESC:Veranstaltungen für femvents.at
REFRESH-INTERVAL;VALUE=DURATION:PT1H
X-Robots-Tag:noindex
X-PUBLISHED-TTL:PT1H
BEGIN:VTIMEZONE
TZID:Europe/Vienna
BEGIN:DAYLIGHT
TZOFFSETFROM:+0100
TZOFFSETTO:+0200
TZNAME:CEST
DTSTART:20240331T010000
END:DAYLIGHT
BEGIN:STANDARD
TZOFFSETFROM:+0200
TZOFFSETTO:+0100
TZNAME:CET
DTSTART:20241027T010000
END:STANDARD
BEGIN:DAYLIGHT
TZOFFSETFROM:+0100
TZOFFSETTO:+0200
TZNAME:CEST
DTSTART:20250330T010000
END:DAYLIGHT
BEGIN:STANDARD
TZOFFSETFROM:+0200
TZOFFSETTO:+0100
TZNAME:CET
DTSTART:20251026T010000
END:STANDARD
BEGIN:DAYLIGHT
TZOFFSETFROM:+0100
TZOFFSETTO:+0200
TZNAME:CEST
DTSTART:20260329T010000
END:DAYLIGHT
BEGIN:STANDARD
TZOFFSETFROM:+0200
TZOFFSETTO:+0100
TZNAME:CET
DTSTART:20261025T010000
END:STANDARD
END:VTIMEZONE
BEGIN:VEVENT
DTSTART;TZID=Europe/Vienna:20250917T100000
DTEND;TZID=Europe/Vienna:20250917T113000
DTSTAMP:20260423T002252
CREATED:20250909T091754Z
LAST-MODIFIED:20250909T091754Z
UID:10000249-1758103200-1758108600@www.femvents.at
SUMMARY:Money Mindset - Warum du mit Klarheit mehr verdienst
DESCRIPTION:Schiebst du Finanzentscheidungen immer wieder auf – obwohl sie ständig in deinem Kopf kreisen? \nViele Unternehmerinnen kennen das: Zahlen werden spät am Abend noch schnell entschieden\, unter Druck\, mit einem unguten Gefühl. Die Folge sind unklare Entscheidungen\, verpasste Chancen und unnötige Verluste. \nDoch genau das lässt sich ändern – wenn du verstehst\, warum du dich bisher blockierst und wie du es künftig leichter machen kannst.
URL:https://www.femvents.at/event/money-mindset-warum-du-mit-klarheit-mehr-verdienst/
LOCATION:Online-Event\, Austria
CATEGORIES:Online-Event,Workshop
ATTACH;FMTTYPE=image/jpeg:https://www.femvents.at/wp-content/uploads/2025/09/TessaViktoriaKutsamFoto_KERSTINBREYMANN_GastroConsulting-8-scaled.jpg
GEO:47.516231;14.550072
END:VEVENT
BEGIN:VEVENT
DTSTART;TZID=Europe/Vienna:20250917T130000
DTEND;TZID=Europe/Vienna:20250917T160000
DTSTAMP:20260423T002252
CREATED:20250916T064032Z
LAST-MODIFIED:20250916T064032Z
UID:10000291-1758114000-1758124800@www.femvents.at
SUMMARY:Digifit - Zoomen wie ein Profi: Online-Workshops hosten
DESCRIPTION:Das Angebot richtet sich an Frauen\, die Zoom bereits verwenden und selbst Online-Meetings hosten möchten. \nLernen Sie die Funktionen kennen\, gestalten und hosten Sie Online-Meetings. Die Basis-Funktionen und Grundeinstellungen\, wie Meetings planen\, Teilnehmerinnen einladen\, Warteraum einrichten sind ebenso Thema wie die erweiterten Tools. Der Workshop bietet die Möglichkeit\, vorhandene Kenntnisse zu vertiefen und die umfangreichen Möglichkeiten von Zoom kennenzulernen. Gemeinsam sehen wir uns an\, wie Breakout-Rooms\, Umfragen und Whiteboards verwendet werden. Darüber hinaus sind Sicherheit und Rechtevergabe wichtige Themen. Erweitern Sie Ihre Fähigkeiten und gestalten Sie Ihre nächsten Meetings mit mehr Sicherheit. \nBitte bringen Sie Ihr eigenes Gerät mit (Laptop oder Tablet). Damit Sie später mit der Nutzung vertraut sind. Wenn Sie kein eigenes Gerät haben\, geben Sie das bitte im Anmeldeformular bekannt. Wir stellen Ihnen dann ein Arbeitsgerät zur Verfügung. \nWebinar – Online via zoom. Den Link zur Teilnahme erhalten Sie nach Anmeldung. \nDie Veranstaltung ist kostenlos\, bitte melden Sie sich an. \nEine Veranstaltung von \nFrau & Arbeit gGmbH\nSterneckstraße 31/3\n5020 Salzburg \nwww.frau-und-arbeit.at \n 
URL:https://www.femvents.at/event/digifit-zoomen-wie-ein-profi-online-workshops-hosten/
LOCATION:Webinar\, Online via Zoom
CATEGORIES:Coaching
ATTACH;FMTTYPE=image/jpeg:https://www.femvents.at/wp-content/uploads/2025/09/digifit_foto_neu-6.jpg
ORGANIZER;CN="Frau &amp%3B Arbeit":MAILTO:b.karl@frau-und-arbeit.at
END:VEVENT
BEGIN:VEVENT
DTSTART;TZID=Europe/Vienna:20250917T150000
DTEND;TZID=Europe/Vienna:20250917T180000
DTSTAMP:20260423T002252
CREATED:20250915T133029Z
LAST-MODIFIED:20250915T133029Z
UID:10000285-1758121200-1758132000@www.femvents.at
SUMMARY:Finanzen für Frauen (Live-Online-Seminar)
DESCRIPTION:Finanzen für Frauen (Live-Online-Seminar)\nWie wir Stolpersteine vermeiden und langfristige finanzielle Entscheidungen treffen \nFinanzen für Frauen“ ist ein 3-stündiger Online-Workshop\, in dem Themen rund ums Geld\, mit den teilnehmenden Frauen\, bearbeitet werden. Dabei wird auf die Bedürfnisse und Interessen\, sowie das Vorwissen der Teilnehmerinnen eingegangen. Die Teilnehmerinnen erhalten Inputs zu Möglichkeiten der finanziellen Planung\, beschäftigen sich mit den häufigsten finanziellen Stolpersteinen\, können sich Expertinnen-Tipps mitnehmen und erhalten Antworten auf ihre „Geldfragen“. Lebensentscheidungen\, die eine langfristige Auswirkung auf die finanzielle Situation haben\, wie z.B.: Teilzeitarbeit\, werden ebenso zum Thema wie Informationen rund um die Pension. \nVeranstaltet von: \nLEA – Let’s empower Austria\nÖsterreichischer Fonds zur Stärkung und Förderung von Frauen und Mädchen\n1020 Wien\, Vorgartenstraße 204\nhttps://letsempoweraustria.at\nInstagram | LinkedIn
URL:https://www.femvents.at/event/finanzen-fuer-frauen-live-online-seminar/
LOCATION:Live-Online-Seminar
CATEGORIES:Online-Event
ATTACH;FMTTYPE=image/jpeg:https://www.femvents.at/wp-content/uploads/2025/09/lea-2.jpg
END:VEVENT
BEGIN:VEVENT
DTSTART;TZID=Europe/Vienna:20250917T180000
DTEND;TZID=Europe/Vienna:20250917T200000
DTSTAMP:20260423T002252
CREATED:20250714T131125Z
LAST-MODIFIED:20250714T131125Z
UID:10000109-1758132000-1758139200@www.femvents.at
SUMMARY:FRAU SEiN Seminare: Frauen & Finanzen
DESCRIPTION:Finanzielle Unabhängigkeit ist der Schlüssel zu mehr Selbstbestimmung und Sicherheit. Doch viele Frauen setzen sich erst spät oder nur unzureichend mit ihren Finanzen auseinander. In diesem Seminar lernst du\, wie du deine finanzielle Zukunft aktiv gestalten kannst – von klugem Vermögensaufbau über sichere Altersvorsorge bis hin zu nachhaltigen Investitionen. \nDurch praxisnahe Tipps und leicht verständliche Erklärungen bekommst du das nötige Wissen\, um finanzielle Entscheidungen selbstbewusst zu treffen. Gemeinsam beleuchten wir typische Herausforderungen\, mögliche Fallstricke und konkrete Strategien\, um langfristig finanzielle Sicherheit zu erlangen. \nDieses Seminar richtet sich an alle Frauen\, die ihre Finanzen selbst in die Hand nehmen und ihre Zukunft nach eigenen Vorstellungen gestalten möchten.
URL:https://www.femvents.at/event/frau-sein-seminare-frauen-finanzen/
LOCATION:FRAU iDA\, Hauptplatz 16\, Zwettl\, Niederösterreich\, 3910\, Austria
CATEGORIES:Vortrag
ATTACH;FMTTYPE=image/png:https://www.femvents.at/wp-content/uploads/2025/07/FRAU-SEiN-1.png
ORGANIZER;CN="FRAU iDA":MAILTO:office@frau-ida.at
GEO:48.6041614;15.167567
X-APPLE-STRUCTURED-LOCATION;VALUE=URI;X-ADDRESS=FRAU iDA Hauptplatz 16 Zwettl Niederösterreich 3910 Austria;X-APPLE-RADIUS=500;X-TITLE=Hauptplatz 16:geo:15.167567,48.6041614
END:VEVENT
BEGIN:VEVENT
DTSTART;TZID=Europe/Vienna:20250917T180000
DTEND;TZID=Europe/Vienna:20250917T200000
DTSTAMP:20260423T002252
CREATED:20250810T123010Z
LAST-MODIFIED:20250910T103552Z
UID:10000164-1758132000-1758139200@www.femvents.at
SUMMARY:Leuchtender Igel in Acryl
DESCRIPTION:Ein herbstlicher Liebling zum Verlieben: Wir malen gemeinsam einen niedlichen Igel in Acryl und setzen mit speziellen Glow-in-the-Dark-Elementen ein magisches Highlight. Ihr Bild wird im Dunkeln leuchten – perfekt für gemütliche Herbstabende. \nPreis:\n€65\,00 pro Person \nInklusive: aller Materialien\, Kaffee oder Tee & ein kleiner Snack \nWorkshop findet in einer kleinen Gruppe mit maximal 6 Teilnehmern statt\, damit ich Sie persönlich begleiten kann. \nAnmeldung bis spätestens 14.09.2025 per E-Mail an: info@audryscreativestudio.com
URL:https://www.femvents.at/event/leuchtender-igel-in-acryl/
LOCATION:Zillingerstrasse 1\, 5300 Hallwang\, Zillingerstrasse 1\, Hallwang\, Salzburg\, 5300\, Austria
CATEGORIES:Salzburg,Workshop
ATTACH;FMTTYPE=image/png:https://www.femvents.at/wp-content/uploads/2025/08/Workshop_17.09.png
ORGANIZER;CN="Audry's Creative Studio":MAILTO:info@audryscreatuvestudio.com
GEO:47.8494346;13.0951871
X-APPLE-STRUCTURED-LOCATION;VALUE=URI;X-ADDRESS=Zillingerstrasse 1 5300 Hallwang Zillingerstrasse 1 Hallwang Salzburg 5300 Austria;X-APPLE-RADIUS=500;X-TITLE=Zillingerstrasse 1:geo:13.0951871,47.8494346
END:VEVENT
END:VCALENDAR