BEGIN:VCALENDAR
VERSION:2.0
PRODID:-//femvents.at - ECPv6.15.18//NONSGML v1.0//EN
CALSCALE:GREGORIAN
METHOD:PUBLISH
X-WR-CALNAME:femvents.at
X-ORIGINAL-URL:https://www.femvents.at
X-WR-CALDESC:Veranstaltungen für femvents.at
REFRESH-INTERVAL;VALUE=DURATION:PT1H
X-Robots-Tag:noindex
X-PUBLISHED-TTL:PT1H
BEGIN:VTIMEZONE
TZID:Europe/Vienna
BEGIN:DAYLIGHT
TZOFFSETFROM:+0100
TZOFFSETTO:+0200
TZNAME:CEST
DTSTART:20240331T010000
END:DAYLIGHT
BEGIN:STANDARD
TZOFFSETFROM:+0200
TZOFFSETTO:+0100
TZNAME:CET
DTSTART:20241027T010000
END:STANDARD
BEGIN:DAYLIGHT
TZOFFSETFROM:+0100
TZOFFSETTO:+0200
TZNAME:CEST
DTSTART:20250330T010000
END:DAYLIGHT
BEGIN:STANDARD
TZOFFSETFROM:+0200
TZOFFSETTO:+0100
TZNAME:CET
DTSTART:20251026T010000
END:STANDARD
BEGIN:DAYLIGHT
TZOFFSETFROM:+0100
TZOFFSETTO:+0200
TZNAME:CEST
DTSTART:20260329T010000
END:DAYLIGHT
BEGIN:STANDARD
TZOFFSETFROM:+0200
TZOFFSETTO:+0100
TZNAME:CET
DTSTART:20261025T010000
END:STANDARD
END:VTIMEZONE
BEGIN:VEVENT
DTSTART;VALUE=DATE:20250919
DTEND;VALUE=DATE:20250922
DTSTAMP:20260423T002249
CREATED:20250905T151223Z
LAST-MODIFIED:20250910T103641Z
UID:10000239-1758240000-1758499199@www.femvents.at
SUMMARY:Bergcamp für Frauen in den Schladminger Tauern
DESCRIPTION:An alle Frauen mit Bergsehnsucht\n\n\nRaus aus dem Kopf – rein in die Wanderschuhe!\n\n\n\n\n\n\nDu möchtest als Berg-Newbie einen Safe-Space unter Gleichgesinnten\, in dem du neue Erfahrungen sammeln\, viel lernen und dich ausprobieren kannst? \nDann lass uns gemeinsam entdecken\, was alles in dir steckt und dein Berg-Wissen aufs nächste Level heben. Ohne Leistungsdruck\, aber mit jeder Menge Rückenwind! \n\n\n\n\n\n\n⛰️ ⛰️ ⛰️ \nHi\, ich bin Sabine … passionierte Solo-Hikerin & Bergwanderführerin für Frauen. Und ich bin es Leid\, dass der Outdoor-Sport von sehr viel Ego geprägt ist. Darum begleite ich Frauen in die Berge und zeige ihnen wie sie selbstbestimmt und so sicher wie möglich draußen unterwegs sein können. Ohne Leistungsdruck\, dafür mit ganz viel Rückenwind! \n⛰️ ⛰️ ⛰️ \nIn 3 Tagen von „kein Plan“ zu „let’s go“\n\n\n\n\n\n\nBeim Bergcamp  erwarten dich … \n⛰️ 3 Tage in den Bergen der Schladminger Tauern (Steiermark) \n\n\n\n\n⛰️ 2 Nächte auf der Ignaz-Mattis-Hütte über dem Nordurfer des Unteren Giglachsees \n⛰️ 3 geführte Wanderungen \n\n⛰️ jede Menge Berg-Wissen in der Theorie & Praxis \n\n⛰️ eine kleine Gruppe mit max. 6 Teilnehmerinnen (female only) \n\n\nMit dem Bergcamp legst du den Grundstein für deine künftigen Bergabenteuer\, die du so planen und gestalten kannst\, wie es für dich passt und gut anfühlt. Egal ob alleine\, mit anderen Berg-Newbies oder erfahrenen Bergfexen. Dafür sorgt die Mischung aus theoretischem Berg-Know-Howund dem Erleben und Anwenden des Gelernten direkt in den Bergen. \nNeben dem Erlebnis in den Bergen gibt es genug Raum für Austausch\, Lernen und natürlich gemütliches Beisammensein beim Bestaunen und Genießen der imposanten Bergwelt! \nUnd nach dem Bergcamp… \n🥾 weißt du\, worauf es bei der Vorbereitung & Planung ankommt. \n🥾 hast du ein besseres Gefühl dafür\, was du konditionell schaffen kannst. \n🥾 kennst du jede Menge Hacks\, wie du dich in den Bergen zurecht findest. \n🥾 weißt du\, wie es ist\, auf einer Berghütte zu übernachten. \n🥾 hast du den Grundstein gelegt\, für deine nächsten persönlichen Bergabenteuer! \nWeil meine Bergcamps heuer zum ersten Mal stattfinden\, kannst du sie zum rabattierten Preis buchen. Im Gegenzug freue ich mich auf deine aktive Mitarbeit und dein Feedback! \nAngebot für das Bergcamp 2025: € 270\,00\n(Umsatzsteuerfrei aufgrund der Kleinunternehmerregelung). \nZusätzlich fallen die Kosten für die Nächtigung auf der Hütte\, die Verpflegung und die Anreise. \nMehr Infos zum Ablauf findest du hier:\nhttps://www.die-bergmentorin.at/bergcamp/schladminger-tauern-giglachseen/ \nLass uns gemeinsam den Outdoor-Sport neu denken! Ich freu mich auf dich.
URL:https://www.femvents.at/event/bergcamp-fuer-frauen-in-den-schladminger-tauern/
LOCATION:Schladminger Tauern\, Steiermark\, Austria
CATEGORIES:Kurs,Salzburg,Sport,Workshop
ATTACH;FMTTYPE=image/png:https://www.femvents.at/wp-content/uploads/2025/09/dBM-Titelbild-Femvents.at_Schladminger-Tauern.png
ORGANIZER;CN="Sabine Artmayr":MAILTO:schreib-an@die-bergmentorin.at
GEO:47.2649012;14.8939302
END:VEVENT
BEGIN:VEVENT
DTSTART;TZID=Europe/Vienna:20250920T093000
DTEND;TZID=Europe/Vienna:20250920T113000
DTSTAMP:20260423T002249
CREATED:20250909T092436Z
LAST-MODIFIED:20250910T105244Z
UID:10000255-1758360600-1758367800@www.femvents.at
SUMMARY:Female creative breakfast club by Mirifaktur
DESCRIPTION:Ich möchte dich ganz herzlich zu einem weiteren Female creative breakfast club Treffen im September einladen. \nEs wird ein wunderbarer Morgen\, um in gemütlicher Runde neue Ideen zu spinnen\, sich auszutauschen und alte wie neue Kontakte aus der Kreativbranche zu pflegen.Das Treffen bietet Raum für echten Austausch\, gegenseitige Unterstützung und neue Impulse. Was hat sich bei dir seit dem letzten Treffen getan? Welche Ideen\, Fragen oder Herausforderungen bringst du mit? Gibt es ein Thema das dich derzeit beschäftigt? Ein entspanntes Frühstück in einem kreativen Ambiente\, spannende Gespräche\, Inspiration und natürlich die Möglichkeit\, dich mit anderen kreativen Frauen zu vernetzen. \nDie Teilnahme kostet dich wie immer nur deine Konsumation. Lass es mich wissen\, ob du dabei sein willst. \nIch würde mich sehr freuen gemeinsam einen schönen Morgen zu verbringen!
URL:https://www.femvents.at/event/female-creative-breakfast-club-by-mirifaktur/
LOCATION:Salzburg\, Aigner Straße 78\, 5026 Salzburg-Aigen\, Salzburg\, Salzburg\, 5026
CATEGORIES:Frauenkreis,Netzwerk-Treffen,Salzburg,Stammtisch
ATTACH;FMTTYPE=image/jpeg:https://www.femvents.at/wp-content/uploads/2025/09/SM-female-breakfast-club.jpg
GEO:47.516231;14.550072
X-APPLE-STRUCTURED-LOCATION;VALUE=URI;X-ADDRESS=Salzburg Aigner Straße 78 5026 Salzburg-Aigen Salzburg Salzburg 5026;X-APPLE-RADIUS=500;X-TITLE=Aigner Straße 78\, 5026 Salzburg-Aigen:geo:14.550072,47.516231
END:VEVENT
BEGIN:VEVENT
DTSTART;TZID=Europe/Vienna:20250920T100000
DTEND;TZID=Europe/Vienna:20250920T130000
DTSTAMP:20260423T002249
CREATED:20250728T120240Z
LAST-MODIFIED:20250910T103818Z
UID:10000149-1758362400-1758373200@www.femvents.at
SUMMARY:InspireHer x Financial Wellbeing 2.0
DESCRIPTION:Smart Investing – Aktien & Krypto \nWir gehen in die nächste Runde mit unserer Financial Wellbeing Eventreihe.\nMit dem Event „Smart Investing – Alternative Investments“ wollen wir zeigen\, wie Geldanlage auch einfach\, zugänglich und smart sein kann – selbst für alle\, die kein Wirtschaftsstudium hinter sich haben. \nDu möchtest besser verstehen\, wie Aktien wirklich funktionieren\, ob Krypto-Investments für dich infrage kommen oder wie du KI gezielt für dein Finanzwissen nutzen kannst? Dann bist du hier genau richtig. \nIn der exklusiven Atmosphäre des Hof8 erwarten dich fundierter Input\, verständlich aufbereitet – ohne Bullshit-Bingo\, Bro-Speak oder Fachjargon. \nWas dich erwartet:\n✨ Aktien verstehen & analysieren – mit Unterstützung von KI: Lerne\, wie du smarte Investmententscheidungen triffst und klassische Denkfehler vermeidest.\n💡 Einstieg in die Welt der digitalen Assets: Wir geben dir einen Einblick in Krypto & Co. – was wirklich relevant ist und wie du sicher investierst.\n📈 Tools & Strategien für deinen finanziellen Alltag: Direkt anwendbare Tipps\, echte Insights und mehr Selbstvertrauen in Finanzfragen.\n🤝 Networking mit ambitionierten Frauen: Triff andere Young Professionals\, Selbstständige und Gründerinnen\, denen finanzielle Unabhängigkeit genauso wichtig ist wie dir.\n☕ Brunch & entspannte Atmosphäre\n🛍️ Goodie Bags für alle Teilnehmerinnen \nDieses Event ist für dich\, wenn du…\n… dein Geld endlich selbstbewusst & strategisch investieren willst\n… neugierig auf Aktien\, KI oder Krypto bist – aber keinen Zugang gefunden hast\n… dir Austausch auf Augenhöhe mit anderen ambitionierten Frauen wünschst \nLet’s talk Money – ohne Klischees. Dafür mit Klarheit\, Strategie & echten Aha-Momenten.
URL:https://www.femvents.at/event/inspireher-x-financial-wellbeing-2-0/
LOCATION:Am Hof 8 – Private Members Club\, Am Hof 8\, Wien\, Wien\, 1010\, Austria
CATEGORIES:Coaching,Netzwerk-Treffen,Wien,Workshop
ATTACH;FMTTYPE=image/png:https://www.femvents.at/wp-content/uploads/2025/07/Financial-Wellbeing-2.0-1.png
ORGANIZER;CN="InspireHer-Club":MAILTO:welcome@inspireher-club.at
GEO:48.2116498;16.3675944
X-APPLE-STRUCTURED-LOCATION;VALUE=URI;X-ADDRESS=Am Hof 8 – Private Members Club Am Hof 8 Wien Wien 1010 Austria;X-APPLE-RADIUS=500;X-TITLE=Am Hof 8:geo:16.3675944,48.2116498
END:VEVENT
END:VCALENDAR