BEGIN:VCALENDAR
VERSION:2.0
PRODID:-//femvents.at - ECPv6.15.18//NONSGML v1.0//EN
CALSCALE:GREGORIAN
METHOD:PUBLISH
X-ORIGINAL-URL:https://www.femvents.at
X-WR-CALDESC:Veranstaltungen für femvents.at
REFRESH-INTERVAL;VALUE=DURATION:PT1H
X-Robots-Tag:noindex
X-PUBLISHED-TTL:PT1H
BEGIN:VTIMEZONE
TZID:Europe/Vienna
BEGIN:DAYLIGHT
TZOFFSETFROM:+0100
TZOFFSETTO:+0200
TZNAME:CEST
DTSTART:20240331T010000
END:DAYLIGHT
BEGIN:STANDARD
TZOFFSETFROM:+0200
TZOFFSETTO:+0100
TZNAME:CET
DTSTART:20241027T010000
END:STANDARD
BEGIN:DAYLIGHT
TZOFFSETFROM:+0100
TZOFFSETTO:+0200
TZNAME:CEST
DTSTART:20250330T010000
END:DAYLIGHT
BEGIN:STANDARD
TZOFFSETFROM:+0200
TZOFFSETTO:+0100
TZNAME:CET
DTSTART:20251026T010000
END:STANDARD
BEGIN:DAYLIGHT
TZOFFSETFROM:+0100
TZOFFSETTO:+0200
TZNAME:CEST
DTSTART:20260329T010000
END:DAYLIGHT
BEGIN:STANDARD
TZOFFSETFROM:+0200
TZOFFSETTO:+0100
TZNAME:CET
DTSTART:20261025T010000
END:STANDARD
END:VTIMEZONE
BEGIN:VEVENT
DTSTART;VALUE=DATE:20250919
DTEND;VALUE=DATE:20250922
DTSTAMP:20260423T021044
CREATED:20250905T151223Z
LAST-MODIFIED:20250910T103641Z
UID:10000239-1758240000-1758499199@www.femvents.at
SUMMARY:Bergcamp für Frauen in den Schladminger Tauern
DESCRIPTION:An alle Frauen mit Bergsehnsucht\n\n\nRaus aus dem Kopf – rein in die Wanderschuhe!\n\n\n\n\n\n\nDu möchtest als Berg-Newbie einen Safe-Space unter Gleichgesinnten\, in dem du neue Erfahrungen sammeln\, viel lernen und dich ausprobieren kannst? \nDann lass uns gemeinsam entdecken\, was alles in dir steckt und dein Berg-Wissen aufs nächste Level heben. Ohne Leistungsdruck\, aber mit jeder Menge Rückenwind! \n\n\n\n\n\n\n⛰️ ⛰️ ⛰️ \nHi\, ich bin Sabine … passionierte Solo-Hikerin & Bergwanderführerin für Frauen. Und ich bin es Leid\, dass der Outdoor-Sport von sehr viel Ego geprägt ist. Darum begleite ich Frauen in die Berge und zeige ihnen wie sie selbstbestimmt und so sicher wie möglich draußen unterwegs sein können. Ohne Leistungsdruck\, dafür mit ganz viel Rückenwind! \n⛰️ ⛰️ ⛰️ \nIn 3 Tagen von „kein Plan“ zu „let’s go“\n\n\n\n\n\n\nBeim Bergcamp  erwarten dich … \n⛰️ 3 Tage in den Bergen der Schladminger Tauern (Steiermark) \n\n\n\n\n⛰️ 2 Nächte auf der Ignaz-Mattis-Hütte über dem Nordurfer des Unteren Giglachsees \n⛰️ 3 geführte Wanderungen \n\n⛰️ jede Menge Berg-Wissen in der Theorie & Praxis \n\n⛰️ eine kleine Gruppe mit max. 6 Teilnehmerinnen (female only) \n\n\nMit dem Bergcamp legst du den Grundstein für deine künftigen Bergabenteuer\, die du so planen und gestalten kannst\, wie es für dich passt und gut anfühlt. Egal ob alleine\, mit anderen Berg-Newbies oder erfahrenen Bergfexen. Dafür sorgt die Mischung aus theoretischem Berg-Know-Howund dem Erleben und Anwenden des Gelernten direkt in den Bergen. \nNeben dem Erlebnis in den Bergen gibt es genug Raum für Austausch\, Lernen und natürlich gemütliches Beisammensein beim Bestaunen und Genießen der imposanten Bergwelt! \nUnd nach dem Bergcamp… \n🥾 weißt du\, worauf es bei der Vorbereitung & Planung ankommt. \n🥾 hast du ein besseres Gefühl dafür\, was du konditionell schaffen kannst. \n🥾 kennst du jede Menge Hacks\, wie du dich in den Bergen zurecht findest. \n🥾 weißt du\, wie es ist\, auf einer Berghütte zu übernachten. \n🥾 hast du den Grundstein gelegt\, für deine nächsten persönlichen Bergabenteuer! \nWeil meine Bergcamps heuer zum ersten Mal stattfinden\, kannst du sie zum rabattierten Preis buchen. Im Gegenzug freue ich mich auf deine aktive Mitarbeit und dein Feedback! \nAngebot für das Bergcamp 2025: € 270\,00\n(Umsatzsteuerfrei aufgrund der Kleinunternehmerregelung). \nZusätzlich fallen die Kosten für die Nächtigung auf der Hütte\, die Verpflegung und die Anreise. \nMehr Infos zum Ablauf findest du hier:\nhttps://www.die-bergmentorin.at/bergcamp/schladminger-tauern-giglachseen/ \nLass uns gemeinsam den Outdoor-Sport neu denken! Ich freu mich auf dich.
URL:https://www.femvents.at/event/bergcamp-fuer-frauen-in-den-schladminger-tauern/
LOCATION:Schladminger Tauern\, Steiermark\, Austria
CATEGORIES:Kurs,Salzburg,Sport,Workshop
ATTACH;FMTTYPE=image/png:https://www.femvents.at/wp-content/uploads/2025/09/dBM-Titelbild-Femvents.at_Schladminger-Tauern.png
ORGANIZER;CN="Sabine Artmayr":MAILTO:schreib-an@die-bergmentorin.at
GEO:47.2649012;14.8939302
END:VEVENT
BEGIN:VEVENT
DTSTART;TZID=Europe/Vienna:20250921T180000
DTEND;TZID=Europe/Vienna:20250921T193000
DTSTAMP:20260423T021044
CREATED:20250817T120828Z
LAST-MODIFIED:20250817T120828Z
UID:10000177-1758477600-1758483000@www.femvents.at
SUMMARY:Webinar "Bye bye Sparbuch - hallo Rendite!" - Investieren lernen für Frauen
DESCRIPTION:Hast du das Gefühl\, dein Erspartes liegt brach\, während die Inflation es Stück für Stück auffrisst?\n\nIm Webinar „Bye bye Sparbuch“ zeige ich dir\, wie du mit ETFs endlich den Schritt raus aus der Nullzins-Falle machst und dein Geld für dich arbeiten lässt – einfach\, sicher und verständlich erklärt.\n\nDu lernst:\n✅ warum das Sparbuch dich langfristig viel Geld kostet\n✅ wie ETFs funktionieren und warum sie für Frauen der perfekte Einstieg sind\n✅ wie du sofort loslegen kannst – auch ohne Vorkenntnisse\n\nMach Schluss mit dem Stillstand und starte deinen Vermögensaufbau.\n\nEs ist Zeit\, dass dein Geld für dich arbeitet – und nicht umgekehrt.
URL:https://www.femvents.at/event/webinar-bye-bye-sparbuch-hallo-rendite-investieren-lernen-fuer-frauen-3/
LOCATION:Online-Event\, Austria
CATEGORIES:Online-Event
ATTACH;FMTTYPE=image/jpeg:https://www.femvents.at/wp-content/uploads/2025/08/Bye-Bye-ETF-investieren.jpg
GEO:47.516231;14.550072
END:VEVENT
END:VCALENDAR