BEGIN:VCALENDAR
VERSION:2.0
PRODID:-//femvents.at - ECPv6.15.18//NONSGML v1.0//EN
CALSCALE:GREGORIAN
METHOD:PUBLISH
X-ORIGINAL-URL:https://www.femvents.at
X-WR-CALDESC:Veranstaltungen für femvents.at
REFRESH-INTERVAL;VALUE=DURATION:PT1H
X-Robots-Tag:noindex
X-PUBLISHED-TTL:PT1H
BEGIN:VTIMEZONE
TZID:Europe/Vienna
BEGIN:DAYLIGHT
TZOFFSETFROM:+0100
TZOFFSETTO:+0200
TZNAME:CEST
DTSTART:20240331T010000
END:DAYLIGHT
BEGIN:STANDARD
TZOFFSETFROM:+0200
TZOFFSETTO:+0100
TZNAME:CET
DTSTART:20241027T010000
END:STANDARD
BEGIN:DAYLIGHT
TZOFFSETFROM:+0100
TZOFFSETTO:+0200
TZNAME:CEST
DTSTART:20250330T010000
END:DAYLIGHT
BEGIN:STANDARD
TZOFFSETFROM:+0200
TZOFFSETTO:+0100
TZNAME:CET
DTSTART:20251026T010000
END:STANDARD
BEGIN:DAYLIGHT
TZOFFSETFROM:+0100
TZOFFSETTO:+0200
TZNAME:CEST
DTSTART:20260329T010000
END:DAYLIGHT
BEGIN:STANDARD
TZOFFSETFROM:+0200
TZOFFSETTO:+0100
TZNAME:CET
DTSTART:20261025T010000
END:STANDARD
END:VTIMEZONE
BEGIN:VEVENT
DTSTART;TZID=Europe/Vienna:20250923T100000
DTEND;TZID=Europe/Vienna:20250923T113000
DTSTAMP:20260423T002501
CREATED:20250903T084301Z
LAST-MODIFIED:20250903T084301Z
UID:10000225-1758621600-1758627000@www.femvents.at
SUMMARY:Soulful Business Networking
DESCRIPTION:Du willst nicht einfach nur Kontakte sammeln\, sondern echte Beziehungen zu anderen selbstständigen Frauen aufbauen? Du suchst nach einem Raum\, in dem Unternehmerinnen sich gegenseitig stärken – statt sich zu übertrumpfen? \nDann ist dieses Event wie für dich gemacht. \n💡 Worum geht’s?\nBeim Soulful Business Networking vernetzen wir uns online – regional\, branchenübergreifend und mit Tiefgang. \nDu bekommst den Raum\, dich echt zu zeigen\, Potenziale zu erkennen und mögliche Kooperationen entstehen zu lassen – ganz ohne Ellbogen-Mentalität. \n🔍 Das erwartet dich:\n\nInspirierende Austauschrunden in kleinen Gruppen\nFokus auf Beziehungen statt reines Pitchen\nVerbindung von Herz & Business – mit Klarheit und Tiefe\nRaum für gegenseitige Unterstützung & Sichtbarkeit\n\n📍 Veranstaltungsort:\nOnline via Zoom (Link nach Anmeldung) \n🎯 Für wen ist das Event gedacht?\nFür Unternehmerinnen\, Selbstständige & Visionärinnen\, \n…die sich in einer Community mit Herz vernetzen wollen\, \n…die aus ganz Österreich stammen\, \n…und die spüren: Business darf auch menschlich sein. \n📝 Anmeldung:\nDeine erste Teilnahme ist kostenlos. \nFür eine weitere Teilnahme beträgt der Beitrag € 19\,-. \nAchtung: limitierte Plätze \nLass uns gemeinsam echte Verbindungen schaffen – wir freuen uns auf dich! 💛
URL:https://www.femvents.at/event/soulful-business-networking/
CATEGORIES:Netzwerk-Treffen,Online-Event
ATTACH;FMTTYPE=image/jpeg:https://www.femvents.at/wp-content/uploads/2025/09/Soulful-Business-Networking-4.jpg
END:VEVENT
BEGIN:VEVENT
DTSTART;TZID=Europe/Vienna:20250923T180000
DTEND;TZID=Europe/Vienna:20250923T193000
DTSTAMP:20260423T002501
CREATED:20250813T124629Z
LAST-MODIFIED:20250920T094412Z
UID:10000170-1758650400-1758655800@www.femvents.at
SUMMARY:Selflove & Bootyshake Winterkurs Beginner
DESCRIPTION:September 2025 – Februar 2026 (17 Einheiten x 1\,5 Stunden) \n✨Anmeldebedingungen: Queen du musst nichts an Erfahrung mitbringen\, wir starten in allen Bereichen von Anfang an. Das Einzige was du brauchst ist Wille & Mut für Veränderung\, um zur glänzendsten Version von dir selbst wachsen zu wollen. Sei dir bewusst\, du bist auf diesem Weg nicht alleine – ich bin da und die Community ist da. Das wird eine gemeinsame Reise! 🥰 ✨ \nWas dich erwartet:\nEin ganzheitliches Wohlfühl-Paket für deine innere & äußere Welt! Es wird ein Safe-Place geboten\, wo ALLE Frauen\, mit all ihren Emotionen\, Themen\, Kurven und Freude an der Bewegung zu rhythmischer Musik herzlich willkommen sind. Gemeinsam stärken wir dein eigenes Selbstbild\, sowie dein Selbstbewusstsein & Körperbewusstsein. ❤️‍🔥 \nDas Programm ist eine wundervolle Mischung aus:\n– Tools für deine Persönlichkeitsentwicklung\n– Austausch in der Gruppe oder zu zweit\n– Bewegungen um dich wieder mehr in deine weibliche Energie zu kommen\n– Tanztechniken wie twerking\, wining und bootyshaken um dein volles Hüftpotenzial zu entfalten & energetische Blockaden zu lösen\n– Choreografie-Dance\, um zu lernen auf dem Beat zu tanzen und deine Kurven in Szene zu setzen\n– Stretching um für mehr Körperflexibilität\n– Meditation/Atemübung/Journaling\, um dein Nervensystem zu entspannen und an deinen Träumen zu arbeiten \nMusik: Afrobeats\, Dancehall\, Soca\, Reggaeton \nDas Konzept wurde von mir entwickelt\, um andere Frauen wieder an ihren eigenen Glanz & einzigartige Schönheit zu erinnern. ❤️ \nBitte mitbringen:\n– Wasserflasche\n– Notizblock & Stift\n– saubere Tanzschuhe mit heller Sohle (keine Straßenschuhe) / barfuß – eine Hose/Shorts mit beweglichem Stoff\, welcher mit deinem Booty mit jigglet/wackelt (keine feste enge Leggings oder Sporthose) \nIch freue mich auf dich Queen!\nLet’s shine together 💎 \nLovely greetings Johanna
URL:https://www.femvents.at/event/selflove-bootyshake-winterkurs-beginner/
LOCATION:Dance Base Salzburg\, Weiserhofstraße 3\, Salzburg\, 5020\, Austria
CATEGORIES:Kurs,Salzburg
ATTACH;FMTTYPE=image/png:https://www.femvents.at/wp-content/uploads/2025/08/Kopie-von-Entdecke-deine-weibliche-Energie-dein-Koerperbewusstsein-neu-1080-x-1350-px-1.png
ORGANIZER;CN="Selflove &amp%3B Bootyshake by Johanna":MAILTO:info@selflove-bootyshake.com
GEO:47.8120247;13.0474994
X-APPLE-STRUCTURED-LOCATION;VALUE=URI;X-ADDRESS=Dance Base Salzburg Weiserhofstraße 3 Salzburg 5020 Austria;X-APPLE-RADIUS=500;X-TITLE=Weiserhofstraße 3:geo:13.0474994,47.8120247
END:VEVENT
BEGIN:VEVENT
DTSTART;TZID=Europe/Vienna:20250923T180000
DTEND;TZID=Europe/Vienna:20250923T200000
DTSTAMP:20260423T002501
CREATED:20250910T184422Z
LAST-MODIFIED:20250910T184422Z
UID:10000261-1758650400-1758657600@www.femvents.at
SUMMARY:Networking Abend nur für Unternehmerinnen
DESCRIPTION:Für uns spielt das gegenseitige vernetzen und der Gemeinschaftssinn eine wichtige Rolle. Wir wissen\, dass geschäftliche Netzwerke\, wo sich Unternehmerinnen gegenseitig unterstützen sehr erfolgreich sein können. \nUnd genau zu einem solchen Netzwerk möchten wir Dich hiermit einladen. \nWomen’s Mindset will Unternehmerinnen aus verschiedenen Bereichen zusammenbringen. \nNutze die Möglichkeit mit anderen spannenden Unternehmerinnen oder noch werdenden Unternehmerinnen verschiedener Branchen in Austausch zu gehen. \nHaben wir Dich neugierig gemacht? \nDann freuen wir uns schon darauf\, Dich zu unserem Treffen persönlich begrüßen zu können. \nDu wirst alle Damen bei einem\, „Speed-Need“ alle kennenlernen und neue Ideen und Anregungen für Deine brennenden Themen sammeln. \nFür Getränke und Snacks ist ausreichend gesorgt. \nAuf einen schönen informativen und erlebnisreichen Abend mit dir\, \nfreuen sich @Vivi Ramani & @Bella Volen. \nNatürlich sind wir für Fragen auch gerne telefonisch erreichbar: \nVivi Ramani: [+43 660 110 15 25](tel:+43 660 110 15 25) – www.womensmindset.at \nBella Volen: [+43 699 132 29 826](tel:+43 699 132 29 826) – www.bella-volen.com \nHinweis zu Fotos und Videos: \nWir weisen darauf hin\, dass am Veranstaltungsort Fotos und Videos angefertigt und zum Zweck der Veranstaltungsdokumentation im Internet und in Drucksorten veröffentlicht werden. \nAnfahrt： \nDie Galerie ist ein Geschäftslokal\, direkt auf der Straße und befindet sich zwischen dem Rathaus und Café Bendl.
URL:https://www.femvents.at/event/networking-abend-nur-fuer-unternehmerinnen-2/
LOCATION:BELLA VOLEN Gallery
CATEGORIES:Netzwerk-Treffen,Wien
ATTACH;FMTTYPE=image/jpeg:https://www.femvents.at/wp-content/uploads/2025/09/Networking2.jpg
ORGANIZER;CN="Women%C2%B4s Mindset":MAILTO:office@womensmindset.at
END:VEVENT
BEGIN:VEVENT
DTSTART;TZID=Europe/Vienna:20250923T180000
DTEND;TZID=Europe/Vienna:20250923T200000
DTSTAMP:20260423T002501
CREATED:20250918T163611Z
LAST-MODIFIED:20250918T163611Z
UID:10000296-1758650400-1758657600@www.femvents.at
SUMMARY:Selbstwert erleben – Wer bin ich jenseits von Leistung\, Fürsorge und Zustimmung? (Live-Online-Seminar)
DESCRIPTION:Selbstwert erleben – Wer bin ich jenseits von Leistung\, Fürsorge und Zustimmung? \nViele Menschen – insbesondere Frauen – leben in ständiger Anstrengung\, für andere da zu sein: als Mütter\, Partnerinnen\, Töchter oder Kolleginnen. Trotz großer Hingabe bleibt oft ein Gefühl von „nicht genug“. Dieses Seminar lädt dazu ein\, liebevoll nach innen zu schauen: Wer bin ich jenseits von Rollen und Erwartungen? Wie gelingt es\, Selbstwert nicht nur als Idee zu verstehen\, sondern als spürbare\, innere Erfahrung zu leben? In einer achtsamen Mischung aus Impulsen\, Reflexion und einfachen Übungen erkunden wir\, wie echter Selbstwert unabhängig von Rückmeldungen von außen entsteht – und wie wir lernen\, uns selbst wieder an erste Stelle zu setzen\, ohne egoistisch zu sein. \nSeminarleitung: Sandra Teml-Wall \nVeranstaltet von: \nLEA – Let’s empower Austria\nÖsterreichischer Fonds zur Stärkung und Förderung von Frauen und Mädchen\nhttps://letsempoweraustria.at\nInstagram | LinkedIn
URL:https://www.femvents.at/event/selbstwert-erleben-wer-bin-ich-jenseits-von-leistung-fuersorge-und-zustimmung-live-online-seminar/
LOCATION:Live-Online-Seminar
CATEGORIES:Online-Event
ATTACH;FMTTYPE=image/jpeg:https://www.femvents.at/wp-content/uploads/2025/09/lea-4.jpg
END:VEVENT
BEGIN:VEVENT
DTSTART;TZID=Europe/Vienna:20250923T190000
DTEND;TZID=Europe/Vienna:20250923T210000
DTSTAMP:20260423T002501
CREATED:20250825T132205Z
LAST-MODIFIED:20250915T113700Z
UID:10000192-1758654000-1758661200@www.femvents.at
SUMMARY:Golden Females Business Meetup in Graz
DESCRIPTION:✨ Females Business Meetup Graz ✨ \nDas Netzwerk-Event der Golden Females kommt erstmals nach Graz! \nFreu dich auf inspirierenden Austausch\, neue Kontakte und echte Business-Connections unter Frauen\, die ihre Vision leben und gemeinsam wachsen wollen. \nDie Plätze sind begrenzt – sichere dir dein Ticket jetzt direkt über Eventbrite! \nhttps://www.eventbrite.de/e/1520298155709?aff=oddtdtcreator \n 
URL:https://www.femvents.at/event/golden-females-business-meetup-in-graz/
LOCATION:Sudhaus Graz\, Weblinger Str. 10\,\, 8054 Graz\, Steiermark\, 8054\, Austria
CATEGORIES:Netzwerk-Treffen
ATTACH;FMTTYPE=image/png:https://www.femvents.at/wp-content/uploads/2025/08/inbound5081707696790827446.png
ORGANIZER;CN="Kerstin Kolb":MAILTO:kk.mentaltraining@gmail.com
GEO:47.0308822;15.403153
X-APPLE-STRUCTURED-LOCATION;VALUE=URI;X-ADDRESS=Sudhaus Graz Weblinger Str. 10 8054 Graz Steiermark 8054 Austria;X-APPLE-RADIUS=500;X-TITLE=Weblinger Str. 10\,:geo:15.403153,47.0308822
END:VEVENT
END:VCALENDAR