BEGIN:VCALENDAR
VERSION:2.0
PRODID:-//femvents.at - ECPv6.15.18//NONSGML v1.0//EN
CALSCALE:GREGORIAN
METHOD:PUBLISH
X-ORIGINAL-URL:https://www.femvents.at
X-WR-CALDESC:Veranstaltungen für femvents.at
REFRESH-INTERVAL;VALUE=DURATION:PT1H
X-Robots-Tag:noindex
X-PUBLISHED-TTL:PT1H
BEGIN:VTIMEZONE
TZID:Europe/Vienna
BEGIN:DAYLIGHT
TZOFFSETFROM:+0100
TZOFFSETTO:+0200
TZNAME:CEST
DTSTART:20240331T010000
END:DAYLIGHT
BEGIN:STANDARD
TZOFFSETFROM:+0200
TZOFFSETTO:+0100
TZNAME:CET
DTSTART:20241027T010000
END:STANDARD
BEGIN:DAYLIGHT
TZOFFSETFROM:+0100
TZOFFSETTO:+0200
TZNAME:CEST
DTSTART:20250330T010000
END:DAYLIGHT
BEGIN:STANDARD
TZOFFSETFROM:+0200
TZOFFSETTO:+0100
TZNAME:CET
DTSTART:20251026T010000
END:STANDARD
BEGIN:DAYLIGHT
TZOFFSETFROM:+0100
TZOFFSETTO:+0200
TZNAME:CEST
DTSTART:20260329T010000
END:DAYLIGHT
BEGIN:STANDARD
TZOFFSETFROM:+0200
TZOFFSETTO:+0100
TZNAME:CET
DTSTART:20261025T010000
END:STANDARD
END:VTIMEZONE
BEGIN:VEVENT
DTSTART;VALUE=DATE:20250924
DTEND;VALUE=DATE:20250925
DTSTAMP:20260423T002444
CREATED:20250819T133142Z
LAST-MODIFIED:20250910T103904Z
UID:10000187-1758672000-1758758399@www.femvents.at
SUMMARY:Female Future Meet Up Graz
DESCRIPTION:Am 24. September 2025 ist es soweit: Das Female Future Meet Up im Merkur Campus Graz bringt geballte Inspiration\, spannende Talks und die Möglichkeit zum Networking direkt in die Steiermark. 🌟 \nDas Meet Up ist die perfekte Gelegenheit\, in kurzer Zeit viele Impulse mitzunehmen und dich mit spannenden Persönlichkeiten zu vernetzen. Im Fokus stehen Themen\, die dich beruflich wie persönlich weiterbringen: \n– Insights aus Wirtschaft\, Leadership & Innovation \n– Persönlichkeitsentwicklung & Mindset \n– Austausch mit Role Models und spannenden Unternehmen aus der Region \nKompakt\, intensiv und voller neuer Perspektiven – das Female Future Meet Up Graz ist dein Abend\, um Energie zu tanken\, Kontakte zu knüpfen und dich inspirieren zu lassen. \n👉 Sichere dir jetzt dein Ticket und werde Teil dieser inspirierenden Community!
URL:https://www.femvents.at/event/female-future-meet-up-graz/
LOCATION:Merkur Campus Graz\, Conrad-von-Hötzendorf-Straße 84\, Graz\, Steiermark\, 8010\, Austria
CATEGORIES:Meetup,Steiermark
ATTACH;FMTTYPE=image/png:https://www.femvents.at/wp-content/uploads/2025/08/FFFMuG-Header-Femvents-scaled.png
ORGANIZER;CN="W3-create GmbH":MAILTO:hello@femalefuturefestival.com
GEO:47.0565117;15.4462077
X-APPLE-STRUCTURED-LOCATION;VALUE=URI;X-ADDRESS=Merkur Campus Graz Conrad-von-Hötzendorf-Straße 84 Graz Steiermark 8010 Austria;X-APPLE-RADIUS=500;X-TITLE=Conrad-von-Hötzendorf-Straße 84:geo:15.4462077,47.0565117
END:VEVENT
BEGIN:VEVENT
DTSTART;TZID=Europe/Vienna:20250924T170000
DTEND;TZID=Europe/Vienna:20250924T190000
DTSTAMP:20260423T002444
CREATED:20250820T141600Z
LAST-MODIFIED:20250910T103925Z
UID:10000190-1758733200-1758740400@www.femvents.at
SUMMARY:Warum willst du keine Kinder\, was ist los mit dir?“ Gewollte Kinderlosigkeit als Ausdruck reproduktiver Selbstbestimmung
DESCRIPTION:Das Wiener Programm für Frauengesundheit lädt im Rahmen der Gesprächsreihe „Wiener Dialog Frauengesundheit“ zu einem Austausch über gewollte Kinderlosigkeit. \nProgramm: \n\nJulia Brandner\, Stand-up-Comedienne\, Autorin und Bloggerin: Lesung aus dem Buch „I’m not kidding“.\nClaudia Rahnfeld\, Professorin für Angewandte Sozialwissenschaften Duale Hochschule Gera-Eisenach: Vortrag: Kein Kind aus Überzeugung – Gewollte Kinderlosigkeit im Spannungsfeld gesellschaftlicher Erwartungen\nVeronika Siegl\, Sozialanthropologin und Geschlechterforscherin\, Universität Wien: Conclusio: Was hat Gewollte Kinderlosigkeit mit Frauengesundheit zu tun?\n\nAnmeldung bis 22.9. unter: https://ticket.wien.gv.at/M24/e9lq8/
URL:https://www.femvents.at/event/warum-willst-du-keine-kinder-was-ist-los-mit-dir-gewollte-kinderlosigkeit-als-ausdruck-reproduktiver-selbstbestimmung-2/
LOCATION:Urania Wien\, Uraniastraße 1\, Wien\, Wien\, 1010\, Austria
CATEGORIES:Vortrag,Wien
ATTACH;FMTTYPE=image/jpeg:https://www.femvents.at/wp-content/uploads/2025/08/Einladung_Gewollte-Kinderlosigkeit_24092025-scaled.jpg
ORGANIZER;CN="Wiener Programm f%C3%BCr Frauengesundheit":MAILTO:frauengesundheit@ma24.gv.at
GEO:48.2115461;16.3838887
X-APPLE-STRUCTURED-LOCATION;VALUE=URI;X-ADDRESS=Urania Wien Uraniastraße 1 Wien Wien 1010 Austria;X-APPLE-RADIUS=500;X-TITLE=Uraniastraße 1:geo:16.3838887,48.2115461
END:VEVENT
BEGIN:VEVENT
DTSTART;TZID=Europe/Vienna:20250924T170000
DTEND;TZID=Europe/Vienna:20250924T190000
DTSTAMP:20260423T002444
CREATED:20250918T163631Z
LAST-MODIFIED:20250918T163631Z
UID:10000297-1758733200-1758740400@www.femvents.at
SUMMARY:Anlegen & Investieren – Dein Einstieg in die Börsenwelt für langfristigen Vermögensaufbau (Live-Online-Seminar)
DESCRIPTION:Traditionelle Ansparformen sind seit Jahren für den Vermögensaufbau unattraktiv\, daher führt kein Weg an der Börse vorbei. \nIn diesem Seminar erfährst Du\, wie Du mit gezielten Investitionen an der Börse langfristig Vermögen aufbauen kannst. Für ein selbstbewusstes Anlegen sind entsprechende Grundkenntnisse entscheidend. Ich zeige Dir\, welche Anlageformen es gibt und welche Bedeutung insbesondere Aktien für den erfolgreichen Vermögensaufbau haben. Dabei lernst Du die ersten wichtigen Schritte in die Welt der Börse kennen.\nIdeal für Einsteigerinnen\, die ihre finanzielle Zukunft selbst bestimmen wollen! \nSeminarleitung: Tamara Albrecht \nVeranstaltet von: \nLEA – Let’s empower Austria\nÖsterreichischer Fonds zur Stärkung und Förderung von Frauen und Mädchen\nhttps://letsempoweraustria.at\nInstagram | LinkedIn
URL:https://www.femvents.at/event/anlegen-investieren-dein-einstieg-in-die-boersenwelt-fuer-langfristigen-vermoegensaufbau-live-online-seminar/
CATEGORIES:Online-Event
ATTACH;FMTTYPE=image/jpeg:https://www.femvents.at/wp-content/uploads/2025/09/lea-5.jpg
END:VEVENT
BEGIN:VEVENT
DTSTART;TZID=Europe/Vienna:20250924T180000
DTEND;TZID=Europe/Vienna:20250924T200000
DTSTAMP:20260423T002444
CREATED:20250810T123323Z
LAST-MODIFIED:20250910T103941Z
UID:10000165-1758736800-1758744000@www.femvents.at
SUMMARY:Goldener Herbst-Türkranz
DESCRIPTION:Bringen Sie den goldenen Herbst an Ihre Haustür! Wir gestalten gemeinsam einen stimmungsvollen Türkranz aus Naturmaterialien\, Beeren und dekorativen Elementen.\nIhr Werk wird garantiert zum Blickfang. \nPreis:\n€55\,00 pro Person \nInklusive: aller Materialien\, Kaffee oder Tee & ein kleiner Snack \nWorkshop findet in einer kleinen Gruppe mit maximal 6 Teilnehmern statt\, damit ich Sie persönlich begleiten kann. \nAnmeldung bis spätestens 21.09.2025 per E-Mail an: info@audryscreativestudio.com
URL:https://www.femvents.at/event/goldener-herbst-tuerkranz/
LOCATION:Zillingerstrasse 1\, 5300 Hallwang\, Zillingerstrasse 1\, Hallwang\, Salzburg\, 5300\, Austria
CATEGORIES:Salzburg,Workshop
ATTACH;FMTTYPE=image/png:https://www.femvents.at/wp-content/uploads/2025/08/Workshop_24.09.png
ORGANIZER;CN="Audry's Creative Studio":MAILTO:info@audryscreatuvestudio.com
GEO:47.8494346;13.0951871
X-APPLE-STRUCTURED-LOCATION;VALUE=URI;X-ADDRESS=Zillingerstrasse 1 5300 Hallwang Zillingerstrasse 1 Hallwang Salzburg 5300 Austria;X-APPLE-RADIUS=500;X-TITLE=Zillingerstrasse 1:geo:13.0951871,47.8494346
END:VEVENT
BEGIN:VEVENT
DTSTART;TZID=Europe/Vienna:20250924T183000
DTEND;TZID=Europe/Vienna:20250924T200000
DTSTAMP:20260423T002444
CREATED:20250828T134929Z
LAST-MODIFIED:20250910T103956Z
UID:10000209-1758738600-1758744000@www.femvents.at
SUMMARY:Yoni Steaming Circle
DESCRIPTION:Yoni Steaming ist ein Dampfbad für deinen Intimbereich & Unterleib. Es ist eine uralte Tradition und auf der ganzen Welt verbreitet. Du setzt dich dabei über einen Kräutersud und lässt den Dampf in die Vulva und den Bauchraum steigen. Vaginal Steaming kann bei vielen Themen/Beschwerden unterstützen – Menstruationsbeschwerden\, Geburtsvorbereitung\, Menopause\, (chronischen) Blasenentzündungen\, Endometriose uvm. \nBeim Yoni Steaming Circle hast du die Möglichkeit es unter professioneller Anleitung auf einem eigens dafür konzipiertem Hocker auszuprobieren.\nAußerdem zeige ich dir\, wie du zuhause sicher steamen kannst und welche Alternativen es gibt\, wenn du keinen Steaminghocker besitzt.
URL:https://www.femvents.at/event/yoni-steaming-circle/
LOCATION:all about period\, Lerchenfelderstrasse 65\, Wien\, Wien\, 1070\, Austria
CATEGORIES:Frauenkreis,Retreat,Wien,Workshop
ATTACH;FMTTYPE=image/jpeg:https://www.femvents.at/wp-content/uploads/2025/08/TessaViktoriaKutsamFoto_ALLABOUTPERIOD_YONISTEAMING-9.jpg
GEO:48.206719;16.3466189
X-APPLE-STRUCTURED-LOCATION;VALUE=URI;X-ADDRESS=all about period Lerchenfelderstrasse 65 Wien Wien 1070 Austria;X-APPLE-RADIUS=500;X-TITLE=Lerchenfelderstrasse 65:geo:16.3466189,48.206719
END:VEVENT
BEGIN:VEVENT
DTSTART;TZID=Europe/Vienna:20250924T190000
DTEND;TZID=Europe/Vienna:20250924T210000
DTSTAMP:20260423T002444
CREATED:20250715T060720Z
LAST-MODIFIED:20250910T104017Z
UID:10000118-1758740400-1758747600@www.femvents.at
SUMMARY:Wert.Voll – Was dein Geld mit Gerechtigkeit zu tun hat
DESCRIPTION:Ein Abend über das weibliche Verhältnis zu Geld\, die Kunst finanzieller Selbstbestimmung – und warum wirtschaftliche Unabhängigkeit mehr ist als nur ein Kontostand.\nVortrag von und mit Caroline Bischof – Bankerin\, Mutter\, Frau. \nWas wäre\, wenn Geld nicht länger ein Tabuthema ist – sondern ein Werkzeug für weibliche Freiheit? \nGeld berührt unser Leben täglich – und doch sprechen wir selten offen darüber. Vor allem Frauen begegnen dem Thema oft mit Zurückhaltung\, Unsicherheit oder schlechtem Gewissen. Dabei ist finanzielle Unabhängigkeit nicht nur eine Frage des Kontostands – sondern eine zutiefst persönliche Form von Selbstbestimmung. \nCaroline Bischof\, selbst seit über zwanzig Jahren in der Finanzwelt tätig\, nimmt uns mit auf eine kluge und nahbare Reise durch ein Thema\, das mehr mit Menschenrechten\, Gerechtigkeit und innerer Haltung zu tun hat\, als viele denken. \nSie beleuchtet\, warum Altersarmut vor allem Frauen betrifft\, wie wir durch Wissen und Klarheit die Kontrolle über unsere Finanzen zurückgewinnen – und wie jede Frau ganz konkret beginnen kann\, sich finanziell souverän aufzustellen. Ohne Fachjargon\, aber mit Herz\, Humor und Substanz. \nEin Abend für Frauen\, die…\n… ihre Beziehung zu Geld neu und mutig gestalten wollen\n… verstehen möchten\, wie Finanzen mit Selbstwert und Freiheit zusammenhängen\n… sich nach Sicherheit\, Unabhängigkeit und Klarheit sehnen\n… Teil eines gesellschaftlichen Wandels sein wollen\, der auch im eigenen Geldbeutel beginnt \nVortrag von und mit Caroline Bischof \nModeration: Birgit Häusle\, SALON 13
URL:https://www.femvents.at/event/wert-voll-was-dein-geld-mit-gerechtigkeit-zu-tun-hat/
LOCATION:Volksbank Dornbirn\, Marktplatz 5\, Dornbirn\, Vorarlberg\, 6850\, Austria
CATEGORIES:After Work,Meetup,Salon13,Vorarlberg,Vortrag
ATTACH;FMTTYPE=image/jpeg:https://www.femvents.at/wp-content/uploads/2025/07/250924_WertVoll_S1.jpg
ORGANIZER;CN="SALON 13":MAILTO:info@salon13.at
GEO:47.4141706;9.7421125
X-APPLE-STRUCTURED-LOCATION;VALUE=URI;X-ADDRESS=Volksbank Dornbirn Marktplatz 5 Dornbirn Vorarlberg 6850 Austria;X-APPLE-RADIUS=500;X-TITLE=Marktplatz 5:geo:9.7421125,47.4141706
END:VEVENT
BEGIN:VEVENT
DTSTART;TZID=Europe/Vienna:20250924T190000
DTEND;TZID=Europe/Vienna:20250924T210000
DTSTAMP:20260423T002444
CREATED:20250828T140301Z
LAST-MODIFIED:20250915T112610Z
UID:10000210-1758740400-1758747600@www.femvents.at
SUMMARY:Netzwerk Dinner der Golden Females in Wien
DESCRIPTION:Suchst du nach gleichgesinnten\, selbstständigen Frauen aus deiner Stadt\, die dich inspirieren und unterstützen? \nDann bist du bei uns genau richtig! \nHier hast du die Möglichkeit\, dich mit spannenden Frauen\, Gründerinnen\, Freelancerinnen und selbständigen Ladys aus verschiedenen Branchen zu verbinden und dir ein starkes Netzwerk aufzubauen\, das zu deiner „Business Family“ wird. \nWarum Netzwerken? \nDurch den Austausch mit anderen Frauen kannst du: \n\nWissen erweitern: Hol dir Tipps\, Erfahrungen und frische Ideen für dein Business.\n\n\nKooperationen & Kontakte: Triff Frauen für spannende Kooperationen\, neue Kundinnen und wertvolle Geschäftsbeziehungen.\n\n\nStärke dein Selbstbewusstsein: Support und ehrliches Feedback geben dir Rückenwind. Durch ein starkes Umfeld\, wirst du dich in deiner Selbständigkeit nie wieder allein fühlen!\n\n\nWerde sichtbar mit deinem Business: Zeige dich und sprich über dein Business in einem geschützten Raum mit Frauen\, die dich verstehen und bestärken.\n\n\nFreundschaften: Du hast die Möglichkeiten echte Verbindungen fürs Leben zu knüpfen\, die deine Interessen teilen.\n\nDas erwartet dich: \nJeden Monat laden wir dich ein\, einen inspirierenden Abend mit selbstständigen Frauen\, Gründerinnen und Unternehmerinnen zu verbringen. \nNeben einer kleinen Vorstellungsrunde erwarten dich empowernde Gespräche mit Gleichgesinnten und jede Menge Spaß! \nSchließe dich einem Netzwerk von starken Frauen an\, die zusammen an ihrem Wachstum arbeiten\, ihre Träume verwirklichen und sich gegenseitig unterstützen. Spricht dich das an? \nDann sei dabei und lass uns gemeinsam wachsen und sichere dir schnell noch deinen Platz! \nFacts: \n\nDas Ticket kostet 15 Euro.\n\n\nNach einer kleinen Vorstellungsrunde kannst du dich mit anderen gleichgesinnten Frauen austauschen und netzwerken.\n\n\nWir haben einen Tisch auf den Namen „Golden Females“ im Restaurant reserviert. Dort kannst du leckere Speisen und Drinks genießen. Diese sind auf Selbstzahlerbasis.\n\n\nDas Treffen findet monatlich und immer in wechselnder Location statt. Dieses Mal sind wir im Hotel Daniel – Bakery Landstraßer Gürtel 5 1030 Wien\, Österreich.\n\n\nWir freuen uns wenn du pünktlich um 19.00 Uhr erscheinst.\n\nFolge uns auf Eventbrite und auf Instagram unter https://www.instagram.com/golden_females und verpasse kein Event! \nTrage dich auch gern in den Newsletter ein\, um keine unserer Events zu verpassen: https://golden-females.de/female-business-newsletter/ \nWir freuen uns riesig darauf\, dich kennenzulernen! \n🤍 \nGOLDEN FEMALES
URL:https://www.femvents.at/event/netzwerk-dinner-der-golden-females-in-wien/
LOCATION:Daniel Bakery Vienna\, Landstraßengürtel 5\, Daniel Bakery Vienna\, Wien\, 1030\, Austria
CATEGORIES:Netzwerk-Treffen,Wien
ATTACH;FMTTYPE=image/jpeg:https://www.femvents.at/wp-content/uploads/2025/08/https___cdn.evbuc_.com_images_967292593_1347721359223_1_original.jpeg
GEO:48.1888733;16.3839548
X-APPLE-STRUCTURED-LOCATION;VALUE=URI;X-ADDRESS=Daniel Bakery Vienna Landstraßengürtel 5 Daniel Bakery Vienna Wien 1030 Austria;X-APPLE-RADIUS=500;X-TITLE=Landstraßengürtel 5:geo:16.3839548,48.1888733
END:VEVENT
BEGIN:VEVENT
DTSTART;TZID=Europe/Vienna:20250924T203000
DTEND;TZID=Europe/Vienna:20250924T210000
DTSTAMP:20260423T002444
CREATED:20250722T114632Z
LAST-MODIFIED:20250722T114632Z
UID:10000138-1758745800-1758747600@www.femvents.at
SUMMARY:Yoga Nidra Event
DESCRIPTION:Monatliches Yoga Nidra Event\n\nTiefenentspannung pur („Entschleunigte Me-Time“) \nFür Wen: Es sind keine Vorkenntnisse notwendig \nDauer: 1 Einheit a 30 Minuten \nTermine: Immer der letzte Mittwoch im Monat (Ausnahme Dezember): 24.9.; 29.10.; 26.11.; 17.12.; \nUhrzeit: 20:30 – 21:00 \nRäumlichkeit: Online via Zoom
URL:https://www.femvents.at/event/yoga-nidra-event-3/
LOCATION:Online-Event\, Austria
CATEGORIES:Online-Event
ATTACH;FMTTYPE=image/jpeg:https://www.femvents.at/wp-content/uploads/2025/07/Yoga-Nidra-Event.jpg
ORGANIZER;CN="Im Gef%C3%BChl - Christina Hopf":MAILTO:office@im-gefuehl.at
GEO:47.516231;14.550072
END:VEVENT
END:VCALENDAR