BEGIN:VCALENDAR
VERSION:2.0
PRODID:-//femvents.at - ECPv6.15.18//NONSGML v1.0//EN
CALSCALE:GREGORIAN
METHOD:PUBLISH
X-WR-CALNAME:femvents.at
X-ORIGINAL-URL:https://www.femvents.at
X-WR-CALDESC:Veranstaltungen für femvents.at
REFRESH-INTERVAL;VALUE=DURATION:PT1H
X-Robots-Tag:noindex
X-PUBLISHED-TTL:PT1H
BEGIN:VTIMEZONE
TZID:Europe/Vienna
BEGIN:DAYLIGHT
TZOFFSETFROM:+0100
TZOFFSETTO:+0200
TZNAME:CEST
DTSTART:20240331T010000
END:DAYLIGHT
BEGIN:STANDARD
TZOFFSETFROM:+0200
TZOFFSETTO:+0100
TZNAME:CET
DTSTART:20241027T010000
END:STANDARD
BEGIN:DAYLIGHT
TZOFFSETFROM:+0100
TZOFFSETTO:+0200
TZNAME:CEST
DTSTART:20250330T010000
END:DAYLIGHT
BEGIN:STANDARD
TZOFFSETFROM:+0200
TZOFFSETTO:+0100
TZNAME:CET
DTSTART:20251026T010000
END:STANDARD
BEGIN:DAYLIGHT
TZOFFSETFROM:+0100
TZOFFSETTO:+0200
TZNAME:CEST
DTSTART:20260329T010000
END:DAYLIGHT
BEGIN:STANDARD
TZOFFSETFROM:+0200
TZOFFSETTO:+0100
TZNAME:CET
DTSTART:20261025T010000
END:STANDARD
END:VTIMEZONE
BEGIN:VEVENT
DTSTART;TZID=Europe/Vienna:20250925T080000
DTEND;TZID=Europe/Vienna:20250928T130000
DTSTAMP:20260423T002325
CREATED:20250703T093155Z
LAST-MODIFIED:20250910T104058Z
UID:10000092-1758787200-1759064400@www.femvents.at
SUMMARY:Retreat: In meiner Mitte - Weiblichkeit leben und stärken
DESCRIPTION:Führungskraft\, Partnerin\, Freundin\, Kollegin… und wo bleibst DU?\nIn der Businesswelt von heute jonglieren wir ständig verschiedene Rollen.\nDabei vergessen wir oft das Wichtigste: uns selbst. \nDeshalb laden dich meine Kollegin Lisa-Maria Luckner von erdendasein-Yoga und ich zu etwas Besonderem ein:\n„In meiner Mitte – Weiblichkeit leben und stärken“ Ein 4-tägiges Premium-Retreat für Frauen\, die bereit sind\, ihre innere Kraft neu zu entdecken. \nWas dich erwartet:\n🧘‍♀️ Yoga & Breathwork für mentale Stärke\n💫 High-Impact Workshops zur Persönlichkeitsentwicklung\n👥 1:1 Coaching-Sessions mit Business-Fokus\n🤝 Networking in inspirierender Atmosphäre\n✨ Luxuriöse Auszeit in der Therme Laa \n25.-28. September 2025 | Therme Laa I Hotel I Silent Spa I Villas\, NÖ \nKlein. Exklusiv. Transformativ. \nPerfekt für dich\, wenn du:\n➡️ Eine Position mit Verantwortung innehast\n➡️ Deine Work-Life-Balance neu definieren möchtest\n➡️ Nach authentischer Führungsstärke suchst\n➡️ Bereit für den nächsten Entwicklungsschritt bist \nBegrenzte Plätze.\nDieses Event wird von www.mind-distillery.at veranstaltet. \nÜber den Host: \nIsabella Raunigk ist diplomierte psychologische Beraterin\, Business Coach\, Trainerin für Erwachsenenbildung und zertifiziert für systemische Aufstellungsarbeit. Diese Qualifikationen\, kombiniert mit einer tiefen Leidenschaft für persönliches und berufliches Wachstum\, ermöglichen es Isabella\, Menschen dabei zu unterstützen\, Herausforderungen zu meistern\, ihr Potenzial zu entfalten und nachhaltigen Erfolg zu erzielen. \nMit 13+ Jahren Erfahrung als selbstständige Senior UX-Designerin und der Zusammenarbeit mit Kund:innen in ganz Europa bringt Isabella eine einzigartige\, interdisziplinäre Perspektive in ihre Arbeit als Coach und Mentorin ein. Dieser Hintergrund stärkt ihre Fähigkeit\, komplexe Dynamiken zu verstehen\, Kreativität zu fördern und maßgeschneiderte Lösungen zur Unterstützung der Entwicklung ihrer Klientinnen zu bieten. \nAls Gründerin von Mind Distillery konzentriert sich Isabella darauf\, Frauen zu unterstützen\, erfolgreiche Unternehmen aufzubauen\, Führungsrollen zu übernehmen und ihr volles Potenzial zu entfalten. Mit ihrem strukturierten\, empathischen Ansatz und ihren ausgeprägten Kommunikationsfähigkeiten schafft Isabella einen sicheren Raum für Reflexion\, Wachstum und nachhaltige Veränderung.
URL:https://www.femvents.at/event/retreat-in-meiner-mitte-weiblichkeit-leben-und-staerken/
LOCATION:Therme Laa\, Thermenplatz 3\, Laa an der Thaya\, Niederösterreich\, 2136\, Austria
CATEGORIES:Coaching,Niederösterreich,Retreat,Sport,Workshop
ATTACH;FMTTYPE=image/png:https://www.femvents.at/wp-content/uploads/2025/07/1.png
ORGANIZER;CN="Mind Distillery":MAILTO:hello@mind-distillery.com
GEO:48.7230639;16.392166
X-APPLE-STRUCTURED-LOCATION;VALUE=URI;X-ADDRESS=Therme Laa Thermenplatz 3 Laa an der Thaya Niederösterreich 2136 Austria;X-APPLE-RADIUS=500;X-TITLE=Thermenplatz 3:geo:16.392166,48.7230639
END:VEVENT
BEGIN:VEVENT
DTSTART;TZID=Europe/Vienna:20250925T110000
DTEND;TZID=Europe/Vienna:20250925T123000
DTSTAMP:20260423T002325
CREATED:20250909T085253Z
LAST-MODIFIED:20250909T085253Z
UID:10000253-1758798000-1758803400@www.femvents.at
SUMMARY:Coffee Speed Networking
DESCRIPTION:DAS digitale Netzwerkevent für selbstständige Frauen \nBeim Coffee Speed Networking … \n💜 triffst du gleichgesinnte Unternehmerinnen\n💜 ist Verkaufen\, Pitchen und Vernetzen ausdrücklich erwünscht!\n💜 entstehen neue Kontakte\, Kooperationen und Aufträge\n💜  lernst du\, wie netzwerken Next Level geht! \n& wirst dabei eine Menge Spaß haben! \nSei dabei beim coolsten Netzwerk Event im World Wide Web für selbstständige Frauen \nCOFFEE SPEED NETWORKING Donnerstag\, 25. September 2025 11 bis 12:30 Uhr \nKostet dich nichts\, ist aber sicher nicht umsonst #csn
URL:https://www.femvents.at/event/coffee-speed-networking/
CATEGORIES:Netzwerk-Treffen,Online-Event
ATTACH;FMTTYPE=image/png:https://www.femvents.at/wp-content/uploads/2025/09/LinkedIn-Banner-CSN-Event.png
ORGANIZER;CN="Laura &amp%3B Gretel":MAILTO:moin@lauraundgretel.de
END:VEVENT
BEGIN:VEVENT
DTSTART;TZID=Europe/Vienna:20250925T173000
DTEND;TZID=Europe/Vienna:20250925T210000
DTSTAMP:20260423T002325
CREATED:20250924T194026Z
LAST-MODIFIED:20250924T194026Z
UID:10000322-1758821400-1758834000@www.femvents.at
SUMMARY:FemHealth Treffen
DESCRIPTION:Komm zu unserem kostenlosen Femhealth-Event rund um Frauengesundheit! Hör dir spannende Vorträge von Expertinnen und Experten an\, stell deine Fragen und finde gemeinsam mit uns Lösungen.
URL:https://www.femvents.at/event/femhealth-treffen/
CATEGORIES:Netzwerk-Treffen
ATTACH;FMTTYPE=image/jpeg:https://www.femvents.at/wp-content/uploads/2025/09/8b1c025b-4eee-444e-b909-2d5e16d09fa1.jpeg
END:VEVENT
BEGIN:VEVENT
DTSTART;TZID=Europe/Vienna:20250925T180000
DTEND;TZID=Europe/Vienna:20250925T210000
DTSTAMP:20260423T002325
CREATED:20250827T082457Z
LAST-MODIFIED:20250910T104121Z
UID:10000204-1758823200-1758834000@www.femvents.at
SUMMARY:"Ich mach mir die Welt! Wie sie mir gefällt? Gedanken steuern - Realität bewusst gestalten"
DESCRIPTION:Unsere Gedanken haben Macht – sie beeinflussen\, wie wir Situationen erleben\, Entscheidungen treffen und mit Herausforderungen umgehen. In diesem Workshop geht es darum\, die eigene Gedankenwelt besser zu verstehen und gezielt zu nutzen. \nGemeinsam erkunden wir\, wie du hinderliche Denkmuster erkennst\, blockierende Überzeugungen hinter dir lässt und deine innere Haltung positiv veränderst. Du bekommst alltagstaugliche Werkzeuge und Impulse an die Hand\, um bewusster und selbstbestimmter durchs Leben zu gehen. \nMit einfachen Reflexionsübungen\, inspirierendem Austausch und praktischen Methoden lernst du\, deine Aufmerksamkeit gezielt zu lenken und die Realität aktiv mitzugestalten – für mehr Leichtigkeit\, Selbstvertrauen und Klarheit auf deinem Weg. \nFRAU iDA mit Mag. Heidi Wurzer\, Neuromentaltrainerin\, Systemische Business-Coachin
URL:https://www.femvents.at/event/gedanken-steuern-realitaet-bewusst-gestalten-frau-ida/
LOCATION:FRAU iDA\, Hauptplatz 16\, Zwettl\, Niederösterreich\, 3910\, Austria
CATEGORIES:Coaching,Niederösterreich,Workshop
ATTACH;FMTTYPE=image/jpeg:https://www.femvents.at/wp-content/uploads/2025/08/1.1_Logo_FRAUiDA.jpg
ORGANIZER;CN="FRAU iDA":MAILTO:office@frau-ida.at
GEO:48.6041614;15.167567
X-APPLE-STRUCTURED-LOCATION;VALUE=URI;X-ADDRESS=FRAU iDA Hauptplatz 16 Zwettl Niederösterreich 3910 Austria;X-APPLE-RADIUS=500;X-TITLE=Hauptplatz 16:geo:15.167567,48.6041614
END:VEVENT
BEGIN:VEVENT
DTSTART;TZID=Europe/Vienna:20250925T180000
DTEND;TZID=Europe/Vienna:20250925T220000
DTSTAMP:20260423T002325
CREATED:20250904T113813Z
LAST-MODIFIED:20250910T104140Z
UID:10000229-1758823200-1758837600@www.femvents.at
SUMMARY:Netzwerk Treffen für Unternehmerinnen
DESCRIPTION:Beginn um 18:00 Uhr mit der Ankunft\, gefolgt von einem Mini-Workshop von Sche-auftischt mit S&A um 18:30 Uhr\, bei dem gemeinsam ein Jausenteller gestaltet wird. Anschließend laden wir ab 19:30 Uhr zu einem gemütlichen Austausch und Networking ein. Veranstaltungsort ist Jahn Events in Obergrünbach 34\, 4264 Grünbach bei Freistadt. Bringe gerne Flyer und Visitenkarten mit! \nAnmeldung bei Birgit Lauss Fotografie 0664/25 21 686 oder office@birgitlauss-fotografie.at
URL:https://www.femvents.at/event/netzwerk-treffen-fuer-unternehmerinnen/
LOCATION:Grünbach\, Obergrünbach 34\, Grünbach\, Oberösterreich\, 4264\, Austria
CATEGORIES:Netzwerk-Treffen,Oberösterreich
ATTACH;FMTTYPE=image/jpeg:https://www.femvents.at/wp-content/uploads/2025/09/Netzwerktreffen-Gruenbach-25.09.2025.jpg
GEO:48.546706;14.5404001
X-APPLE-STRUCTURED-LOCATION;VALUE=URI;X-ADDRESS=Grünbach Obergrünbach 34 Grünbach Oberösterreich 4264 Austria;X-APPLE-RADIUS=500;X-TITLE=Obergrünbach 34:geo:14.5404001,48.546706
END:VEVENT
BEGIN:VEVENT
DTSTART;TZID=Europe/Vienna:20250925T183000
DTEND;TZID=Europe/Vienna:20250925T220000
DTSTAMP:20260423T002325
CREATED:20250905T051315Z
LAST-MODIFIED:20250910T104159Z
UID:10000230-1758825000-1758837600@www.femvents.at
SUMMARY:Pilates & Prosecco
DESCRIPTION:Am 25. September 2025 laden wir euch ins wunderschöne Café Ponykarussellim Prater ein\, für einen Abend voller Bewegung\, Austausch und guter Laune. 🧘🏻‍♀️ \nLos geht’s um 18:30 Uhr mit einem Vortrag 🎤 und dann mit einer Pilates-Session\, danach stoßen wir gemeinsam mit einem Glas Prosecco 🥂 an und haben Zeit zum Netzwerken\, Lachen und Geniessen. \n✨ Mit Unterstützung von Kristina Hametner\, Frauengesundheitsexpertin & Leiterin des Wiener Programms für Frauengesundheit der Stadt Wien. \n🎤 Sie spricht bei uns über ein Thema\, das mehr Aufmerksamkeit verdient: \n👉 „Vulva\, Klitoris und Co. – Mythen rund um weibliche Sexualität“ \nEin Abend voller Aha-Momente\, Klartext & spannender Insights. \n👙 Das Event findet in Kooperation mit Selenacare statt & sie bringen für euch wieder ihren Period-Panty-Pop-Up-Store ins Ponykarussell! 🙂 \n🩸 Sissi\, die Gründerin von @femergency.at wird auch dabei sein\, Sie bringt ihre Perioden-Kits und sogar einen Perioden-Simulator mit – zum Ausprobieren & Staunen! \nDie Plätze sind limitiert\, also schnapp dir dein Ticket und sei dabei\, wenn Fitness auf Freude und Female Empowerment trifft. \nP.S.: Bring your own mat! 🧘🏻‍♀️
URL:https://www.femvents.at/event/pilates-prosecco/
LOCATION:Café Ponykarussell\, Karl-Kolarik-Weg 1\, Prater 86a\, 1020 Wien\, Wien\, 1020\, Austria
CATEGORIES:Frauenkreis,Kurs,Sport,Vortrag,Wien
ATTACH;FMTTYPE=image/jpeg:https://www.femvents.at/wp-content/uploads/2025/09/af348fd8-fd02-4568-8335-2e9b6c437bbf.jpeg
ORGANIZER;CN="Caf%C3%A9 Ponykarussell":MAILTO:tuvshee.batbayar@ponykarussell.at
GEO:48.2144296;16.4017509
X-APPLE-STRUCTURED-LOCATION;VALUE=URI;X-ADDRESS=Café Ponykarussell Karl-Kolarik-Weg 1 Prater 86a 1020 Wien Wien 1020 Austria;X-APPLE-RADIUS=500;X-TITLE=Karl-Kolarik-Weg 1\, Prater 86a\, 1020 Wien:geo:16.4017509,48.2144296
END:VEVENT
BEGIN:VEVENT
DTSTART;TZID=Europe/Vienna:20250925T190000
DTEND;TZID=Europe/Vienna:20250925T210000
DTSTAMP:20260423T002325
CREATED:20250829T095712Z
LAST-MODIFIED:20250915T112640Z
UID:10000213-1758826800-1758834000@www.femvents.at
SUMMARY:Female Business Meet up INNSBRUCK
DESCRIPTION:Suchst du nach gleichgesinnten\, selbstständigen Frauen aus deiner Umgebung\, die dich inspirieren und unterstützen? \nDann bist du bei uns genau richtig! \nHier hast du die Möglichkeit\, dich mit spannenden Frauen\, Gründerinnen\, Freelancerinnen und selbständigen Ladys aus verschiedenen Branchen zu verbinden und dir ein starkes Netzwerk aufzubauen\, das zu deiner „Business Family“ wird. \nWarum Netzwerken? \nDurch den Austausch mit anderen Frauen kannst du: \n\nDein Wissen erweitern: Hol dir Tipps und Erfahrungswerte von anderen Frauen und entdecke neue Ansätze für dein Business.\n\n\nKooperationen & neue Businesskontakte: Lerne beim Meet up Frauen kennen\, mit denen du spannende Kooperationen eingehen und dein Business voranbringen kannst. Dabei eröffnen sich dir nicht nur Chancen für neue Kontakte\, sondern auch die Möglichkeit\, auf potenzielle Kundinnen zu treffen und wertvolle Geschäftsbeziehungen aufzubauen.\n\n\nStärke dein Selbstbewusstsein: Unterstützung und empowerndes Feedback von Gleichgesinnten helfen dir\, mit emotionalen Höhen und Tiefen umzugehen. Durch ein starkes Umfeld\, wirst du dich in deiner Selbständigkeit nie wieder allein fühlen!\n\n\nWerde sichtbar mit deinem Business: Zeige dich und sprich über dein Business in einem geschützten Raum mit Frauen\, die dich verstehen und bestärken. Persönliche Gespräche schaffen Vertrauen und bauen schnelle Verbindungen auf.\n\n\nFreundschaften: Du hast die Möglichkeiten echte Verbindungen fürs Leben zu knüpfen\, die deine Interessen teilen.\n\nDas erwartet dich: \nJeden Monat laden wir dich ein\, einen inspirierenden Abend mit selbstständigen Frauen\, Gründerinnen und selbständigen Frauen zu verbringen. Wir treffen uns immer in einer anderen Location. \nNeben einer kleinen Vorstellungsrunde erwarten dich empowernde Gespräche mit Gleichgesinnten und jede Menge Spaß! \nSchließe dich einem Netzwerk von starken Frauen an\, die zusammen an ihrem Wachstum arbeiten\, ihre Träume verwirklichen und sich gegenseitig unterstützen. Spricht dich das an? \nDann sei dabei und lass uns gemeinsam wachsen! \nFacts: \n\nDas Ticket kostet 15 Euro.\n\n\nNach einer kleinen Vorstellungsrunde kannst du dich mit anderen gleichgesinnten Frauen austauschen und netzwerken.\n\n\nWir haben einen Tisch auf den Namen „Golden Females“ im Restaurant reserviert. Dort kannst du leckere Speisen und Drinks genießen. Diese sind auf Selbstzahlerbasis.\n\n\nDas Treffen findet monatlich und immer in wechselnder Location statt. Dieses Mal sind wir im Restaurant byFurtners\, Adolf-Pichler-Platz 4\, 6020 Innsbruck.\n\n\nWir freuen uns wenn du pünktlich um 19.00 Uhr erscheinst.\n\nFolge uns auf Eventbrite und auf Instagram unter https://www.instagram.com/golden_females und verpasse kein Event! \nWir freuen uns riesig darauf\, dich kennenzulernen! \n🤍 \nGOLDEN FEMALES
URL:https://www.femvents.at/event/female-business-meet-up-innsbruck/
CATEGORIES:Netzwerk-Treffen,Tirol
ATTACH;FMTTYPE=image/png:https://www.femvents.at/wp-content/uploads/2025/08/Innsbruck.png
END:VEVENT
END:VCALENDAR