BEGIN:VCALENDAR
VERSION:2.0
PRODID:-//femvents.at - ECPv6.15.18//NONSGML v1.0//EN
CALSCALE:GREGORIAN
METHOD:PUBLISH
X-ORIGINAL-URL:https://www.femvents.at
X-WR-CALDESC:Veranstaltungen für femvents.at
REFRESH-INTERVAL;VALUE=DURATION:PT1H
X-Robots-Tag:noindex
X-PUBLISHED-TTL:PT1H
BEGIN:VTIMEZONE
TZID:Europe/Vienna
BEGIN:DAYLIGHT
TZOFFSETFROM:+0100
TZOFFSETTO:+0200
TZNAME:CEST
DTSTART:20240331T010000
END:DAYLIGHT
BEGIN:STANDARD
TZOFFSETFROM:+0200
TZOFFSETTO:+0100
TZNAME:CET
DTSTART:20241027T010000
END:STANDARD
BEGIN:DAYLIGHT
TZOFFSETFROM:+0100
TZOFFSETTO:+0200
TZNAME:CEST
DTSTART:20250330T010000
END:DAYLIGHT
BEGIN:STANDARD
TZOFFSETFROM:+0200
TZOFFSETTO:+0100
TZNAME:CET
DTSTART:20251026T010000
END:STANDARD
BEGIN:DAYLIGHT
TZOFFSETFROM:+0100
TZOFFSETTO:+0200
TZNAME:CEST
DTSTART:20260329T010000
END:DAYLIGHT
BEGIN:STANDARD
TZOFFSETFROM:+0200
TZOFFSETTO:+0100
TZNAME:CET
DTSTART:20261025T010000
END:STANDARD
END:VTIMEZONE
BEGIN:VEVENT
DTSTART;TZID=Europe/Vienna:20250925T080000
DTEND;TZID=Europe/Vienna:20250928T130000
DTSTAMP:20260423T002457
CREATED:20250703T093155Z
LAST-MODIFIED:20250910T104058Z
UID:10000092-1758787200-1759064400@www.femvents.at
SUMMARY:Retreat: In meiner Mitte - Weiblichkeit leben und stärken
DESCRIPTION:Führungskraft\, Partnerin\, Freundin\, Kollegin… und wo bleibst DU?\nIn der Businesswelt von heute jonglieren wir ständig verschiedene Rollen.\nDabei vergessen wir oft das Wichtigste: uns selbst. \nDeshalb laden dich meine Kollegin Lisa-Maria Luckner von erdendasein-Yoga und ich zu etwas Besonderem ein:\n„In meiner Mitte – Weiblichkeit leben und stärken“ Ein 4-tägiges Premium-Retreat für Frauen\, die bereit sind\, ihre innere Kraft neu zu entdecken. \nWas dich erwartet:\n🧘‍♀️ Yoga & Breathwork für mentale Stärke\n💫 High-Impact Workshops zur Persönlichkeitsentwicklung\n👥 1:1 Coaching-Sessions mit Business-Fokus\n🤝 Networking in inspirierender Atmosphäre\n✨ Luxuriöse Auszeit in der Therme Laa \n25.-28. September 2025 | Therme Laa I Hotel I Silent Spa I Villas\, NÖ \nKlein. Exklusiv. Transformativ. \nPerfekt für dich\, wenn du:\n➡️ Eine Position mit Verantwortung innehast\n➡️ Deine Work-Life-Balance neu definieren möchtest\n➡️ Nach authentischer Führungsstärke suchst\n➡️ Bereit für den nächsten Entwicklungsschritt bist \nBegrenzte Plätze.\nDieses Event wird von www.mind-distillery.at veranstaltet. \nÜber den Host: \nIsabella Raunigk ist diplomierte psychologische Beraterin\, Business Coach\, Trainerin für Erwachsenenbildung und zertifiziert für systemische Aufstellungsarbeit. Diese Qualifikationen\, kombiniert mit einer tiefen Leidenschaft für persönliches und berufliches Wachstum\, ermöglichen es Isabella\, Menschen dabei zu unterstützen\, Herausforderungen zu meistern\, ihr Potenzial zu entfalten und nachhaltigen Erfolg zu erzielen. \nMit 13+ Jahren Erfahrung als selbstständige Senior UX-Designerin und der Zusammenarbeit mit Kund:innen in ganz Europa bringt Isabella eine einzigartige\, interdisziplinäre Perspektive in ihre Arbeit als Coach und Mentorin ein. Dieser Hintergrund stärkt ihre Fähigkeit\, komplexe Dynamiken zu verstehen\, Kreativität zu fördern und maßgeschneiderte Lösungen zur Unterstützung der Entwicklung ihrer Klientinnen zu bieten. \nAls Gründerin von Mind Distillery konzentriert sich Isabella darauf\, Frauen zu unterstützen\, erfolgreiche Unternehmen aufzubauen\, Führungsrollen zu übernehmen und ihr volles Potenzial zu entfalten. Mit ihrem strukturierten\, empathischen Ansatz und ihren ausgeprägten Kommunikationsfähigkeiten schafft Isabella einen sicheren Raum für Reflexion\, Wachstum und nachhaltige Veränderung.
URL:https://www.femvents.at/event/retreat-in-meiner-mitte-weiblichkeit-leben-und-staerken/
LOCATION:Therme Laa\, Thermenplatz 3\, Laa an der Thaya\, Niederösterreich\, 2136\, Austria
CATEGORIES:Coaching,Niederösterreich,Retreat,Sport,Workshop
ATTACH;FMTTYPE=image/png:https://www.femvents.at/wp-content/uploads/2025/07/1.png
ORGANIZER;CN="Mind Distillery":MAILTO:hello@mind-distillery.com
GEO:48.7230639;16.392166
X-APPLE-STRUCTURED-LOCATION;VALUE=URI;X-ADDRESS=Therme Laa Thermenplatz 3 Laa an der Thaya Niederösterreich 2136 Austria;X-APPLE-RADIUS=500;X-TITLE=Thermenplatz 3:geo:16.392166,48.7230639
END:VEVENT
BEGIN:VEVENT
DTSTART;VALUE=DATE:20250926
DTEND;VALUE=DATE:20250929
DTSTAMP:20260423T002457
CREATED:20250804T152055Z
LAST-MODIFIED:20250910T104238Z
UID:10000150-1758844800-1759103999@www.femvents.at
SUMMARY:#shadesofwinter YOGA & HIKE CAMP
DESCRIPTION:Inmitten einer atemberaubenden Berglandschaft Kraft tanken\, Gedanken erden\, magische Augenblicke erleben und achtsame Momente kreieren – das ist das #shadesofwinter YOGA & HIKE Camp. \nJeder Tag startet und endet mit Yoga und dazwischen: jede Menge frische Bergluft\, unberührte Natur\, Inspiration\, Austausch und natürlich Spaß.  Geleitet wird das Camp von Yogalehrerin Ursi Eberl und Bergwanderführerin Claudia Kohler\, denen beiden die #shadesofwinter Camp DNA bestens vertraut ist. \nClaudia und Ursi begleiten dich dabei\, deinem eigenen Körper und deiner inneren Stimme wieder mehr zu lauschen\, nicht nur auf der Yogamatte – sondern auch auf den Bergen\, und kreieren einen Ort\, in dem Inspiration\, Austausch und gegenseitige Unterstützung Priorität haben. \nDetailliertes Programm und mehr Infos sowie Buchung auf https://www.shades-of-winter.com/yoga-hike-25
URL:https://www.femvents.at/event/shadesofwinter-yoga-hike-camp/
LOCATION:Ammererhof\, Rauris | Österreich\, Austria
CATEGORIES:Retreat,Salzburg,Sport
ATTACH;FMTTYPE=image/jpeg:https://www.femvents.at/wp-content/uploads/2025/08/IMG_1442-scaled.jpg
GEO:47.516231;14.550072
END:VEVENT
BEGIN:VEVENT
DTSTART;TZID=Europe/Vienna:20250927T083000
DTEND;TZID=Europe/Vienna:20250927T113000
DTSTAMP:20260423T002457
CREATED:20250531T090530Z
LAST-MODIFIED:20250910T104320Z
UID:10000032-1758961800-1758972600@www.femvents.at
SUMMARY:Frühstücks-Treffen -Südburgenland
DESCRIPTION:Frau Andrea Strieder spricht zum Thema: \n\n\nIch sehe etwas\, das du nicht siehst\, und das ist… \n\n\nUnsere Augen sehen viel und verarbeiten alles Gesehene im Kopf – wie funktioniert das? Außerdem sieht jede auch mit dem Herzen und das bestimmt unser Denken und Handeln. \n\nIhre Anmeldung erbitten wir über unsere Homepage oder per Telefon:\nMobil: +43 664 5767726 \n 
URL:https://www.femvents.at/event/fruehstuecks-treffen-suedburgenland/
LOCATION:KUZ Restaurant Pranger\, Hauptplatz 8\, Oberschützen\, Burgenland\, 7432\, Austria
CATEGORIES:Burgenland,Meetup
ATTACH;FMTTYPE=image/png:https://www.femvents.at/wp-content/uploads/2025/05/Bildschirmfoto-2025-05-31-um-11.00.03-scaled.png
GEO:47.3524848;16.2081455
X-APPLE-STRUCTURED-LOCATION;VALUE=URI;X-ADDRESS=KUZ Restaurant Pranger Hauptplatz 8 Oberschützen Burgenland 7432 Austria;X-APPLE-RADIUS=500;X-TITLE=Hauptplatz 8:geo:16.2081455,47.3524848
END:VEVENT
BEGIN:VEVENT
DTSTART;TZID=Europe/Vienna:20250927T100000
DTEND;TZID=Europe/Vienna:20250927T120000
DTSTAMP:20260423T002457
CREATED:20250909T065547Z
LAST-MODIFIED:20250910T104344Z
UID:10000235-1758967200-1758974400@www.femvents.at
SUMMARY:TAO-KALLIGRAFIE LICHTFELD ATMUNG
DESCRIPTION:Workshop Tao Kalligrafie Lichtfeld Atmung\nLichtvolles Atmen zur Bereinigung von Herzensangelegenheiten\, € 60\,00\nSamstag\, 27. September von 10-12Uhr\nRaumgarten Graz \, Raiffeisenstraße 192\,\n3. Tür im EG\, 8041 Graz \nDu möchtest Herzensangelegenheiten\, die Dich negativ beeinflussen loslassen?\nDu möchtest das was Dein Herz schwer werden lässt gehen lassen können?\nDu möchtest\, daß sich Emotionen wie Traurigkeit und Wut zu Deinen Herzthemen transformieren?\nDann ist die Tao Kalligrafie Lichtfeld Atmung genau das richtige für Dich. Denn mit dieser Atemtechnik wird der Geist ganz ruhig und das Loslassen fällt dadurch viel leichter.\nWas sind Tao Kalligrafien? Eine fernöstliche Einheitsschrift die dazu verwendet wird um sich mit dem Tao/der Quelle/dem Licht zu verbinden um von höchster Ebene aus transformieren zu können. \nIch bin autorisiert\, diese spezielle Atemtechnik mit Euch anwenden zu können. \nFür die Anmeldung und für nähere Informationen kontaktiere mich gerne oder schau auf meine Homepage \nKlaudia Seidl\n0664 253 8810\nwww.seidliebevoll.com \nZu mir\, ich bin zertifizierte\n– Tao-Hands Practitioner\n– Tao-Dance Practitioner\n– Tao-Kalligrafie Lichtfeld Practitioner\n– Soulcommunicator Practitioner\n– KuanYin CrownChakraBlessing Practitioner\, ausgebildet von der Tao Academy in Toronto.\nIch freue mich sehr auf Dich.
URL:https://www.femvents.at/event/tao-kalligrafie-lichtfeld-atmung/
CATEGORIES:Steiermark,Workshop
ATTACH;FMTTYPE=image/jpeg:https://www.femvents.at/wp-content/uploads/2025/09/Screenshot_20250904_075008_Canva-2-scaled.jpg
ORGANIZER;CN="Klaudia Seidl":MAILTO:seidliebevoll@seidliebevoll.com
END:VEVENT
BEGIN:VEVENT
DTSTART;TZID=Europe/Vienna:20250927T100000
DTEND;TZID=Europe/Vienna:20250927T123000
DTSTAMP:20260423T002457
CREATED:20250722T100535Z
LAST-MODIFIED:20250910T104354Z
UID:10000133-1758967200-1758976200@www.femvents.at
SUMMARY:WORKSHOP: FACE & YIN YOGA.
DESCRIPTION:GLOW & SLOW:\nEine Auszeit für Selbstliebe von außen nach innen.\nSchenke dir einmal im Monat einen Moment voller Achtsamkeit\, Schönheit und Selbstliebe – jedes Mal mit einem neuen Thema & Inhalt. \nWorkshop Ablauf:\nLeitmotiv im September: Dankbarkeit & Erdung \n\n1\,5 Stunden Face Yoga (du bekommst ein Handout)\n1 Stunde Yin Yoga\nim Anschluss: gemeinsamer Lunch (optional)\n\nWann: 27.9. von 10:00 – 12:30 Uhr\nWo: Inama Institut I Seeham\nInvestition in dich: € 89\nTermine:  24.10. | 28.11.  \n** sehr kleine Gruppengröße (exklusiv) \nDu lernst wie du mit Face Yoga deine Gesichtsmuskulatur sanft aktivierst\, Verspannungen löst und deinen natürlichen Glow weckst. \nVORTEILE:\n\n\n\n\nnatürliches Lifting: strafft die Muskulatur\nlösen von Spannungen: wirkt stresslösend (Kiefer\, Nacken\, Stirn)\nFalten sanft glätten:  unterstützt die Hautelastizität\nSchwellungen reduzieren: aktiviert den Lymphfluss hilft bei Tränensäcken / Wassereinlagerungen\nGesichtszüge definieren: kräftigt Kiefer\, Wangen & Hals\n\n\n\n\nDanach tauchen wir in die wohltuende Ruhe des Yin Yoga ein – mit achtsamen Dehnungen\, bewusstem Atmen und Ankommen bei dir selbst. \nVORTEILE YIN YOGA:\n\nöffnet tief liegende Faszien & dehnt sanft den Körper\nfördert tiefe Entspannung & innere Ruhe\nunterstützt emotionales Loslassen und Regeneration\n\nFreue mich auf Dich! \nAlice Fabiola \nMAIL: hello@alicefabiola.com\nMOBIL: +43 660 2271645
URL:https://www.femvents.at/event/workshop-face-yin-yoga-2/
CATEGORIES:Frauenkreis,Kurs,Retreat,Salzburg,Workshop
ATTACH;FMTTYPE=image/jpeg:https://www.femvents.at/wp-content/uploads/2025/07/E9B5423A-08C4-4CF4-AF82-CB75F860FD08-1.jpg
END:VEVENT
BEGIN:VEVENT
DTSTART;TZID=Europe/Vienna:20250927T100000
DTEND;TZID=Europe/Vienna:20250927T170000
DTSTAMP:20260423T002457
CREATED:20250807T130950Z
LAST-MODIFIED:20250910T104425Z
UID:10000161-1758967200-1758992400@www.femvents.at
SUMMARY:Workshop: Sexismus im Alltag – Gegenstrategien und konkrete Handlungsmöglichkeiten
DESCRIPTION:Im Workshop wird zu Beginn gemeinsam definiert\, was unter Sexismus zu verstehen ist und wie sich dieser im Alltag auswirkt. Gerade im öffentlichen Raum kommen Machtverhältnisse sowie patriarchale Strukturen zutage. \nAnhand konkreter Beispiele (z. B. Männer nehmen Raum in Besitz (Breitbeiniges Sitzen in öffentlichen Verkehrsmitteln\, nicht Ausweichen auf Gehsteigen\, laute grölende Männergruppen\, anzügliche Blicke\, Anmachen\, verbale\, abfällige Bemerkungen\, Beschimpfungen\, rassistische und sexistische Äußerungen etc…) werden Erfahrungen ausgetauscht und Strategien zum Umgang erarbeitet. \nDie Veranstaltung ist für Frauen \nAnmeldung an pr@frauenhetz.at
URL:https://www.femvents.at/event/workshop-sexismus-im-alltag-gegenstrategien-und-konkrete-handlungsmoeglichkeiten/
LOCATION:Frauenhetz\, Untere Weißgerberstraße 41\, Wien\, 1030
CATEGORIES:Wien,Workshop
ATTACH;FMTTYPE=image/png:https://www.femvents.at/wp-content/uploads/2025/08/Facebook-Veranstaltung5.png
GEO:48.2085132;16.3946651
X-APPLE-STRUCTURED-LOCATION;VALUE=URI;X-ADDRESS=Frauenhetz Untere Weißgerberstraße 41 Wien 1030;X-APPLE-RADIUS=500;X-TITLE=Untere Weißgerberstraße 41:geo:16.3946651,48.2085132
END:VEVENT
BEGIN:VEVENT
DTSTART;TZID=Europe/Vienna:20250927T103000
DTEND;TZID=Europe/Vienna:20250927T150000
DTSTAMP:20260423T002457
CREATED:20250922T135931Z
LAST-MODIFIED:20250922T135931Z
UID:10000306-1758969000-1758985200@www.femvents.at
SUMMARY:Hormonyoga Workshop
DESCRIPTION:Hormonyoga nach Dinah Rodrigues ist ein ganzheitliches Übungssystem\, das speziell für Frauen entwickelt wurde. Durch eine Kombination aus dynamischen Yogaübungen\, Atemtechniken\, Energielenkung und Tiefenentspannung wird die Hormonproduktion auf natürliche Weise angeregt und reguliert. \nOb bei Zyklusunregelmäßigkeiten\, PMS\, Kinderwunsch oder in den Wechseljahren – die Praxis hilft\, das hormonelle Gleichgewicht zu stärken und typische Beschwerden zu lindern. Gleichzeitig schenkt sie mehr Energie\, Gelassenheit und Verbindung zum eigenen Körper. \nDieser Workshop ist für alle Frauen geeignet\, die sich mehr Balance\, Wohlbefinden und Vitalität im Alltag wünschen. Vorkenntnisse sind nicht notwendig.
URL:https://www.femvents.at/event/hormonyoga-workshop-2/
LOCATION:worqspace Salzburg\, Auerspergstraße 56\, Auerspergstraße 56\, Salzburg\, 5020\, Austria
CATEGORIES:Frauenkreis,Salzburg,Sport,Workshop
ATTACH;FMTTYPE=image/jpeg:https://www.femvents.at/wp-content/uploads/2025/09/IMG_2306-scaled.jpeg
GEO:47.8053788;13.0505446
X-APPLE-STRUCTURED-LOCATION;VALUE=URI;X-ADDRESS=worqspace Salzburg Auerspergstraße 56 Auerspergstraße 56 Salzburg 5020 Austria;X-APPLE-RADIUS=500;X-TITLE=Auerspergstraße 56:geo:13.0505446,47.8053788
END:VEVENT
BEGIN:VEVENT
DTSTART;TZID=Europe/Vienna:20250927T130000
DTEND;TZID=Europe/Vienna:20250927T163000
DTSTAMP:20260423T002457
CREATED:20250616T072615Z
LAST-MODIFIED:20250910T104438Z
UID:10000052-1758978000-1758990600@www.femvents.at
SUMMARY:Aus der Kraft der Weiblichkeit schöpfen
DESCRIPTION:Im kleinen Frauenkreis. \nBegrenzte Teilnehmerzahl um auf jede Frau eingehen zu können. \nEs wird auch geräuchert zum Workshop.
URL:https://www.femvents.at/event/aus-der-kraft-der-weiblichkeit-schoepfen-3/
LOCATION:Wels\, Schubertstr. 9\, Wels\, Wels\, 4600\, Austria
CATEGORIES:Frauenkreis,Oberösterreich,Workshop
ATTACH;FMTTYPE=image/png:https://www.femvents.at/wp-content/uploads/2025/06/Aus-der-Kraft-der-Weiblichkeit-schoepfen-Mit-Raeucherwerken_20250607_204748_0000-2.png
ORGANIZER;CN="Kraftplatz M%C3%BChlberger":MAILTO:kraftplatz.muehlberger@gmx.at
GEO:48.163701;14.0233625
X-APPLE-STRUCTURED-LOCATION;VALUE=URI;X-ADDRESS=Wels Schubertstr. 9 Wels Wels 4600 Austria;X-APPLE-RADIUS=500;X-TITLE=Schubertstr. 9:geo:14.0233625,48.163701
END:VEVENT
END:VCALENDAR