BEGIN:VCALENDAR
VERSION:2.0
PRODID:-//femvents.at - ECPv6.15.18//NONSGML v1.0//EN
CALSCALE:GREGORIAN
METHOD:PUBLISH
X-ORIGINAL-URL:https://www.femvents.at
X-WR-CALDESC:Veranstaltungen für femvents.at
REFRESH-INTERVAL;VALUE=DURATION:PT1H
X-Robots-Tag:noindex
X-PUBLISHED-TTL:PT1H
BEGIN:VTIMEZONE
TZID:Europe/Vienna
BEGIN:DAYLIGHT
TZOFFSETFROM:+0100
TZOFFSETTO:+0200
TZNAME:CEST
DTSTART:20240331T010000
END:DAYLIGHT
BEGIN:STANDARD
TZOFFSETFROM:+0200
TZOFFSETTO:+0100
TZNAME:CET
DTSTART:20241027T010000
END:STANDARD
BEGIN:DAYLIGHT
TZOFFSETFROM:+0100
TZOFFSETTO:+0200
TZNAME:CEST
DTSTART:20250330T010000
END:DAYLIGHT
BEGIN:STANDARD
TZOFFSETFROM:+0200
TZOFFSETTO:+0100
TZNAME:CET
DTSTART:20251026T010000
END:STANDARD
BEGIN:DAYLIGHT
TZOFFSETFROM:+0100
TZOFFSETTO:+0200
TZNAME:CEST
DTSTART:20260329T010000
END:DAYLIGHT
BEGIN:STANDARD
TZOFFSETFROM:+0200
TZOFFSETTO:+0100
TZNAME:CET
DTSTART:20261025T010000
END:STANDARD
END:VTIMEZONE
BEGIN:VEVENT
DTSTART;TZID=Europe/Vienna:20250929T160000
DTEND;TZID=Europe/Vienna:20250929T190000
DTSTAMP:20260422T224238
CREATED:20250916T063413Z
LAST-MODIFIED:20250916T063413Z
UID:10000290-1759161600-1759172400@www.femvents.at
SUMMARY:Digifit - Alle meine Apps. Kommunikation & Zusammenarbeit.
DESCRIPTION:Eine App ist ein Mini-Programm\, das auf dem Smartphone oder Tablet installiert werden kann. Manche Apps kosten erst einmal nichts. Bestimmte Funktionen müssen dann aber bezahlt werden. In diesem Webinar lernen Sie unterschiedliche Apps kennen\, Sie erfahren\, worauf Sie beim Download achten sollten und befassen sich mit den Einstellungen einzelner Apps. Auch E-Mail-Konten\, das Erstellen von pdfs\, der Datentransfer oder Sprachassistenten sind Themen des ­Webinars. Sie erhalten Tipps und machen die Übungen direkt online. \nOnline via zoom. Den Link zur Teilnahme erhalten Sie nach Anmeldung. \nDie Veranstaltung ist kostenlos\, bitte melden Sie sich an. \nEine Veranstaltung von \nFrau & Arbeit gGmbH\nSterneckstraße 31/3\n5020 Salzburg \nwww.frau-und-arbeit.at
URL:https://www.femvents.at/event/digifit-alle-meine-apps-kommunikation-zusammenarbeit-2/
LOCATION:Webinar\, Online via Zoom
CATEGORIES:Coaching
ATTACH;FMTTYPE=image/jpeg:https://www.femvents.at/wp-content/uploads/2025/09/digifit_foto_neu-5.jpg
ORGANIZER;CN="Frau &amp%3B Arbeit":MAILTO:b.karl@frau-und-arbeit.at
END:VEVENT
END:VCALENDAR