BEGIN:VCALENDAR
VERSION:2.0
PRODID:-//femvents.at - ECPv6.15.18//NONSGML v1.0//EN
CALSCALE:GREGORIAN
METHOD:PUBLISH
X-WR-CALNAME:femvents.at
X-ORIGINAL-URL:https://www.femvents.at
X-WR-CALDESC:Veranstaltungen für femvents.at
REFRESH-INTERVAL;VALUE=DURATION:PT1H
X-Robots-Tag:noindex
X-PUBLISHED-TTL:PT1H
BEGIN:VTIMEZONE
TZID:Europe/Vienna
BEGIN:DAYLIGHT
TZOFFSETFROM:+0100
TZOFFSETTO:+0200
TZNAME:CEST
DTSTART:20240331T010000
END:DAYLIGHT
BEGIN:STANDARD
TZOFFSETFROM:+0200
TZOFFSETTO:+0100
TZNAME:CET
DTSTART:20241027T010000
END:STANDARD
BEGIN:DAYLIGHT
TZOFFSETFROM:+0100
TZOFFSETTO:+0200
TZNAME:CEST
DTSTART:20250330T010000
END:DAYLIGHT
BEGIN:STANDARD
TZOFFSETFROM:+0200
TZOFFSETTO:+0100
TZNAME:CET
DTSTART:20251026T010000
END:STANDARD
BEGIN:DAYLIGHT
TZOFFSETFROM:+0100
TZOFFSETTO:+0200
TZNAME:CEST
DTSTART:20260329T010000
END:DAYLIGHT
BEGIN:STANDARD
TZOFFSETFROM:+0200
TZOFFSETTO:+0100
TZNAME:CET
DTSTART:20261025T010000
END:STANDARD
END:VTIMEZONE
BEGIN:VEVENT
DTSTART;VALUE=DATE:20251003
DTEND;VALUE=DATE:20251006
DTSTAMP:20260422T235512
CREATED:20250905T121924Z
LAST-MODIFIED:20250930T124112Z
UID:10000237-1759449600-1759708799@www.femvents.at
SUMMARY:Bergcamp für Frauen im Gesäuse
DESCRIPTION:An alle Frauen mit Bergsehnsucht\n\n\nDu musst keine Superheldin sein\, um loszugehen.\n\n\n\n\n\nDu möchtest als Berg-Newbie einen Safe-Space unter Gleichgesinnten\, in dem du neue Erfahrungen sammeln\, viel lernen und dich ausprobieren kannst? \nDann lass uns gemeinsam entdecken\, was alles in dir steckt und dein Berg-Wissen aufs nächste Level heben. Ohne Leistungsdruck\, aber mit jeder Menge Rückenwind! \n\n\n\n\n\n\n⛰️ ⛰️ ⛰️ \nHi\, ich bin Sabine … passionierte Solo-Hikerin & Bergwanderführerin für Frauen. Und ich bin es Leid\, dass der Outdoor-Sport von sehr viel Ego geprägt ist. Darum begleite ich Frauen in die Berge und zeige ihnen wie sie selbstbestimmt und so sicher wie möglich draußen unterwegs sein können. Ohne Leistungsdruck\, dafür mit ganz viel Rückenwind! \n⛰️ ⛰️ ⛰️ \nIn 3 Tagen von „kein Plan“ zu „let’s go“\n\n\n\n\n\n\nBeim Bergcamp von Freitag\, 3. bis Sonntag 5. Oktober 2025  erwarten dich … \n⛰️ 3 Tage in den Bergen des Nationalpark Gesäuse (Steiermark) \n\n\n\n\n\n⛰️ 2 Nächte auf der Grabneralm auf 1.395m Seehöhe \n\n\n⛰️ 3 geführte Wanderungen \n⛰️ jede Menge Berg-Wissen in der Theorie & Praxis \n\n\n⛰️ eine kleine Gruppe mit max. 6 Teilnehmerinnen (female only) \n\n\n\nMit dem Bergcamp legst du den Grundstein für deine künftigen Bergabenteuer\, die du so planen und gestalten kannst\, wie es für dich passt und gut anfühlt. Egal ob alleine\, mit anderen Berg-Newbies oder erfahrenen Bergfexen. Dafür sorgt die Mischung aus theoretischem Berg-Know-How und dem Erleben und Anwenden des Gelernten direkt in den Bergen. \nNeben dem Erlebnis in den Bergen gibt es genug Raum für Austausch\, Lernen und natürlich gemütliches Beisammensein beim Bestaunen und Genießen der imposanten Bergwelt! \n\nUnd nach dem Bergcamp…\n\n\n🥾 weißt du\, worauf es bei der Vorbereitung & Planung ankommt. \n\n\n🥾 hast du ein besseres Gefühl dafür\, was du konditionell schaffen kannst. \n\n\n🥾 kennst du jede Menge Hacks\, wie du dich in den Bergen zurecht findest. \n\n\n🥾 weißt du\, wie es ist\, auf einer Berghütte zu übernachten. \n\n\n🥾 hast du den Grundstein gelegt\, für deine nächsten persönlichen Bergabenteuer! \n\nWeil meine Bergcamps heuer zum ersten Mal stattfinden\, kannst du sie zum rabattierten Preis buchen. Im Gegenzug freue ich mich auf deine aktive Mitarbeit und dein Feedback! \nAngebot für das Bergcamp 2025: € 270\,00\n(Umsatzsteuerfrei aufgrund der Kleinunternehmerregelung). \nZusätzlich fallen die Kosten für die Nächtigung auf der Hütte\, die Verpflegung und die Anreise. \nMehr Infos zum Ablauf findest du hier:\nhttps://www.die-bergmentorin.at/bergcamp/gesaeuse-grabneralm/ \nLass uns gemeinsam den Outdoor-Sport neu denken! Ich freu mich auf dich.
URL:https://www.femvents.at/event/bergcamp-fuer-frauen-im-gesaeuse/
LOCATION:Gesäuse\, Gesäuse\, Steiermark\, Austria
CATEGORIES:Kurs,Sport,Steiermark,Workshop
ATTACH;FMTTYPE=image/png:https://www.femvents.at/wp-content/uploads/2025/09/dBM-Titelbild-Femvents.at_Gesaeuse.png
ORGANIZER;CN="Sabine Artmayr":MAILTO:schreib-an@die-bergmentorin.at
GEO:47.5950951;14.503304
END:VEVENT
BEGIN:VEVENT
DTSTART;TZID=Europe/Vienna:20251003T140000
DTEND;TZID=Europe/Vienna:20251003T170000
DTSTAMP:20260422T235512
CREATED:20250829T095706Z
LAST-MODIFIED:20250910T104645Z
UID:10000214-1759500000-1759510800@www.femvents.at
SUMMARY:Meine Grenzen\, meine Stärken - Wie ich Diskriminierung mit Mut begegne
DESCRIPTION:Grenzen setzen ist Selbstfürsorge – und dein gutes Recht! \nWie reagiere ich souverän auf rassistische oder sexistische Kommentare? Wie erkenne ich überhaupt\, wenn meine Grenzen überschritten werden – von anderen oder sogar von mir selbst? \nEin diskriminierender Spruch auf der Straße\, ein abwertender Kommentar im Job – solche Situationen hinterlassen oft Frust und Hilflosigkeit. \nBeim praxisorientierten Event von LANA unterstützt dich Camilla Harfmann\, Kommunikationstrainerin und dipl. psychosoziale Beraterin\, dabei\, deine eigenen Grenzen klarer zu erkennen und sie selbstbewusst zu setzen. \nIn einem geschützten Rahmen („Safe Space“) kannst du dich mit anderen Frauen austauschen\, Erfahrungen teilen und neue Strategien entwickeln – für mehr innere Stärke im Alltag. \nDanach basteln wir zusammen kreative Armbänder\, um eine Erinnerung an unsere Grenzen stets bei uns zu tragen! \nNach 17:00 ist Open-End: so bleibt noch genug Zeit für den persönlichen Austausch und ein gemütliches Miteinander! \nFür wen ist die Veranstaltung geeignet? \nFür Frauen* mit und ohne Migrationshintergrund in allen Altersgruppen \nSei dabei – wir freuen uns auf dich! \nInstagram: @lana_wirkt \nFacebook: LANA \nWebsite: www.lana-frauen.at
URL:https://www.femvents.at/event/meine-grenzen-meine-staerken-wie-ich-diskriminierung-mit-mut-begegne/
LOCATION:Bewohnerservice Lehen\, Strubergasse 27 A\, Salzburg\, 5020\, Austria
CATEGORIES:Coaching,Frauenkreis,Netzwerk-Treffen,Salzburg,Workshop
ATTACH;FMTTYPE=image/png:https://www.femvents.at/wp-content/uploads/2025/08/Bildschirmfoto-2025-08-29-um-11.53.12.png
ORGANIZER;CN="LANA":MAILTO:kontakt@lana-frauen.at
GEO:47.8087874;13.0302166
X-APPLE-STRUCTURED-LOCATION;VALUE=URI;X-ADDRESS=Bewohnerservice Lehen Strubergasse 27 A Salzburg 5020 Austria;X-APPLE-RADIUS=500;X-TITLE=Strubergasse 27 A:geo:13.0302166,47.8087874
END:VEVENT
BEGIN:VEVENT
DTSTART;TZID=Europe/Vienna:20251003T150000
DTEND;TZID=Europe/Vienna:20251003T180000
DTSTAMP:20260422T235512
CREATED:20250925T071328Z
LAST-MODIFIED:20250925T071328Z
UID:10000329-1759503600-1759514400@www.femvents.at
SUMMARY:Lebenskräfte Aufstellung
DESCRIPTION:Viele von uns leben in Routinen und erkennen oft nicht\, welche Verhaltensmuster\, Glaubenssätze und Gedanken uns dienlich sind und welche uns Probleme bereiten. Die Lebenskräfte-Aufstellungen bieten eine einzigartige Möglichkeit\, aus der alltäglichen Routine auszubrechen und belastende Themen aus neuen Blickwinkeln zu betrachten.\n\n\n\n\nAblauf:\n\nDie Aufstellung findet in einer Gruppe von 5 -10 Personen statt.\nEin Teilnehmer (der Themenbringer) stellt sein persönliches Thema für die Gruppe zur Verfügung.\nDie anderen Teilnehmer sind entweder als Beobachter oder als aufgestellte Lebenskraft dabei. Jeder Teilnehmer holt sich seinen Puzzleteil ab und bekommt die passende Rolle auch für sein Thema.\nDurch diese freie Form der Aufstellungsarbeit können Zusammenhänge erkannt und tiefgreifende persönliche Entwicklungen ermöglicht werden.\n\nWichtiger Hinweis: Bitte beachten Sie\, dass es sich bei den Lebenskräfte-Aufstellungen nicht um Familienaufstellungen handelt. Es werden keine Ahnen oder ähnliche Elemente aufgestellt\, sondern es geht um die relevanten Lebenskräfte. \nTermin:  \nFreitag\, 3. Oktober 2025 von 15 bis 18 Uhr \n90 Euro für Themenbringer\n0 Euro für Repräsentanten
URL:https://www.femvents.at/event/lebenskraefte-aufstellung/
LOCATION:Verein Spektrum Gallneukirchen\, Reichenauer Straße 14\, Gallneukirchen\, Oberösterreich\, 4210\, Austria
CATEGORIES:Oberösterreich,Workshop
ATTACH;FMTTYPE=image/jpeg:https://www.femvents.at/wp-content/uploads/2025/09/20231011_072834-scaled.jpg
ORGANIZER;CN="Petra G%C3%B6weil Praxis f%C3%BCr Kinesiologie und Cranio":MAILTO:praxis@petra-goeweil.at
GEO:48.35476;14.4139812
X-APPLE-STRUCTURED-LOCATION;VALUE=URI;X-ADDRESS=Verein Spektrum Gallneukirchen Reichenauer Straße 14 Gallneukirchen Oberösterreich 4210 Austria;X-APPLE-RADIUS=500;X-TITLE=Reichenauer Straße 14:geo:14.4139812,48.35476
END:VEVENT
BEGIN:VEVENT
DTSTART;TZID=Europe/Vienna:20251003T150000
DTEND;TZID=Europe/Vienna:20251003T180000
DTSTAMP:20260422T235512
CREATED:20250929T085123Z
LAST-MODIFIED:20250929T085123Z
UID:10000336-1759503600-1759514400@www.femvents.at
SUMMARY:Frauenkreis in der Natur
DESCRIPTION:When women gather in circles\, magic happens. \nIch lade dich von Herzen ein zum Frauenkreis in der Natur zum Jahreskreisfest Mabon.\nEin Frauenkreis ist ein sicher gehaltener Raum\, in dem alles kann und nichts muss. Wir treffen uns draußen\, im Kreis um ein Lagerfeuer\, auf Herzebene.\nEtwas in die kommt zur Ruhe\, dein Nervensystem entspannt sich. Durch feine Rituale und Impulse kannst du tief tauchen und so wieder ein Stück weiter bei dir ankommen. \nFrauenkreise in der Natur zu besuchen ist immer wieder wundervoll. Durch die achtsame Begleitung kommst du in Verbindung zu der Natur\, zu den Frauen um dich herum und zu DIR.\nLet´s grow together! \nWenn du noch Fragen hast\, melde dich gern!\nJudith
URL:https://www.femvents.at/event/frauenkreis-in-der-natur/
LOCATION:Gruabhof\, Lahntal 13\, Tirol\, Austria
CATEGORIES:After Work,Frauenkreis,Tirol,Workshop
ATTACH;FMTTYPE=image/jpeg:https://www.femvents.at/wp-content/uploads/2025/09/frauenkreis.jpg
GEO:47.4754916;12.0299432
X-APPLE-STRUCTURED-LOCATION;VALUE=URI;X-ADDRESS=Gruabhof Lahntal 13 Tirol Austria;X-APPLE-RADIUS=500;X-TITLE=Lahntal 13:geo:12.0299432,47.4754916
END:VEVENT
BEGIN:VEVENT
DTSTART;TZID=Europe/Vienna:20251003T170000
DTEND;TZID=Europe/Vienna:20251003T200000
DTSTAMP:20260422T235512
CREATED:20250925T060146Z
LAST-MODIFIED:20250925T060146Z
UID:10000321-1759510800-1759521600@www.femvents.at
SUMMARY:THE:Workshop - Lebe deine Grenzen\, gestalte echte Beziehungen
DESCRIPTION:❣️Wir lernen schon früh\, unsere eigenen Bedürfnisse zugunsten von Familie\, Gemeinschaft oder Partner:innenschaften zurückzustellen. Das kann dazu führen\, dass wir den Kontakt zu unserem inneren „Ja“ oder „Nein“ verlieren und uns schwer tun\, gesunde Grenzen zu setzen.\n❗🪄 Dieser Workshop hilft dir\, die Basis für eine tiefe Verbindung zu dir selbst zu legen. \n🦸🏽‍♀️ Wir erforschen gemeinsam\, wie Grenzen deine Werte und Bedürfnisse schützen können und warum sie die Grundlage für echte Beziehungen sind. Du lernst\, deine eigenen Bedürfnisse wahrzunehmen\, für dich einzustehen und kraftvoll „Nein“ zu sagen\, wenn es nötig ist. 🏆🙋🏽‍♀️ \n📌// Was? THE:Workshop – Lebe deine Grenzen\n⏰ // Wann? Fr\, 3.10.2025\, 17 Uhr\n📍// Wo? sbase\, Herbeckstraße 67/1\, 1180 Wien \n👩🏻// mit? Felicia Nagel\n👸🏻// Wer? Für alle Frauen und als Frauen gelesene Personen\n💰// kostenlos für Sorority Mitglieder – Sorority Jahresmitgliedschaft €48\,-
URL:https://www.femvents.at/event/theworkshop-lebe-deine-grenzen-gestalte-echte-beziehungen/
LOCATION:sbase\, Herbeckstraße 67/1\, wien\, Wien\, 1180\, Austria
CATEGORIES:After Work,Coaching,Kurs,Wien
ATTACH;FMTTYPE=image/jpeg:https://www.femvents.at/wp-content/uploads/2025/09/548800053_1218265537004527_5851295963882200489_n.jpg
ORGANIZER;CN="THE%3ASorority":MAILTO:events@sorority.at
GEO:48.2322203;16.318681
X-APPLE-STRUCTURED-LOCATION;VALUE=URI;X-ADDRESS=sbase Herbeckstraße 67/1 wien Wien 1180 Austria;X-APPLE-RADIUS=500;X-TITLE=Herbeckstraße 67/1:geo:16.318681,48.2322203
END:VEVENT
BEGIN:VEVENT
DTSTART;TZID=Europe/Vienna:20251003T170000
DTEND;TZID=Europe/Vienna:20251003T200000
DTSTAMP:20260422T235512
CREATED:20250925T183408Z
LAST-MODIFIED:20250925T183408Z
UID:10000334-1759510800-1759521600@www.femvents.at
SUMMARY:Innere Haltung und Selbstbewusstsein stärken
DESCRIPTION:Manchmal brauchen wir… \n\nmehr Abgrenzung\nweniger Selbstzweifel\nmehr Klarheit\n\nGenau darum geht es in meinem Live-Workshop in Tulln. ✨ \nDu lernst\, dich mental zu stärken\, deine innere Haltung aufzubauen und souverän in Gesprächen aufzutreten. \n💪 Es geht nicht um „lauter sein“\, sondern um echte innere Stärke – damit du Grenzen setzen kannst\, ohne Schuldgefühle\, und mit klarer Wirkung nach außen auftrittst. \n📅 Wann? 3. Oktober 2025\, 17-20 Uhr\n📍 Wo? Rathaus Tulln\, 3430 Tulln an der Donau\, 1. Stock \n👉 Kleine\, begrenzte Gruppe – sichere dir jetzt deinen Platz:\n🔗 https://sereina-senninger.thrivecart.com/selbstbewusst/ \n📩 Kontakt:\nMag. Sereina Senninger\nNLP Master & Mentaltrainerin\n✉️ info@sereina-senninger.com\n🌐 www.sereina-senninger.com \nInteresse\, dennoch am 3.10. verhindert? Dann sei beim nächsten Online Webinar am 8.10. dabei in Kooperation mit @kompetenzsprung.at Anmeldung unter https://www.kompetenzsprung.at/kurse/Kostenfreies-Webinar-mit-Sereina-Senninger-p767964682/ \nIch freue mich auf dich! 🤩
URL:https://www.femvents.at/event/innere-haltung-und-selbstbewusstsein-staerken/
CATEGORIES:Coaching,Niederösterreich,Workshop
ATTACH;FMTTYPE=image/png:https://www.femvents.at/wp-content/uploads/2025/09/Workshop-Selbstbewusstsein-und-innere-Haltung-staerken.png
END:VEVENT
BEGIN:VEVENT
DTSTART;TZID=Europe/Vienna:20251003T183000
DTEND;TZID=Europe/Vienna:20251003T210000
DTSTAMP:20260422T235512
CREATED:20250911T192746Z
LAST-MODIFIED:20250911T192746Z
UID:10000267-1759516200-1759525200@www.femvents.at
SUMMARY:Soul-Business Circle "Selbstliebe & Sichtbarkeit im Business"
DESCRIPTION:Soul\, Connection & Business\nDoing Business The Soulful Way. \nDu hast eine Vision. Ein Herzensbusiness. Du spürst tief in dir\, dass du etwas zu geben hast und dass dein Business mehr ist als Strategie und Zahlen. Auf deinem Weg bemerkst du\, dass dein Business vor allem etwas mit dir zu tun hat\, mit deiner Energie\, mit deinem Mindset. Und du spürst\, dass dein Soul-Business dich testet und dich mit deinen Themen konfrontiert. Du erkennst\, dass dein Businesswachstum auch gleichzeitig dein persönliches Wachstum bedeutet\, was eine Herausforderung und gleichzeitig dein größtes Geschenk sein kann. \nDieser Circle is all about Selbstliebe & Sichtbarkeit.  \nVielleicht erkennst du den ein oder anderen Gedanken: \n„Kann ich das wirklich machen?“ „Kann ich das so sagen?“  „Was denken die anderen von mir?“ „Wenn ich mich auf Instagram vergleiche\, fühle ich mich mies.“ „Andere sind schon viel weiter.“ „Mir fällt es schwer mich zu zeigen.“ „Ich bin nicht gut genug.“ „Ich mag mein Aussehen nicht.“ „Andere sind viel hübscher.“ „Ich darf noch ein paar Kilo abnehmen\, dann ist es okay.“ „Ich mag meine Stimme nicht\, wenn ich in die Kamera spreche.“  \nDieser Circle ist eine Aufladestation für dich mit einer großen Portion Selbstliebe und Empowerment für dich\, dein Business\, deine Sichtbarkeit.  \nDu wirst dich danach mit anderen Augen sehen und vor allem anders FÜHLEN. ❤️ \nSei willkommen in einem Kreis von Frauen\, wo du herzlich aufgenommen wirst\, genauso wie du bist. Ein Raum\, um ganz du selbst zu sein\, ein Umfeld\, das dich stärkt und für dich ist. \nIm Soul-Business Circle geht es um echte Begegnungen\, die auf Ehrlichkeit\, Vertrauen und tiefem Austausch basieren. Es geht um das Wachstum\, das von innen kommt – um Business\, das sich leicht\, klar und erfüllend anfühlt. \nDieser Raum ist für dich. Vielleicht bist du Mama\, die sich gerade etwas aufbaut\, vielleicht ist dein Business gerade dein Baby\,  vielleicht bist du bist Fotografin\, Yoga Teacher\, Humanenergetikerin\, Doula\, Friseurin\, hast einen Laden\, ein  Café oder bist Rechtsanwältin – dieser Raum ist für dich. Von Herz zu Herz. Unabhängig von Branche\, Alter und Businessdauer. Hier findest du einen Raum der dich und dein Business nährt. \n\n\nWas dir der Soul-Business Circle schenken kann…\n\n\n\n\n\nWenn du ein Business hast oder aufbauen möchtest\, das\n\n✔ authentisch ist und mit deinen Werten im Einklang steht\n✔ dich tief erfüllt und gleichzeitig erfolgreich ist\n✔ echte Verbindungen & Support statt Konkurrenz lebt\n✔deine Kreativität und persönliche Entfaltung fördert\n✔ Business-Wissen mit Mindset- und Energiearbeit kombiniert \n\n\n\n\n\n\n\nWas du hier findest\n\n✔ Impulse & Wissen – Inspiration für dein persönliches Wachstum und dein Business-Wachstum \n✔ Tiefe Verbindung – Austausch auf Herzensebene mit Gleichgesinnten \n✔ Energie & Ausrichtung – Rituale\, Meditation für tiefe Selbstliebe & Business-Spirit \n✔ Mut & Empowerment – Für deine nächsten Schritte in die Sichtbarkeit \n\n\n\n\n\n\n\nWas dich erwartet\n\n✔ Geführt von Herz & Strategie: Meditationen\, Rituale\, Journaling\, Manifestation\, Mindset-Impulse \n✔ Business-Talk & Networking –  mit Tiefgang \n✔ Energetische Practices – um Klarheit\, Vertrauen & Mut zu stärken \n✔ Reflexion & Austausch – denn jede Erfahrung ist ein Geschenk \n  \n\n\n\nOrt & Zeit\nFreitag\, 03.10.2025 (18:30-21:00) \nThe Soul Space Salzburg (Alexander-Girardi-Straße 39\, 5020 Salzburg) \n\n  \nJoin the Tribe! Ich freue mich auf dich! \n  \nVon Herz zu Herz \ndeine Katrin Anna \nSpiritual Life & Business Coachin \nMehr Infos unter: www.katrinannahauser.com \n 
URL:https://www.femvents.at/event/soul-business-circle-selbstliebe-sichtbarkeit-im-business/
LOCATION:The Soul Space\, Alexander-Girardi-Straße 39\, Salzburg\, 5020
CATEGORIES:Frauenkreis,Netzwerk-Treffen,Salzburg
ATTACH;FMTTYPE=image/png:https://www.femvents.at/wp-content/uploads/2025/09/Soul-Business-Circle-5.png
ORGANIZER;CN="Katrin Anna Hauser":MAILTO:hallo@katrinannahauser.com
GEO:47.8014154;13.0448441
X-APPLE-STRUCTURED-LOCATION;VALUE=URI;X-ADDRESS=The Soul Space Alexander-Girardi-Straße 39 Salzburg 5020;X-APPLE-RADIUS=500;X-TITLE=Alexander-Girardi-Straße 39:geo:13.0448441,47.8014154
END:VEVENT
END:VCALENDAR