BEGIN:VCALENDAR
VERSION:2.0
PRODID:-//femvents.at - ECPv6.15.18//NONSGML v1.0//EN
CALSCALE:GREGORIAN
METHOD:PUBLISH
X-ORIGINAL-URL:https://www.femvents.at
X-WR-CALDESC:Veranstaltungen für femvents.at
REFRESH-INTERVAL;VALUE=DURATION:PT1H
X-Robots-Tag:noindex
X-PUBLISHED-TTL:PT1H
BEGIN:VTIMEZONE
TZID:Europe/Vienna
BEGIN:DAYLIGHT
TZOFFSETFROM:+0100
TZOFFSETTO:+0200
TZNAME:CEST
DTSTART:20240331T010000
END:DAYLIGHT
BEGIN:STANDARD
TZOFFSETFROM:+0200
TZOFFSETTO:+0100
TZNAME:CET
DTSTART:20241027T010000
END:STANDARD
BEGIN:DAYLIGHT
TZOFFSETFROM:+0100
TZOFFSETTO:+0200
TZNAME:CEST
DTSTART:20250330T010000
END:DAYLIGHT
BEGIN:STANDARD
TZOFFSETFROM:+0200
TZOFFSETTO:+0100
TZNAME:CET
DTSTART:20251026T010000
END:STANDARD
BEGIN:DAYLIGHT
TZOFFSETFROM:+0100
TZOFFSETTO:+0200
TZNAME:CEST
DTSTART:20260329T010000
END:DAYLIGHT
BEGIN:STANDARD
TZOFFSETFROM:+0200
TZOFFSETTO:+0100
TZNAME:CET
DTSTART:20261025T010000
END:STANDARD
END:VTIMEZONE
BEGIN:VEVENT
DTSTART;TZID=Europe/Vienna:20251011T090000
DTEND;TZID=Europe/Vienna:20251011T160000
DTSTAMP:20260422T224240
CREATED:20250819T133111Z
LAST-MODIFIED:20250910T104834Z
UID:10000185-1760173200-1760198400@www.femvents.at
SUMMARY:Glücksspross Workshop
DESCRIPTION:Ein ganztägiger Erlebnis-Workshop für inneres Wachstum\, mentales Wohlbefinden & echtes Lebensglück – mit Herz\, Tiefgang und Leichtigkeit.\nEin Tag voller Impulse\, Übungen & Aha-Momente \n​Stell dir vor\, dein Glück wächst – wie ein zarter Spross\, genährt von neuen Gedanken\, kleinen Veränderungen und bewusster Achtsamkeit. Genau hier setzt der Workshop „Glücksspross“ an: Ein ganztägiger Erlebnis-Workshop in einer wertschätzenden Gruppe\, der dein mentales Wohlbefinden stärkt – mit viel Herz\, Tiefgang und Leichtigkeit. \nKennst du dieses Gefühl? \n\nDu fühlst dich nicht wirklich glücklich\, kannst aber schwer benennen\, woran es liegt – geschweige denn\, wie du etwas ändern könntest?\nDu funktionierst im Alltag – aber das echte „Ich“ bleibt oft auf der Strecke?\nDu bist ständig für andere da\, aber vergisst dabei dich selbst?\nDu spürst\, dass in dir mehr steckt\, doch dir fehlt die Klarheit oder der Mut\, es zu leben?\nDu sehnst dich nach mehr Leichtigkeit\, innerer Ruhe und Zufriedenheit – weißt aber nicht\, wo du anfangen sollst?\n\nWas erwartet dich? \n\nPraktische Übungen & Impulse aus der Positiven Psychologie\nMentales Training\, das deine Gedanken in eine neue Richtung lenkt\nStärkung des Selbst-Bewusstseins – erkenne deine Werte\, Stärken & Lebensbereiche\nBlockierende Glaubenssätze auflösen und Gedanken bewusst steuern\nEin sinnstiftendes Ritual: Du pflanzt deinen persönlichen „Glücksspross“\nDeine ganz persönliche Glücksliste erstellen – als Kraftquelle für graue Tage\nStrategien gegen Stress & einfache Entspannungstechniken für deinen Alltag\nZiele setzen\, Gewohnheiten verändern & mutig die Komfortzone verlassen\nAustausch\, Reflexion & Humor in vertrauensvoller Atmosphäre\n\nFür wen ist der Workshop geeignet? \nFür alle\, die… \n\nihr inneres Glück aktiv gestalten wollen\nsich selbst besser verstehen & bewusster leben möchten\neine wertvolle Pause vom Alltag suchen – aber mit Tiefgang\nsich mentale Stärke und mehr Klarheit wünschen\nLust auf persönliche Weiterentwicklung in angenehmer Runde haben\n\nFür wen ist der Workshop nicht geeignet? \nFür alle\, die… \n\nnichts in ihrem Leben verändern wollen\nein Format suchen\, bei dem sie sich nur berieseln lassen\nnicht an sich selbst arbeiten wollen\nnicht bereit sind sich selbst zu reflektieren\n\nInklusivleistungen – ein Tag nur für dich: \n\nGanztägiger Workshop mit diplomierter Mentaltrainerin in schönem Ambiente\nWorkshop-Unterlagen & weiterführende Infos für Zuhause\nMittagessen & Getränke\nPausenverpflegung\nGlücksspross-Goodie
URL:https://www.femvents.at/event/gluecksspross-workshop/
LOCATION:Soulgarden – Institut für seelische Gesundheit\, Aglassingerstraße 2\, Salzburg\, Salzburg\, 5023\, Austria
CATEGORIES:Salzburg,Workshop
ATTACH;FMTTYPE=image/jpeg:https://www.femvents.at/wp-content/uploads/2025/08/Header_Eventbrite_Gluecksspross2-scaled.jpg
ORGANIZER;CN="Melanie Hufnagl Gl%C3%BCcksspross Mentaltraining":MAILTO:melanie@gluecksspross-mentaltraining.com
GEO:47.8130636;13.067361
X-APPLE-STRUCTURED-LOCATION;VALUE=URI;X-ADDRESS=Soulgarden – Institut für seelische Gesundheit Aglassingerstraße 2 Salzburg Salzburg 5023 Austria;X-APPLE-RADIUS=500;X-TITLE=Aglassingerstraße 2:geo:13.067361,47.8130636
END:VEVENT
BEGIN:VEVENT
DTSTART;TZID=Europe/Vienna:20251011T090000
DTEND;TZID=Europe/Vienna:20251013T170000
DTSTAMP:20260422T224240
CREATED:20250918T140000Z
LAST-MODIFIED:20250930T124930Z
UID:10000294-1760173200-1760374800@www.femvents.at
SUMMARY:Aus-/Weiterbildung Neuro-Fuß-Reflex-Therapie - Praxis vertebralis
DESCRIPTION:✨ Neuro-Fußreflexzonentherapie – Praxis Vertebralis ✨Erlerne in diesem 3-Tage-Kurs  eine einzigartige Methode nach Lone Sorensen\, die über die Füße die Wirbelsäule reguliert – und damit den ganzen Körper in Balance bringt. \n👉 Vorteile der Methode:✅ Reguliert Wirbelsäule & Nervensystem✅ Unterstützt Organe & Drüsen✅ Löst Verspannungen & Schmerzen✅ Fördert emotionales Gleichgewicht & Stressabbau \n💡 Ganzheitlich\, nicht-invasiv und wissenschaftlich fundiert – ein wertvolles Werkzeug für Therapeut:innen und alle\, die Gesundheit umfassend verstehen möchten. \nKurstage: 11.-13. Okt. 2025 von 9.00 h bis 17.00 h
URL:https://www.femvents.at/event/aus-weiterbildung-neuro-fuss-reflex-therapie-praxis-vertebralis/
CATEGORIES:Kurs,Wien
ATTACH;FMTTYPE=image/png:https://www.femvents.at/wp-content/uploads/2025/09/footreflex.png
ORGANIZER;CN="Andrea Steinkellner Instruktorin der Neuro-Reflex-Therapien nach der Originalmethode Lone Sorensen":MAILTO:info@face-reflex.at
END:VEVENT
BEGIN:VEVENT
DTSTART;TZID=Europe/Vienna:20251011T143000
DTEND;TZID=Europe/Vienna:20251011T170000
DTSTAMP:20260422T224240
CREATED:20250919T092056Z
LAST-MODIFIED:20251002T111427Z
UID:10000301-1760193000-1760202000@www.femvents.at
SUMMARY:Kinderwunsch Kreis
DESCRIPTION:Kinderwunsch-Frauenkreis – in Verbindung kommen\, Kraft schöpfen\, vertrauen (wieder) lernen \nEin unerfüllter Kinderwunsch kann alles in Frage stellen – das eigene Frau-Sein\, die Partnerschaft\, das Vertrauen in den Körper\, manchmal sogar den Sinn. \nIn meinem Kinderwunsch-Frauenkreis schaffe ich einen geschützten Raum\, in dem du dich zeigen darfst. Mit allem\, was gerade da ist: Hoffnung. Zweifel. Trauer. Sehnsucht. Mut. \nWas ich dir mitbringe\, ist eine besondere Mischung – aus meiner Erfahrung als Doula\, Mentaltrainerin und Selbsterfahrungstrainerin: \nZwischen Wissen und Intuition\nIch teile fundiertes Wissen rund um den weiblichen Zyklus\, Fruchtbarkeit und Körperweisheit – und lade dich gleichzeitig ein\, deiner inneren Stimme wieder näherzukommen. \nZwischen Wissenschaft und Spiritualität\nIch respektiere medizinische Wege und Erkenntnisse ebenso wie Rituale\, Energiearbeit und die stille Kraft der Natur. \nZwischen mentaler Stärke und emotionalem Halt\nDu darfst dich getragen fühlen – und gleichzeitig deine innere Stärke (wieder) spüren. Mit Techniken aus dem Mentaltraining und Raum für ehrlichen Austausch. \nDer Frauenkreis ist für dich: \n\nwenn du dich allein fühlst mit deinem Weg\ndich mental\, emotional und körperlich stärken willst\nAustausch mit Gleichgesinnten suchst\nnicht nur Zahlen\, Daten und Diagnosen willst – sondern auch Seele\, Verbindung und Hoffnung\n\nDu bist nicht allein. Und du bist mehr als dein Kinderwunsch.
URL:https://www.femvents.at/event/kinderwunsch-kreis/
LOCATION:La Vie Coworking\, Wolf-Dietrich-Straße 9\, Salzburg\, Salzburg\, 5020\, Austria
CATEGORIES:Frauenkreis,Meetup,Salzburg,Workshop
ATTACH;FMTTYPE=image/png:https://www.femvents.at/wp-content/uploads/2025/09/Copy-of-Natural-Green-Organic-Eco-Friendly-Tips-Instagram-Carousel-Portrait-Post-Instagram-Post-45-Intro-4-2.png
ORGANIZER;CN="Doula Cynthia":MAILTO:Hallo@doulacynthia.com
GEO:47.8048508;13.047892
X-APPLE-STRUCTURED-LOCATION;VALUE=URI;X-ADDRESS=La Vie Coworking Wolf-Dietrich-Straße 9 Salzburg Salzburg 5020 Austria;X-APPLE-RADIUS=500;X-TITLE=Wolf-Dietrich-Straße 9:geo:13.047892,47.8048508
END:VEVENT
BEGIN:VEVENT
DTSTART;TZID=Europe/Vienna:20251011T150000
DTEND;TZID=Europe/Vienna:20251011T180000
DTSTAMP:20260422T224240
CREATED:20250906T132909Z
LAST-MODIFIED:20250910T104847Z
UID:10000244-1760194800-1760205600@www.femvents.at
SUMMARY:Meine Ressourcen - Kreative Selbsterfahrung für Frauen
DESCRIPTION:Eine Auszeit im Atelier\, um deine Ressourcen zu stärken: \n\nZeit und Raum für dich\num mit kunsttherapeutischen Methoden deine individuellen Kraft- und Energiequellen (wieder) zu entdecken und zu stärken\nAustausch und Wertschätzung\nin geschütztem Rahmen in einer Gruppe mit anderen Frauen\nKreative Methoden\nmit denen du ganz deiner Intuition folgend experimentieren und deine Themen\, Bedürfnisse\, Gefühle und Wünsche spüren und ausdrücken kannst\n\nGerade in Zeiten\, die uns herausfordern\, verlieren wir unsere Ressourcen aus dem Blick. Wir agieren in einem urzeitlichen Notfallmodus\, der alles darauf fokussiert zu „überleben“ und alles nicht Überlebensnotwendige ausblendet. Das macht einerseits Sinn\, führt aber andererseits dazu\, dass uns zunehmend die Kräfte fehlen\, mit diesen herausfordernden Situationen umgehen zu können. Ein Teufelskreis. \nJe besser du also deine Ressourcen kennst und vor allem auch aktivierst und lebst\, umso besser kannst du mit Belastungen umgehen. \nSich selbst kreativ auszudrücken ist eine wunderbare Möglichkeit\, um mit den ureigenen Ressourcen in Kontakt zu kommen\, die nicht so einfach mit dem Verstand oder mit Worten erreichbar sind. \nDazu brauchst du keine kreativen oder künstlerischen Vorkenntnisse. Kunsttherapeutische Methoden ermöglichen dir\, deinen ganz eigenen kreativen Ausdruck zu finden. \nAls Kunsttherapeutin und Psychosoziale Beraterin begleite ich dich in deinen Gestaltungs-Prozessen und in der Gruppe mit viel Einfühlungsvermögen und Erfahrung. \nIch freue mich auf dich! \nDeine Anne \nDipl.-Ing. Anne Lang\nKunsttherapeutin und Psychosoziale Beraterin für Gefühlsstärke\, Hochsensibilität\, Neurodivergenz & Burnout\nS-O-S Trainerin für Nervensystemregulation
URL:https://www.femvents.at/event/meine-ressourcen-kreative-selbsterfahrung-fuer-frauen/
LOCATION:Atelier Die Tischlerei Wien\, Gudrunstraße 25\, Wien\, Wien\, 1100\, Austria
CATEGORIES:Frauenkreis,Wien,Workshop
ATTACH;FMTTYPE=image/png:https://www.femvents.at/wp-content/uploads/2025/09/leuchtendbunt_Meine-Ressourcen_Herbst-2025_1.png
ORGANIZER;CN="Anne Lang | leuchtendbunt Kreativcoaching":MAILTO:anne.lang@leuchtendbunt.at
GEO:48.1755706;16.3914427
X-APPLE-STRUCTURED-LOCATION;VALUE=URI;X-ADDRESS=Atelier Die Tischlerei Wien Gudrunstraße 25 Wien Wien 1100 Austria;X-APPLE-RADIUS=500;X-TITLE=Gudrunstraße 25:geo:16.3914427,48.1755706
END:VEVENT
END:VCALENDAR