BEGIN:VCALENDAR
VERSION:2.0
PRODID:-//femvents.at - ECPv6.15.18//NONSGML v1.0//EN
CALSCALE:GREGORIAN
METHOD:PUBLISH
X-ORIGINAL-URL:https://www.femvents.at
X-WR-CALDESC:Veranstaltungen für femvents.at
REFRESH-INTERVAL;VALUE=DURATION:PT1H
X-Robots-Tag:noindex
X-PUBLISHED-TTL:PT1H
BEGIN:VTIMEZONE
TZID:Europe/Vienna
BEGIN:DAYLIGHT
TZOFFSETFROM:+0100
TZOFFSETTO:+0200
TZNAME:CEST
DTSTART:20240331T010000
END:DAYLIGHT
BEGIN:STANDARD
TZOFFSETFROM:+0200
TZOFFSETTO:+0100
TZNAME:CET
DTSTART:20241027T010000
END:STANDARD
BEGIN:DAYLIGHT
TZOFFSETFROM:+0100
TZOFFSETTO:+0200
TZNAME:CEST
DTSTART:20250330T010000
END:DAYLIGHT
BEGIN:STANDARD
TZOFFSETFROM:+0200
TZOFFSETTO:+0100
TZNAME:CET
DTSTART:20251026T010000
END:STANDARD
BEGIN:DAYLIGHT
TZOFFSETFROM:+0100
TZOFFSETTO:+0200
TZNAME:CEST
DTSTART:20260329T010000
END:DAYLIGHT
BEGIN:STANDARD
TZOFFSETFROM:+0200
TZOFFSETTO:+0100
TZNAME:CET
DTSTART:20261025T010000
END:STANDARD
END:VTIMEZONE
BEGIN:VEVENT
DTSTART;TZID=Europe/Vienna:20251015T180000
DTEND;TZID=Europe/Vienna:20251015T200000
DTSTAMP:20260423T000529
CREATED:20250714T132116Z
LAST-MODIFIED:20251003T093923Z
UID:10000110-1760551200-1760558400@www.femvents.at
SUMMARY:FRAU SEiN Seminare: Mentale Stärkung von Mädchen
DESCRIPTION:Dieses Seminar richtet sich an Mädchen\, die ihren Selbstwert erkennen und stärken möchten. Gemeinsam wird erarbeitet\, was Selbstwert bedeutet und wie er das Leben in verschiedenen Bereichen beeinflusst – von der persönlichen Entwicklung bis hin zu zwischenmenschlichen Beziehungen. \nDurch praktische Übungen und interaktive Methoden lernen die Teilnehmerinnen\, ihre Stärken zu erkennen\, Vertrauen in sich selbst aufzubauen und mit Herausforderungen selbstbewusster umzugehen. Ziel ist es\, ein positives Selbstbild zu fördern und langfristig die mentale Stärke zu stärken.
URL:https://www.femvents.at/event/frau-sein-seminare-mentale-staerkung-von-maedchen/
LOCATION:FRAU iDA\, Hauptplatz 16\, Zwettl\, Niederösterreich\, 3910\, Austria
CATEGORIES:Niederösterreich,Vortrag
ATTACH;FMTTYPE=image/png:https://www.femvents.at/wp-content/uploads/2025/07/FRAU-SEiN-2.png
ORGANIZER;CN="FRAU iDA":MAILTO:office@frau-ida.at
GEO:48.6041614;15.167567
X-APPLE-STRUCTURED-LOCATION;VALUE=URI;X-ADDRESS=FRAU iDA Hauptplatz 16 Zwettl Niederösterreich 3910 Austria;X-APPLE-RADIUS=500;X-TITLE=Hauptplatz 16:geo:15.167567,48.6041614
END:VEVENT
END:VCALENDAR