BEGIN:VCALENDAR
VERSION:2.0
PRODID:-//femvents.at - ECPv6.15.18//NONSGML v1.0//EN
CALSCALE:GREGORIAN
METHOD:PUBLISH
X-ORIGINAL-URL:https://www.femvents.at
X-WR-CALDESC:Veranstaltungen für femvents.at
REFRESH-INTERVAL;VALUE=DURATION:PT1H
X-Robots-Tag:noindex
X-PUBLISHED-TTL:PT1H
BEGIN:VTIMEZONE
TZID:Europe/Vienna
BEGIN:DAYLIGHT
TZOFFSETFROM:+0100
TZOFFSETTO:+0200
TZNAME:CEST
DTSTART:20240331T010000
END:DAYLIGHT
BEGIN:STANDARD
TZOFFSETFROM:+0200
TZOFFSETTO:+0100
TZNAME:CET
DTSTART:20241027T010000
END:STANDARD
BEGIN:DAYLIGHT
TZOFFSETFROM:+0100
TZOFFSETTO:+0200
TZNAME:CEST
DTSTART:20250330T010000
END:DAYLIGHT
BEGIN:STANDARD
TZOFFSETFROM:+0200
TZOFFSETTO:+0100
TZNAME:CET
DTSTART:20251026T010000
END:STANDARD
BEGIN:DAYLIGHT
TZOFFSETFROM:+0100
TZOFFSETTO:+0200
TZNAME:CEST
DTSTART:20260329T010000
END:DAYLIGHT
BEGIN:STANDARD
TZOFFSETFROM:+0200
TZOFFSETTO:+0100
TZNAME:CET
DTSTART:20261025T010000
END:STANDARD
END:VTIMEZONE
BEGIN:VEVENT
DTSTART;VALUE=DATE:20251017
DTEND;VALUE=DATE:20251019
DTSTAMP:20260422T224232
CREATED:20250804T204017Z
LAST-MODIFIED:20250804T204017Z
UID:10000154-1760659200-1760831999@www.femvents.at
SUMMARY:SPIELRAUM FRAU - ein sinnliches Forschungswochenende
DESCRIPTION:Ein Wochenende für dich. Für deinen Körper. Für dein Spüren. \nIn Spielraum Frau laden wir\, Christina Linsinger\, Sexologin und ich – Birgit Brandner\, ua Theaterpädagogin dich ein\, deinen Körper neu zu entdecken – jenseits von Funktion\, Bewertung oder Erwartung. \nWir öffnen einen geschützten\, kreativen Erfahrungsraum\, in dem du auf spielerische Weise deiner inneren Lebendigkeit begegnen kannst:\nMit Körperwahrnehmung\, achtsamer Bewegung\, kreativem Schreiben\, sinnlichen Impulsen – und Raum für das\, was in dir auftauchen möchte. \nEin Wochenende voller Neugier\, Stille\, Ausdruck\, Verbindung\, Lachen\, Tiefe und Genuss. \nDu brauchst nichts mitzubringen außer dich selbst – und die Bereitschaft\, dir zu begegnen. \nWANN\nFreitag 17.10.\, 16:00–21:00 Uhr & Samstag 18.10.2025\, 10:00–18:00 Uhr\nWO\n📍Studio 114 | Vogelweiderstraße 114 | 5020 Salzburg \nPREIS\n€ 169\,- | oder weils mit ner Freundin noch schöner ist: „bring-a-friend-rabatt“ € 149\,-/Person
URL:https://www.femvents.at/event/spielraum-frau-ein-sinnliches-forschungswochenende/
LOCATION:Salzburg Stadt
CATEGORIES:Frauenkreis,Workshop
ATTACH;FMTTYPE=image/png:https://www.femvents.at/wp-content/uploads/2025/08/SpielraumFrau_Cover_1.png
END:VEVENT
BEGIN:VEVENT
DTSTART;VALUE=DATE:20251017
DTEND;VALUE=DATE:20251020
DTSTAMP:20260422T224232
CREATED:20250905T151149Z
LAST-MODIFIED:20250905T151149Z
UID:10000238-1760659200-1760918399@www.femvents.at
SUMMARY:Bergcamp für Frauen im Toten Gebirge
DESCRIPTION:An alle Frauen mit Bergsehnsucht\n\n\nEntdecke die Berge – Entdecke dich selbst!\n\n\n\n\n\nDu möchtest als Berg-Newbie einen Safe-Space unter Gleichgesinnten\, in dem du neue Erfahrungen sammeln\, viel lernen und dich ausprobieren kannst? \nDann lass uns gemeinsam entdecken\, was alles in dir steckt und dein Berg-Wissen aufs nächste Level heben. Ohne Leistungsdruck\, aber mit jeder Menge Rückenwind! \n\n\n\n\n\n\n⛰️ ⛰️ ⛰️ \nHi\, ich bin Sabine … passionierte Solo-Hikerin & Bergwanderführerin für Frauen. Und ich bin es Leid\, dass der Outdoor-Sport von sehr viel Ego geprägt ist. Darum begleite ich Frauen in die Berge und zeige ihnen wie sie selbstbestimmt und so sicher wie möglich draußen unterwegs sein können. Ohne Leistungsdruck\, dafür mit ganz viel Rückenwind! \n⛰️ ⛰️ ⛰️ \nIn 3 Tagen von „kein Plan“ zu „let’s go“\n\n\n\n\n\n\nBeim Bergcamp  erwarten dich … \n⛰️ 3 Tage in den Bergen des Toten Gebirges (Oberösterreich) \n⛰️ 2 Nächte auf der Zeller-Hütte auf 1.570m Seehöhe \n\n\n\n\n⛰️ 3 geführte Wanderungen \n\n⛰️ jede Menge Berg-Wissen in der Theorie & Praxis \n\n⛰️ eine kleine Gruppe mit max. 6 Teilnehmerinnen (female only) \n\n\nMit dem Bergcamp legst du den Grundstein für deine künftigen Bergabenteuer\, die du so planen und gestalten kannst\, wie es für dich passt und gut anfühlt. Egal ob alleine\, mit anderen Berg-Newbies oder erfahrenen Bergfexen. Dafür sorgt die Mischung aus theoretischem Berg-Know-Howund dem Erleben und Anwenden des Gelernten direkt in den Bergen. \nNeben dem Erlebnis in den Bergen gibt es genug Raum für Austausch\, Lernen und natürlich gemütliches Beisammensein beim Bestaunen und Genießen der imposanten Bergwelt! \n\nUnd nach dem Bergcamp…\n\n🥾 weißt du\, worauf es bei der Vorbereitung & Planung ankommt. \n🥾 hast du ein besseres Gefühl dafür\, was du konditionell schaffen kannst. \n🥾 kennst du jede Menge Hacks\, wie du dich in den Bergen zurecht findest. \n🥾 weißt du\, wie es ist\, auf einer Berghütte zu übernachten. \n🥾 hast du den Grundstein gelegt\, für deine nächsten persönlichen Bergabenteuer! \nWeil meine Bergcamps heuer zum ersten Mal stattfinden\, kannst du sie zum rabattierten Preis buchen. Im Gegenzug freue ich mich auf deine aktive Mitarbeit und dein Feedback! \nAngebot für das Bergcamp 2025: € 270\,00\n(Umsatzsteuerfrei aufgrund der Kleinunternehmerregelung). \nZusätzlich fallen die Kosten für die Nächtigung auf der Hütte\, die Verpflegung und die Anreise. \nMehr Infos zum Ablauf findest du hier:\nhttps://www.die-bergmentorin.at/bergcamp/totes-gebirge-warscheneck/ \nLass uns gemeinsam den Outdoor-Sport neu denken! Ich freu mich auf dich.
URL:https://www.femvents.at/event/bergcamp-fuer-frauen-im-toten-gebirge/
LOCATION:Totes Gebirge\, Totes Gebirge\, Oberösterreich\, Austria
CATEGORIES:Kurs,Sport,Workshop
ATTACH;FMTTYPE=image/png:https://www.femvents.at/wp-content/uploads/2025/09/dBM-Titelbild-Femvents.at_Totes-Gebirge.png
ORGANIZER;CN="Sabine Artmayr":MAILTO:schreib-an@die-bergmentorin.at
GEO:47.7169386;14.0633283
END:VEVENT
BEGIN:VEVENT
DTSTART;TZID=Europe/Vienna:20251017T150000
DTEND;TZID=Europe/Vienna:20251019T130000
DTSTAMP:20260422T224232
CREATED:20251008T090115Z
LAST-MODIFIED:20251008T090115Z
UID:10000365-1760713200-1760878800@www.femvents.at
SUMMARY:Wintergartl'n - Wohlfühlwochenende für Gartenliebhaberinnen
DESCRIPTION:Ein Wochenende für Frauen\, die zur Ruhe kommen und sich dem „Wintergartl’n“ widmen möchten. Was kann im Winter wachsen\, wie bereite ich mein Gartenjahr vor? \nIn achtsamer Runde\, mit gutem Essen und der Möglichkeit für Massageangebote.\nEine Auszeit\, die gut tut\, gefördert durch unseren Solidaritätsfonds. \nLeitung: Manuela & Christoph Harb\, begeisterte Gartler und Anwender der Permakultur \nLeistungen: 2 Nächte alles inklusive ab € 209\,00 pro Person im Zweibettzimmer\,\n€ 229\,00 im Einbettzimmer\nzzgl. € 2\,50 Nächtigungsabgabe/Nacht
URL:https://www.femvents.at/event/wintergartln-wohlfuehlwochenende-fuer-gartenliebhaberinnen/
LOCATION:AndersOrt Haus der Frauen\, St. Johann bei Herberstein 7\, Feistritztal\, Steiermark\, 8222\, Austria
CATEGORIES:Frauenkreis,Steiermark
ATTACH;FMTTYPE=image/jpeg:https://www.femvents.at/wp-content/uploads/2025/10/Wintergartln.jpg
ORGANIZER;CN="AndersOrt Haus der Frauen":MAILTO:kontakt@hausderfrauen.at
GEO:47.2144202;15.8198175
X-APPLE-STRUCTURED-LOCATION;VALUE=URI;X-ADDRESS=AndersOrt Haus der Frauen St. Johann bei Herberstein 7 Feistritztal Steiermark 8222 Austria;X-APPLE-RADIUS=500;X-TITLE=St. Johann bei Herberstein 7:geo:15.8198175,47.2144202
END:VEVENT
BEGIN:VEVENT
DTSTART;TZID=Europe/Vienna:20251017T170000
DTEND;TZID=Europe/Vienna:20251017T190000
DTSTAMP:20260422T224232
CREATED:20251007T061755Z
LAST-MODIFIED:20251007T061755Z
UID:10000360-1760720400-1760727600@www.femvents.at
SUMMARY:Human Design & Partnerschaft
DESCRIPTION:Human Design und Partnerschaft  \nJede Mensch hat eine eigene Aura und eine eigenes Human Design! In einer Partnerschaft geht es aber nicht immer nur um einen selbst sondern auch um den Anderen! Wir beeinflussen uns immer gegenseitig! \nManche Design ergänzen sich und lernen voneinander\, können sich aber auch triggern oder man geht unbewusst in Konkurrenz! Oder es gibt unbewusste Erwartungen an den anderen hat\, die womöglich nicht erfüllt werden was wieder zu einem Konflikt führen können! \nWichtig – es geht NICHT darum\, ob man zusammen passt oder nicht SONDERN um die eigene Dynamik und die des anderen zu verstehen!  \nUnd vor allem: wie wirkt man zusammen!  \nAn diesem Abend möchte ich mit Beispielen zeigen\, was man alles im Human Design erkennen kann was eine Beziehungsdynamik betrifft.  \nDu hast eine einzigartige Frequenz (Human Design) die immer ausgestrahlt wird und dein/e Partner/in ebenso. Wieviel mehr könnt ihr beide erleben und kreieren\, wenn ihr eure und eure gemeinsamen Frequenz kennt?
URL:https://www.femvents.at/event/human-design-partnerschaft/
LOCATION:La Vie Coworking\, Wolf-Dietrich-Straße 9\, Salzburg\, Salzburg\, 5020\, Austria
CATEGORIES:Salzburg
ATTACH;FMTTYPE=image/jpeg:https://www.femvents.at/wp-content/uploads/2025/10/1.jpg
ORGANIZER;CN="Kerstin Dollh%C3%A4ubl (vormals Reiner)":MAILTO:kerstin-einzigartig@gmx.at
GEO:47.8048508;13.047892
X-APPLE-STRUCTURED-LOCATION;VALUE=URI;X-ADDRESS=La Vie Coworking Wolf-Dietrich-Straße 9 Salzburg Salzburg 5020 Austria;X-APPLE-RADIUS=500;X-TITLE=Wolf-Dietrich-Straße 9:geo:13.047892,47.8048508
END:VEVENT
BEGIN:VEVENT
DTSTART;TZID=Europe/Vienna:20251017T170000
DTEND;TZID=Europe/Vienna:20251017T200000
DTSTAMP:20260422T224232
CREATED:20251008T111808Z
LAST-MODIFIED:20251009T083112Z
UID:10000368-1760720400-1760731200@www.femvents.at
SUMMARY:Versicherungen verstehen & Zukunft gestalten | Vortrag
DESCRIPTION:Versicherungen betreffen uns alle – ob beim Start ins Berufsleben\, in der Familienplanung oder bei der Vorsorge für die Zukunft. Doch welche Absicherungen sind wirklich notwendig und wie behältst du im Versicherungsdschungel den Überblick? \nIn diesem Vortrag zeigt dir Oberinspektorin und Versicherungsfachfrau Romana Holzer (Generali Tamsweg)\, worauf es wirklich ankommt. Du erhältst praxisnahes Wissen und konkrete Tipps\, die dir helfen\, bewusste Entscheidungen für dich und deine Familie zu treffen – verständlich erklärt und direkt anwendbar. \nDie Themen im Überblick: \n\nWelche Versicherungen sind für dich wirklich relevant?\nLebensversicherung und Veranlagungen für Kinder\nAbsicherung für Hinterbliebene\nBerufsunfähigkeitsversicherung: sinnvoll oder nicht?\nWorauf du achten solltest\, um langfristig abgesichert zu sein\n\nMit diesem Wissen gewinnst du Sicherheit und Selbstvertrauen im Umgang mit finanziellen Fragen. Du erkennst\, welche Versicherungen dich wirklich weiterbringen\, und gestaltest deine Zukunft bewusst und selbstbestimmt. \nDie Teilnahme ist auch online möglich. \n17.10.2025 | 17:00 – 20:00 Uhr\nQ4 Sozialzentrum | Seminarraum 1. Stock | Postplatz 4 | 5580 Tamsweg\nTeilnahme kostenlos | Anmeldung notwendig
URL:https://www.femvents.at/event/versicherungen-verstehen-zukunft-gestalten-vortrag/
LOCATION:Q4 Sozialzentrum\, Postplatz 4\, Tamsweg\, Salzburg\, 5580\, Austria
CATEGORIES:Online-Event,Salzburg,Vortrag
ATTACH;FMTTYPE=image/jpeg:https://www.femvents.at/wp-content/uploads/2025/10/3.jpg
ORGANIZER;CN="Lungauer Frauennetzwerk":MAILTO:office@frauen-netzwerk.at
GEO:47.126753;13.8094252
X-APPLE-STRUCTURED-LOCATION;VALUE=URI;X-ADDRESS=Q4 Sozialzentrum Postplatz 4 Tamsweg Salzburg 5580 Austria;X-APPLE-RADIUS=500;X-TITLE=Postplatz 4:geo:13.8094252,47.126753
END:VEVENT
BEGIN:VEVENT
DTSTART;TZID=Europe/Vienna:20251017T180000
DTEND;TZID=Europe/Vienna:20251017T210000
DTSTAMP:20260422T224232
CREATED:20251011T101351Z
LAST-MODIFIED:20251011T152314Z
UID:10000379-1760724000-1760734800@www.femvents.at
SUMMARY:Klang & Farbe – Meditative Klänge & Intuitives Malen
DESCRIPTION:Gönn‘ dir einen Abend\, um ganz bei dir anzukommen – durch Klang\, Stille\, Atmung und durch intuitives Malen.\nIn diesem besonderen Workshop verbinden wir sanfte Klänge – darunter auch Kristallklänge – mit Meditation\, Atmung\, Achtsamkeit und freier kreativer Ausdruckskraft. \nLass dich von deiner Intuition führen\, finde über das Fühlen zurück zu dir und gib deinem Inneren durch Farben\, Formen\, Linien einen Ausdruck. Unterschiedliche Materialien stehen dir zur Verfügung\, um deinen ganz eigenen Ausdruck zu finden. Du brauchst keine künstlerische Erfahrung. Alles\, was zählt\, ist dein inneres Erleben\, das durch deine Hände sichtbar werden darf. \nWas dich erwartet: \n\nEinstimmung durch Klangreisen und Meditation\nAchtsames Atmen & Fühlen – in Verbindung mit dir selbst kommen\nFreies\, intuitives Malen – Ausdruck deiner inneren Welt\nRaum für Stille\, Reflexion und gemeinsames Sein\n\nIch freu mich auf dich! Deine Christina
URL:https://www.femvents.at/event/klang-farbe-meditative-klaenge-intuitives-malen/
LOCATION:Herz an Herz Atelier\, Hauptstraße 4\, Obertrum am See\, Salzburg\, 5162\, Austria
CATEGORIES:After Work,Malworkshop,Meditation,Salzburg,Soundhealing,Workshop
ATTACH;FMTTYPE=image/jpeg:https://www.femvents.at/wp-content/uploads/2025/10/KlangFarbe_Header.jpg
ORGANIZER;CN="Herz an Herz Atelier":MAILTO:tina@herzanherz.at
GEO:47.9373779;13.0745256
X-APPLE-STRUCTURED-LOCATION;VALUE=URI;X-ADDRESS=Herz an Herz Atelier Hauptstraße 4 Obertrum am See Salzburg 5162 Austria;X-APPLE-RADIUS=500;X-TITLE=Hauptstraße 4:geo:13.0745256,47.9373779
END:VEVENT
END:VCALENDAR