BEGIN:VCALENDAR
VERSION:2.0
PRODID:-//femvents.at - ECPv6.15.18//NONSGML v1.0//EN
CALSCALE:GREGORIAN
METHOD:PUBLISH
X-ORIGINAL-URL:https://www.femvents.at
X-WR-CALDESC:Veranstaltungen für femvents.at
REFRESH-INTERVAL;VALUE=DURATION:PT1H
X-Robots-Tag:noindex
X-PUBLISHED-TTL:PT1H
BEGIN:VTIMEZONE
TZID:Europe/Vienna
BEGIN:DAYLIGHT
TZOFFSETFROM:+0100
TZOFFSETTO:+0200
TZNAME:CEST
DTSTART:20240331T010000
END:DAYLIGHT
BEGIN:STANDARD
TZOFFSETFROM:+0200
TZOFFSETTO:+0100
TZNAME:CET
DTSTART:20241027T010000
END:STANDARD
BEGIN:DAYLIGHT
TZOFFSETFROM:+0100
TZOFFSETTO:+0200
TZNAME:CEST
DTSTART:20250330T010000
END:DAYLIGHT
BEGIN:STANDARD
TZOFFSETFROM:+0200
TZOFFSETTO:+0100
TZNAME:CET
DTSTART:20251026T010000
END:STANDARD
BEGIN:DAYLIGHT
TZOFFSETFROM:+0100
TZOFFSETTO:+0200
TZNAME:CEST
DTSTART:20260329T010000
END:DAYLIGHT
BEGIN:STANDARD
TZOFFSETFROM:+0200
TZOFFSETTO:+0100
TZNAME:CET
DTSTART:20261025T010000
END:STANDARD
END:VTIMEZONE
BEGIN:VEVENT
DTSTART;TZID=Europe/Vienna:20251020T183000
DTEND;TZID=Europe/Vienna:20251020T203000
DTSTAMP:20260422T235632
CREATED:20251006T131929Z
LAST-MODIFIED:20251006T131929Z
UID:10000358-1760985000-1760992200@www.femvents.at
SUMMARY:Pension? Deine Zukunft – deine Entscheidung! (Live-Online-Seminar)
DESCRIPTION:Pension? Deine Zukunft – deine Entscheidung! (Live-Online-Seminar)\n\nIn diesem Online-Seminar erhältst du einen klaren Überblick über das Pensionssystem und die wichtigsten Stellschrauben für deine persönliche Vorsorge. Wir zeigen\, welche Chancen und Risiken es gibt\, wie du finanzielle Lücken erkennen und rechtzeitig schließen kannst und welche Strategien wirklich langfristig tragen. Das Ziel: Du gewinnst Sicherheit\, Orientierung und die Kompetenz\, deine finanzielle Zukunft selbst in die Hand zu nehmen. Wir werden dir das Wissen und die Werkzeuge geben\, damit du mit Klarheit und Zuversicht planen kannst. \n\nSeminarleitung:Dr. Marietta Babos\, Damensache – Finanzen für die Frau \nVeranstaltet von: \nLEA – Let’s empower Austria\nÖsterreichischer Fonds zur Stärkung und Förderung von Frauen und Mädchen\nhttps://letsempoweraustria.at\nInstagram | LinkedIn
URL:https://www.femvents.at/event/pension-deine-zukunft-deine-entscheidung-live-online-seminar/
LOCATION:Live-Online-Seminar
CATEGORIES:Online-Event,Wien
ATTACH;FMTTYPE=image/jpeg:https://www.femvents.at/wp-content/uploads/2025/10/lea01.jpg
END:VEVENT
END:VCALENDAR