BEGIN:VCALENDAR
VERSION:2.0
PRODID:-//femvents.at - ECPv6.15.18//NONSGML v1.0//EN
CALSCALE:GREGORIAN
METHOD:PUBLISH
X-ORIGINAL-URL:https://www.femvents.at
X-WR-CALDESC:Veranstaltungen für femvents.at
REFRESH-INTERVAL;VALUE=DURATION:PT1H
X-Robots-Tag:noindex
X-PUBLISHED-TTL:PT1H
BEGIN:VTIMEZONE
TZID:Europe/Vienna
BEGIN:DAYLIGHT
TZOFFSETFROM:+0100
TZOFFSETTO:+0200
TZNAME:CEST
DTSTART:20240331T010000
END:DAYLIGHT
BEGIN:STANDARD
TZOFFSETFROM:+0200
TZOFFSETTO:+0100
TZNAME:CET
DTSTART:20241027T010000
END:STANDARD
BEGIN:DAYLIGHT
TZOFFSETFROM:+0100
TZOFFSETTO:+0200
TZNAME:CEST
DTSTART:20250330T010000
END:DAYLIGHT
BEGIN:STANDARD
TZOFFSETFROM:+0200
TZOFFSETTO:+0100
TZNAME:CET
DTSTART:20251026T010000
END:STANDARD
BEGIN:DAYLIGHT
TZOFFSETFROM:+0100
TZOFFSETTO:+0200
TZNAME:CEST
DTSTART:20260329T010000
END:DAYLIGHT
BEGIN:STANDARD
TZOFFSETFROM:+0200
TZOFFSETTO:+0100
TZNAME:CET
DTSTART:20261025T010000
END:STANDARD
END:VTIMEZONE
BEGIN:VEVENT
DTSTART;TZID=Europe/Vienna:20251022T180000
DTEND;TZID=Europe/Vienna:20251022T200000
DTSTAMP:20260422T235638
CREATED:20250810T123446Z
LAST-MODIFIED:20250810T123446Z
UID:10000167-1761156000-1761163200@www.femvents.at
SUMMARY:Kreative Halloween-Tischdeko
DESCRIPTION:Wir gestalten eine originelle Halloween-Tischdekoration\, die Ihren Gästen ein Lächeln – und vielleicht auch ein kleines Schaudern – ins Gesicht zaubert. Mit Kürbissen\, Lichtern und kreativen Details wird es garantiert schaurig-schön. \nPreis:\n€55\,00 pro Person \nInklusive: aller Materialien\, Kaffee oder Tee & ein kleiner Snack \nWorkshop findet in einer kleinen Gruppe mit maximal 6 Teilnehmern statt\, damit ich Sie persönlich begleiten kann. \nAnmeldung bis spätestens 19.10.2025 per E-Mail an: info@audryscreativestudio.com
URL:https://www.femvents.at/event/kreative-halloween-tischdeko/
LOCATION:Zillingerstrasse 1\, 5300 Hallwang\, Zillingerstrasse 1\, Hallwang\, Salzburg\, 5300\, Austria
CATEGORIES:Workshop
ATTACH;FMTTYPE=image/png:https://www.femvents.at/wp-content/uploads/2025/08/Workshop_22.10.png
ORGANIZER;CN="Audry's Creative Studio":MAILTO:info@audryscreatuvestudio.com
GEO:47.8494346;13.0951871
X-APPLE-STRUCTURED-LOCATION;VALUE=URI;X-ADDRESS=Zillingerstrasse 1 5300 Hallwang Zillingerstrasse 1 Hallwang Salzburg 5300 Austria;X-APPLE-RADIUS=500;X-TITLE=Zillingerstrasse 1:geo:13.0951871,47.8494346
END:VEVENT
BEGIN:VEVENT
DTSTART;TZID=Europe/Vienna:20251022T180000
DTEND;TZID=Europe/Vienna:20251022T200000
DTSTAMP:20260422T235638
CREATED:20250919T062841Z
LAST-MODIFIED:20250919T062841Z
UID:10000300-1761156000-1761163200@www.femvents.at
SUMMARY:Live Event: natürlich zyklische Kosmetik
DESCRIPTION:Was wir über Ernährung\, Kosmetik oder Umwelt aufnehmen\, kann unser Hormonsystem beeinflussen. Endokrine Disruptoren können die hormonelle Balance stören\, indem sie Hormone nachahmen\, blockieren oder verändern. Kathrin Hirczy (zyklisch erfolgreich) und Silvia Kolokolow (Geschäftsführerin von Kalivia) zeigen dir\, wie du dein Hormonsystem schützen und unterstützen kannst. \nDas erwartet dich:\no Überblick: Wo endokrine Disruptoren vorkommen und wie sie wirken\no Tipps für hormonfreundliche Ernährung („Zyklusfood“ als Verpflegung vor Ort)\no Naturkosmetik als sanfte Alternative\no Abschlussmeditation für innere Balance\no Goodiebag mit Naturkosmetik im Wert von 30 € \n📅 Wann: 22.10.2025\, ab 18:00 Uhr\n📍Wo: Kalivia\, Lindengasse 14\, 1070 Wien\n💶 Ticketpreis: 20 €\n🔗 Anmeldung nur online\, limitierte Plätze: https://calendly.com/kathrin-hirczy-info/zyklische-naturkosmetik
URL:https://www.femvents.at/event/live-event-natuerlich-zyklische-kosmetik/
LOCATION:Wien\, wien\, Wien\, 1060\, Austria
CATEGORIES:Wien
ATTACH;FMTTYPE=image/png:https://www.femvents.at/wp-content/uploads/2025/09/Event_Vorschau.png
GEO:48.1945985;16.3504336
END:VEVENT
BEGIN:VEVENT
DTSTART;TZID=Europe/Vienna:20251022T180000
DTEND;TZID=Europe/Vienna:20251022T200000
DTSTAMP:20260422T235638
CREATED:20251004T130111Z
LAST-MODIFIED:20251004T130111Z
UID:10000353-1761156000-1761163200@www.femvents.at
SUMMARY:THE:Workshop – Wirtschafts- und Finanzwissen 2 Go
DESCRIPTION:💰In diesem Workshop geht es um die Basics. Wir greifen dabei all jene Begriffe auf\, die in aller Munde sind und erklären was dahinter steckt. Wichtige Zusammenhänge und Wissen für die entscheidenden wirtschaftlichen Alltagssituationen hast du schnell gelernt\, verstanden und angewendet.\n📈Finanzbildung ermöglicht es Frauen\, diese Risiken aktiv zu mindern und ihre finanzielle Sicherheit und Selbstbestimmung zu stärken. Komm vorbei! Wir freuen uns auf dich! \n📌// Was? THE:Workshop – Wirtschafts- und Finanzwissen 2 Go\n⏰ // Wann? Mi\,22.10.2025\, von 18:00 – 20:00 Uhr\n📍// Wo? Impact Hub\, The Library\, Lindengasse 56\, 1070 Wien \n👩🏻// mit? Alyssa & Judith von FLINTA*FIN\n👸🏻// Wer? Für alle Frauen und als Frauen gelesene Personen\n💰// kostenlos für Sorority Mitglieder  –  Sorority Jahresmitgliedschaft € 48.-
URL:https://www.femvents.at/event/theworkshop-wirtschafts-und-finanzwissen-2-go/
LOCATION:Impact Hub Vienna\, Lindengasse 56\, Wien\, Wien\, 1070\, Austria
CATEGORIES:After Work,Coaching,Frauenkreis,Wien,Workshop
ATTACH;FMTTYPE=image/jpeg:https://www.femvents.at/wp-content/uploads/2025/10/Kopie-von-FB-Header-Event-15.jpg
ORGANIZER;CN="THE%3ASorority":MAILTO:events@sorority.at
GEO:48.1995724;16.3459081
X-APPLE-STRUCTURED-LOCATION;VALUE=URI;X-ADDRESS=Impact Hub Vienna Lindengasse 56 Wien Wien 1070 Austria;X-APPLE-RADIUS=500;X-TITLE=Lindengasse 56:geo:16.3459081,48.1995724
END:VEVENT
BEGIN:VEVENT
DTSTART;TZID=Europe/Vienna:20251022T180000
DTEND;TZID=Europe/Vienna:20251022T213000
DTSTAMP:20260422T235638
CREATED:20251010T191034Z
LAST-MODIFIED:20251010T191034Z
UID:10000377-1761156000-1761168600@www.femvents.at
SUMMARY:Erzählcafe – Geburt & Selbstbestimmung – Frauen*rechte von Anfang an
DESCRIPTION:Selbstbestimmt gebären – Anspruch oder Realität? \nEin Erzählcafé zu Entscheidungen rund um Schwangerschaft und Geburt \nGeburt ist ein tiefgreifendes Ereignis im Leben eines Menschen – und sollte geprägt sein von Würde\, Respekt und informierter Entscheidung. \nDoch wie steht es heute um die Selbstbestimmung von Frauen* im Kontext von Schwangerschaft und Geburt? \nIn vielen Bereichen erleben gebärende Menschen Eingriffe\, Entscheidungen über ihre Körper – ohne volle Information oder echte Wahlfreiheit. Damit berührt das Thema elementare Frauen*- und Menschenrechte: das Recht auf körperliche Unversehrtheit\, das Recht auf informierte Zustimmung („Informed Consent“) und das Recht auf reproduktive Selbstbestimmung. \nUnser Erzählcafé schafft Raum für genau diese Fragen. \nStatt Fachvortrag gestalten wir eine lebendige Gesprächsform: Thementische. \nJede:r wählt jenes Thema\, das persönlich berührt – und kommt mit anderen ins Gespräch. Die Tische werden von Tischmoderator:innen begleitet. Nach einem Tischwechsel gibt es zum Abschluss eine Sammlung der wichtigsten Impulse durch die Gastgeber:innen der Tische. \nVoraussichtliche Thementische: \n\nGrenzerfahrungen – zwischen Übergriffen und achtsamer Begleitung\nGeburtsorte & Settings – Wahlfreiheit oder Systemgrenzen?\nGeburtsbeginn – Einleitung\, Überschreitung\nKaiserschnitt – zwischen medizinischer Notwendigkeit und strukturellem Zwang\nPränataldiagnostik & Selbsbestimmung\nInformed Choice/Informierte Entscheidungen – Wunsch oder Wirklichkeit?\nAbbruch – Selbstbestimmung am Lebensanfang\n\nDurch den Abend begleiten: \nBrigitta Soraperra\, IG Geburtskultur a-z\, Moderation \nBirgit Häusle\, SALON 13 \n  \nEingeladen sind: \nAlle\, die sich für Geburt\, Selbstbestimmung und Frauenrechte interessieren – ob als Mütter\, Töchter\, Hebammen\, Partner:innen oder Fachpersonen – sind herzlich eingeladen. \nDiese Veranstaltung findet in Kooperation mit der IG Geburtskultur a-z statt und wird unterstützt von  die deutsche Erzählcafé-Aktion „Der Start ins Leben“. \nFoto: (c) Frauenmuseum HittisauAngela Lamprecht
URL:https://www.femvents.at/event/erzaehlcafe-geburt-selbstbestimmung-frauenrechte-von-anfang-an/
LOCATION:Volksbank Dornbirn\, Marktplatz 5\, Dornbirn\, Vorarlberg\, 6850\, Austria
CATEGORIES:Salon13,Vorarlberg,Workshop
ATTACH;FMTTYPE=image/jpeg:https://www.femvents.at/wp-content/uploads/2025/10/IG-GK_Erzaehlcafe-1_c-Frauenmuseum-HittisauAngela-Lamprecht.jpeg
ORGANIZER;CN="SALON 13":MAILTO:info@salon13.at
GEO:47.4141706;9.7421125
X-APPLE-STRUCTURED-LOCATION;VALUE=URI;X-ADDRESS=Volksbank Dornbirn Marktplatz 5 Dornbirn Vorarlberg 6850 Austria;X-APPLE-RADIUS=500;X-TITLE=Marktplatz 5:geo:9.7421125,47.4141706
END:VEVENT
BEGIN:VEVENT
DTSTART;TZID=Europe/Vienna:20251022T183000
DTEND;TZID=Europe/Vienna:20251022T200000
DTSTAMP:20260422T235638
CREATED:20251015T124728Z
LAST-MODIFIED:20251015T124728Z
UID:10000404-1761157800-1761163200@www.femvents.at
SUMMARY:Buchpräsentation:  Krieg und Friedensbewegung: Feministische Perspektiven.
DESCRIPTION:Mandelbaum Verlag 2025 \nmit den Herausgeberinnen Birge Krondorfer (Philosophin)\, Irmtraud Voglmayr (Medienwissenschaftlerin\, Soziologin) \nIn diesem Buch setzten wir uns mit Krieg\, Gewalt\, Militarisierung\,\nGeschlechterverhältnissen und Frauen-Friedensbewegungen aus einer interdisziplinären Perspektive auseinander. Der Band versammelt Texte zu historischen und aktuellen Frauen-Friedensbewegungen\, zu gegenwärtigen Kriegsgeschehnissen und grundlegenden Fragen zu patriarchaler Gewalt. Nach den Darstellungen gibt es die Möglichkeit zur Diskussion. \nBüchertisch\, Getränke und Snacks \nEine Veranstaltung für Frauen.
URL:https://www.femvents.at/event/buchpraesentation-krieg-und-friedensbewegung-feministische-perspektiven/
LOCATION:libreria utopia\, Preysinggasse 26-28/1\, Wien\, 1150\, Austria
CATEGORIES:Lesung
ATTACH;FMTTYPE=image/png:https://www.femvents.at/wp-content/uploads/2025/10/Buchpraesentation-EInladung.png
GEO:48.1980543;16.3263286
X-APPLE-STRUCTURED-LOCATION;VALUE=URI;X-ADDRESS=libreria utopia Preysinggasse 26-28/1 Wien 1150 Austria;X-APPLE-RADIUS=500;X-TITLE=Preysinggasse 26-28/1:geo:16.3263286,48.1980543
END:VEVENT
END:VCALENDAR