BEGIN:VCALENDAR
VERSION:2.0
PRODID:-//femvents.at - ECPv6.15.18//NONSGML v1.0//EN
CALSCALE:GREGORIAN
METHOD:PUBLISH
X-WR-CALNAME:femvents.at
X-ORIGINAL-URL:https://www.femvents.at
X-WR-CALDESC:Veranstaltungen für femvents.at
REFRESH-INTERVAL;VALUE=DURATION:PT1H
X-Robots-Tag:noindex
X-PUBLISHED-TTL:PT1H
BEGIN:VTIMEZONE
TZID:Europe/Vienna
BEGIN:DAYLIGHT
TZOFFSETFROM:+0100
TZOFFSETTO:+0200
TZNAME:CEST
DTSTART:20240331T010000
END:DAYLIGHT
BEGIN:STANDARD
TZOFFSETFROM:+0200
TZOFFSETTO:+0100
TZNAME:CET
DTSTART:20241027T010000
END:STANDARD
BEGIN:DAYLIGHT
TZOFFSETFROM:+0100
TZOFFSETTO:+0200
TZNAME:CEST
DTSTART:20250330T010000
END:DAYLIGHT
BEGIN:STANDARD
TZOFFSETFROM:+0200
TZOFFSETTO:+0100
TZNAME:CET
DTSTART:20251026T010000
END:STANDARD
BEGIN:DAYLIGHT
TZOFFSETFROM:+0100
TZOFFSETTO:+0200
TZNAME:CEST
DTSTART:20260329T010000
END:DAYLIGHT
BEGIN:STANDARD
TZOFFSETFROM:+0200
TZOFFSETTO:+0100
TZNAME:CET
DTSTART:20261025T010000
END:STANDARD
END:VTIMEZONE
BEGIN:VEVENT
DTSTART;VALUE=DATE:20251023
DTEND;VALUE=DATE:20251027
DTSTAMP:20260423T001036
CREATED:20250618T132013Z
LAST-MODIFIED:20250618T132220Z
UID:10000067-1761177600-1761523199@www.femvents.at
SUMMARY:Women´s Wisdom FrauenRETREAT
DESCRIPTION:„A woman who returns to her feminine nature\, \nawakens the source of her power.“ \n✨ Women’s Wisdom Retreat – Ein Rückzugsort\, der dich an deine urweibliche Essenz und Schöpferkraft erinnert. 4 Tage Schwesternschaft\, tiefe Verbundenheit und Raum für dein Frau-Sein – frei von Erwartungen\, Stress und Alltags-To-Dos. \nDu verbindest dich mit deinem Herzen und Schoßraum\, spürst deine Intuition und deine urweibliche Kraft. \nWas dich erwartet:\nSunrise Yoga & Meditation\nLagerfeuer & Awaken your Voice-SingingCircle\nWomenCircles & Rituale der Schwesternschaft\nWomb Blessing & Yoni Steaming\nSauna-Zeremonie für Loslassen & Reinigung\nWaldbaden & Naturzeit\nSensual Soul Dance bei Kerzenlicht \nDeine Zeit für DICH und die Erinnerung an deine wahre Essenz\, deine unbändige Schöpferkraft und das Gefühl tiefer Schwesternschaft. \nEin Auftanken\, zur Ruhe kommen und dich SPÜREN auf Zellebene. \nWir freuen uns auf dich! \nRetreatleiterin:\nElla Gappmaier: Ella ist ganzheitliche Kinesiologin für Nervensystemregulierung\, Stressmanagement und Frau-Sein und leitet seit vielen Jahren spirituelle Events für Weiblichkeit und Verbundenheit\, Frauenkreise und Zeremonien mit viel Herz\, Authentizität und weiblichem Flow.\nSie schafft sichere Räume des Wohlfühlens\, der Verbindung & des einfachen Seins. Ihr Blick fällt auf die Wunder und das echte Miteinander. Eine Magic Bubble aus Liebe & Verbundenheit entsteht. \nYogafee:\nBabsi Reiter: Babsi schenkt uns zauberhafte\, tiefgehende und berührende Yoga- & feminine Movement Rituale\, die dich an deinen wahren Kern und dein weibliches Sein erinnern.\nIhre Präsenz schenkt Liebe\, Sicherheit und das Gefühl des Ankommens. \nPreis:\n555\,- Euro + Unterkunft
URL:https://www.femvents.at/event/womens-wisdom-frauenretreat/
LOCATION:TamanGa Retreatcenter\, Labitschberg 4\, Gamlitz\, Steiermark\, 8462\, Austria
CATEGORIES:Retreat
ATTACH;FMTTYPE=image/jpeg:https://www.femvents.at/wp-content/uploads/2025/06/Frauen-scaled.jpg
ORGANIZER;CN="EllasSoulfood - Ella Gappmaier":MAILTO:info@ellassoulfood.at
GEO:46.7243635;15.534673
X-APPLE-STRUCTURED-LOCATION;VALUE=URI;X-ADDRESS=TamanGa Retreatcenter Labitschberg 4 Gamlitz Steiermark 8462 Austria;X-APPLE-RADIUS=500;X-TITLE=Labitschberg 4:geo:15.534673,46.7243635
END:VEVENT
BEGIN:VEVENT
DTSTART;TZID=Europe/Vienna:20251023T080000
DTEND;TZID=Europe/Vienna:20251023T183000
DTSTAMP:20260423T001036
CREATED:20251020T083000Z
LAST-MODIFIED:20251020T083000Z
UID:10000412-1761206400-1761244200@www.femvents.at
SUMMARY:Systemischer Aufstellungsabend
DESCRIPTION:Ein Aufstellungsabend an dem 2-3 Anliegen von Frauen im Kreise von Frauen abgehandelt werden. Wenn man sich bereiterklärt als Stellvertreterin in ein Thema einzusteigen\, kann auch sehr viel vom eigenen System in Harmonie gehen. Ein Abend in Verbundenheit erwartet dich hier.
URL:https://www.femvents.at/event/systemischer-aufstellungsabend/
CATEGORIES:Coaching,Workshop
ATTACH;FMTTYPE=image/jpeg:https://www.femvents.at/wp-content/uploads/2025/10/251016_aufstellungsabend.jpg
END:VEVENT
BEGIN:VEVENT
DTSTART;TZID=Europe/Vienna:20251023T090000
DTEND;TZID=Europe/Vienna:20251023T120000
DTSTAMP:20260423T001036
CREATED:20250925T110112Z
LAST-MODIFIED:20250925T110112Z
UID:10000332-1761210000-1761220800@www.femvents.at
SUMMARY:Was trage ich wirklich? Mental & Emotional Load verstehen und bei sich bleiben (Live-Online-Seminar)
DESCRIPTION:Ein Workshop zur achtsamen Selbstklärung: Wo endet meine Verantwortung\, wo beginne ich? \nWorum geht’s wirklich? \nMental und Emotional Load sind keine Schlagworte aus Trendartikeln – sie sind echte\, spürbare Belastungen\, die oft unsichtbar mitgetragen werden. In diesem Workshop machen wir sie sichtbar. Wir benennen\, was oft unausgesprochen bleibt\, und schaffen Raum für Selbstklärung und Entlastung. Du lernst\, wie du deine eigenen Grenzen erkennst und stärkst – mit Mut zur Abgrenzung und einem klaren JA zu dir selbst. \nWas erwartet dich? \n\n\n\nWas ist das überhaupt alles\, was ich trage?\n\n\n\nWir klären Begriffe wie „Mental Load“\, „Emotional Load“ und „Vereinbarkeit“ – nicht theoretisch\, sondern ganz konkret: Was davon kennst du aus deinem Alltag? \n\n\n\nVereinbarkeit hat mehr als eine Seite\n\n\n\nWir werfen einen ehrlichen Blick auf die relvanten Dimensionen von Vereinbarkeit. Was kannst du wirklich beeinflussen – und wo darfst du aufhören\, für alles zuständig sein zu wollen? \n\n\n\nRaus aus dem Gedankenkarussell – rein in die Selbstfürsorge\n\n\n\nWir arbeiten mit Tools und Reflexionsfragen\, die dich dabei unterstützen\, eigene Muster zu erkennen und liebevoll\, aber klar\, Veränderungen anzugehen. \n\n\n\nAustausch\, der gut tut\n\n\n\nDu bist nicht allein mit deiner Last – der gemeinsame Austausch zeigt: andere erleben Ähnliches. Und manchmal entsteht genau daraus ein erster Schritt zur Entlastung. \nZiele des Workshops \n\nMental und Emotional Load erkennen\, benennen und entzaubern\nDie eigenen Anteile und Grenzen besser verstehen\nStrategien für einen klareren\, selbstbestimmteren Alltag entwickeln\nKraft tanken durch ehrlichen Austausch und Vernetzung\n\nUnd sonst noch? \n\nKeine Selbstoptimierung\, sondern Selbstklärung\nKonkrete Impulse für spürbare Veränderung\nAustausch in geschütztem Rahmen\nPraxisnah\, reflektiert – und ja: auch mit einem Lächeln\n\nSeminarleitung: Susanne Christine Drdla / ABZ*AUSTRIA \nHinweis: Dieses Seminar wird als Live-Online-Veranstaltung abgehalten \nVeranstaltet von: \nLEA – Let’s empower Austria\nÖsterreichischer Fonds zur Stärkung und Förderung von Frauen und Mädchen\nhttps://letsempoweraustria.at\nInstagram | LinkedIn
URL:https://www.femvents.at/event/was-trage-ich-wirklich-mental-emotional-load-verstehen-und-bei-sich-bleiben-live-online-seminar/
LOCATION:Live-Online-Seminar
CATEGORIES:Online-Event
ATTACH;FMTTYPE=image/jpeg:https://www.femvents.at/wp-content/uploads/2025/09/lea-10.jpg
END:VEVENT
BEGIN:VEVENT
DTSTART;TZID=Europe/Vienna:20251023T180000
DTEND;TZID=Europe/Vienna:20251023T193000
DTSTAMP:20260423T001036
CREATED:20251010T083022Z
LAST-MODIFIED:20251010T083022Z
UID:10000375-1761242400-1761247800@www.femvents.at
SUMMARY:THE: Sorority goes Wien Museum - Sonderführung
DESCRIPTION:Wir gehen ins Museum! \n👀Komm mit und ergründe eine Stunde Stadtgeschichte aus feministischer Perspektive. Wie haben Frauen in Wien durch die Geschichte gelebt und gearbeitet? Welche Rolle spielten sie in der Entwicklung der Stadt und wieso wissen wir so wenig darüber? \n🖼️Die Sammlung des Wien Museums umfasst rund eine Million Objekte von den Anfängen der Besiedelung bis in die Gegenwart. Sei dabei\, wenn wir anhand einiger ausgewählter Objekte Geschichten von Frauen* nachzeichnen und Besonderes über die Gegenwart erfahren. Tauche mit uns ein in die Welt von Künstler:innen\, Herrscher:innen\, Arbeiter:innen und Frauen* des Wiener Alltaglebens. \n📌 // Was? Führung Frauen*geschichten im Wien Museum\n⏰️ // Wann? Do\, 23.10.2025\, 18:00 Uhr\n📍 // Wo? Foyer\, Wien Museum\, Karlsplatz 8\, 1040 Wien \n👸 // Wer? gratis für Sorority Mitglieder – sonst freie Spende\n✍🏼// Anmeldung unter: Eventbrite\n🎤 // mit Marta Suzama
URL:https://www.femvents.at/event/the-sorority-goes-wien-museum-sonderfuehrung-2/
LOCATION:Wien Museum\, Karlsplatz 8\, Wien\, Wien\, 1040\, Austria
CATEGORIES:After Work,Frauenkreis,Vortrag,Wien
ATTACH;FMTTYPE=image/jpeg:https://www.femvents.at/wp-content/uploads/2025/10/Kopie-von-FB-Header-Event-17.jpg
ORGANIZER;CN="THE%3ASorority":MAILTO:events@sorority.at
GEO:48.1993921;16.3729554
X-APPLE-STRUCTURED-LOCATION;VALUE=URI;X-ADDRESS=Wien Museum Karlsplatz 8 Wien Wien 1040 Austria;X-APPLE-RADIUS=500;X-TITLE=Karlsplatz 8:geo:16.3729554,48.1993921
END:VEVENT
BEGIN:VEVENT
DTSTART;TZID=Europe/Vienna:20251023T180000
DTEND;TZID=Europe/Vienna:20251023T233000
DTSTAMP:20260423T001036
CREATED:20250904T061932Z
LAST-MODIFIED:20250904T061932Z
UID:10000228-1761242400-1761262200@www.femvents.at
SUMMARY:SUCCESS SOIRÉE
DESCRIPTION:Die „Success Soirée Salzburg“ lädt (Business-)Frauen zu einem besonderen Event ein\, das Networking\, Inspiration und Feierlaune miteinander verbindet. Dieses einzigartige After-Work-Format bietet eine Bühne – in Form einer Tanzfläche – für Sichtbarkeit\, Austausch und Motivation. Ganz im Sinne von „Sisterhood“ schafft das Event einen Raum und Rahmen\, in dem Frauen einander applaudieren\, feiern und miteinander wachsen können. \n\n\n\nSUCCESS SOIRÉE\n\n\nLET’S BUSINESS WOMEN DANCE! \n\n\nNetzwerk-After-Work-Party für Businessfrauen  \nNetworking: In einer lockeren Atmosphäre wird der Rahmen für inspirierende Gespräche und den Austausch von Ideen geboten. Es besteht die Möglichkeit\, neue Kontakte zu knüpfen und bestehende Netzwerke zu pflegen.  \nInspirierende Rednerinnen: Motivierende Impulsvorträge von erfolgreichen Businessfrauen und Unternehmerinnen bereichern und motivieren. So hat Gabriele Wimmler\, Trainerin des Jahres 2024\, Coach & Bestseller-Autorin\, mit dem Thema „ECHT MUTIG: Volles Potential voraus“ unsere Antennen auf mutige Entscheidungen und persönliches Wachstum ausgerichtet. Bettina Ludwig\, Kultur- und Sozialanthropologin\, Speakerin\, Buchautorin & Unternehmerin\, zeigte uns Wege zu mehr Optimismus im Business. Conny Hörl – Unternehmerin\, Buchautorin\, Keynote Speakerin & Business Angel\, hat in ihrem Vortrag beleuchtet\, warum „wir mehr weibliche Investoren brauchen“ und wie Frauen ihre finanzielle Zukunft selbstbewusst gestalten können. Queen of Hospitality Christine Friedreich hat über „Freiheit beginnt\, wenn du dich selbst wie deinen besten Gast behandelst“ gesprochen. Und im Oktober wird Sandra Lahnsteiner-Wagner\, Profi Freeskierin\, Filmemacherin & Gründerin von Shades of Winter über “Die Magie der First Line” sprechen.  \nMotivation und Empowerment: Durch interaktive Sessions und Diskussionen werden neue Perspektiven eröffnet und Raum für kreativen Austausch geschaffen. \nFeiern und Spaß: Nach dem offiziellen Teil wird die Tanzfläche eröffnet. Unsere DJs wie DJ Nikolette\, DJane Sarah Viola und DJ Celeste bringen die Tanzfläche zum Beben\, während Cocktails\, Drinks und köstliches Organic-Balboa-Fingerfood für das leibliche Wohl sorgen. In lockerer Atmosphäre lässt sich hervorragend tanzen\, feiern und Netzwerke knüpfen.
URL:https://www.femvents.at/event/success-soiree/
LOCATION:Club Balboa Salzburg\, Gstättengasse 7\, Salzburg\, Salzburg\, 5020\, Austria
CATEGORIES:Netzwerk-Treffen
ATTACH;FMTTYPE=image/avif:https://www.femvents.at/wp-content/uploads/2025/09/SUCCESS-SOIREE-.avif
GEO:47.8051393;13.0380686
X-APPLE-STRUCTURED-LOCATION;VALUE=URI;X-ADDRESS=Club Balboa Salzburg Gstättengasse 7 Salzburg Salzburg 5020 Austria;X-APPLE-RADIUS=500;X-TITLE=Gstättengasse 7:geo:13.0380686,47.8051393
END:VEVENT
BEGIN:VEVENT
DTSTART;TZID=Europe/Vienna:20251023T183000
DTEND;TZID=Europe/Vienna:20251023T200000
DTSTAMP:20260423T001036
CREATED:20251009T123614Z
LAST-MODIFIED:20251009T123614Z
UID:10000371-1761244200-1761249600@www.femvents.at
SUMMARY:Yoni Steaming Circle
DESCRIPTION:Yoni Steaming ist ein Dampfbad für deinen Intimbereich & Unterleib. Es ist eine uralte Tradition und auf der ganzen Welt verbreitet. Du setzt dich dabei über einen Kräutersud und lässt den Dampf in die Vulva und den Bauchraum steigen. Vaginal Steaming kann bei vielen Themen/Beschwerden unterstützen – Menstruationsbeschwerden\, Geburtsvorbereitung\, Menopause\, (chronischen) Blasenentzündungen\, Endometriose uvm. \nBeim Yoni Steaming Circle hast du die Möglichkeit es unter professioneller Anleitung auf einem eigens dafür konzipiertem Hocker auszuprobieren.\nAußerdem zeige ich dir\, wie du zuhause sicher steamen kannst und welche Alternativen es gibt\, wenn du keinen Steaminghocker besitzt. \nIm Preis sind eine Kräutermischung für die Anwendung beim Workshop und danach für mehrmaliges Steamen zuhause\, Snacks & Tee inkludiert.\nMehr Infos findest du auf der Website. \nFreue mich\, wenn du dabei bist 🙂\nMelanie
URL:https://www.femvents.at/event/yoni-steaming-circle-2/
LOCATION:all about period\, Lerchenfelderstrasse 65\, Wien\, Wien\, 1070\, Austria
CATEGORIES:Frauenkreis,Wien,Workshop
ATTACH;FMTTYPE=image/jpeg:https://www.femvents.at/wp-content/uploads/2025/10/TessaViktoriaKutsamFoto_ALLABOUTPERIOD_YONISTEAMING-9.jpg
GEO:48.206719;16.3466189
X-APPLE-STRUCTURED-LOCATION;VALUE=URI;X-ADDRESS=all about period Lerchenfelderstrasse 65 Wien Wien 1070 Austria;X-APPLE-RADIUS=500;X-TITLE=Lerchenfelderstrasse 65:geo:16.3466189,48.206719
END:VEVENT
BEGIN:VEVENT
DTSTART;TZID=Europe/Vienna:20251023T190000
DTEND;TZID=Europe/Vienna:20251023T210000
DTSTAMP:20260423T001036
CREATED:20250923T091901Z
LAST-MODIFIED:20250923T093018Z
UID:10000311-1761246000-1761253200@www.femvents.at
SUMMARY:Golden Females Business Meetup Graz
DESCRIPTION:Suchst du nach gleichgesinnten\, selbstständigen Frauen aus deiner Umgebung\, die dich inspirieren und unterstützen? \nDann bist du bei uns genau richtig! \nHier hast du die Möglichkeit\, dich mit spannenden Frauen\, Gründerinnen\, Freelancerinnen und selbständigen Ladys aus verschiedenen Branchen zu verbinden und dir ein starkes Netzwerk aufzubauen\, das zu deiner „Business Family“ wird. \nWarum Netzwerken? \nDurch den Austausch mit anderen Frauen kannst du: \n\nDein Wissen erweitern: Hol dir Tipps und Erfahrungswerte von anderen Frauen und entdecke neue Ansätze für dein Business.\n\n\nKooperationen & neue Businesskontakte: Lerne beim Meet up Frauen kennen\, mit denen du spannende Kooperationen eingehen und dein Business voranbringen kannst. Dabei eröffnen sich dir nicht nur Chancen für neue Kontakte\, sondern auch die Möglichkeit\, auf potenzielle Kundinnen zu treffen und wertvolle Geschäftsbeziehungen aufzubauen.\n\n\nStärke dein Selbstbewusstsein: Unterstützung und empowerndes Feedback von Gleichgesinnten helfen dir\, mit emotionalen Höhen und Tiefen umzugehen. Durch ein starkes Umfeld\, wirst du dich in deiner Selbständigkeit nie wieder allein fühlen!\n\n\nWerde sichtbar mit deinem Business: Zeige dich und sprich über dein Business in einem geschützten Raum mit Frauen\, die dich verstehen und bestärken. Persönliche Gespräche schaffen Vertrauen und bauen schnelle Verbindungen auf.\n\n\nFreundschaften: Du hast die Möglichkeiten echte Verbindungen fürs Leben zu knüpfen\, die deine Interessen teilen.\n\nDas erwartet dich: \nJeden Monat laden wir dich ein\, einen inspirierenden Abend mit selbstständigen Frauen\, Gründerinnen und selbständigen Frauen zu verbringen. Wir treffen uns immer in einer anderen Location. \nNeben einer kleinen Vorstellungsrunde erwarten dich empowernde Gespräche mit Gleichgesinnten und jede Menge Spaß! \nSchließe dich einem Netzwerk von starken Frauen an\, die zusammen an ihrem Wachstum arbeiten\, ihre Träume verwirklichen und sich gegenseitig unterstützen. Spricht dich das an? \nDann sei dabei und lass uns gemeinsam wachsen! \nFacts: \n\nDas Ticket kostet 15 Euro.\n\n\nNach einer kleinen Vorstellungsrunde kannst du dich mit anderen gleichgesinnten Frauen austauschen und netzwerken.\n\n\nWir haben einen Tisch auf den Namen „Golden Females“ im Restaurant reserviert. Dort kannst du leckere Speisen und Drinks genießen. Diese sind auf Selbstzahlerbasis.\n\n\nDas Treffen findet monatlich und immer in wechselnder Location statt. Dieses Mal sind wir im Restaurant San Pietro & San Bar\, St. Peter Hauptstraße 141\, 8042 Graz\n\n\nWir freuen uns wenn du pünktlich um 19.00 Uhr erscheinst.\n\nFolge uns auf Eventbrite und auf Instagram unter https://www.instagram.com/golden_females und verpasse kein Event! \nWir freuen uns riesig darauf\, dich kennenzulernen! \n🤍 \nGOLDEN FEMALES
URL:https://www.femvents.at/event/golden-females-business-meetup-graz/
LOCATION:San Pietro & San Bar\, St. Peter Hauptstraße 141\, Graz\, Steiermark\, 8042\, Austria
CATEGORIES:Netzwerk-Treffen,Steiermark
ATTACH;FMTTYPE=image/png:https://www.femvents.at/wp-content/uploads/2025/09/Graz-Hintergrund.png
GEO:47.0504343;15.4802392
X-APPLE-STRUCTURED-LOCATION;VALUE=URI;X-ADDRESS=San Pietro & San Bar St. Peter Hauptstraße 141 Graz Steiermark 8042 Austria;X-APPLE-RADIUS=500;X-TITLE=St. Peter Hauptstraße 141:geo:15.4802392,47.0504343
END:VEVENT
END:VCALENDAR