BEGIN:VCALENDAR
VERSION:2.0
PRODID:-//femvents.at - ECPv6.15.18//NONSGML v1.0//EN
CALSCALE:GREGORIAN
METHOD:PUBLISH
X-ORIGINAL-URL:https://www.femvents.at
X-WR-CALDESC:Veranstaltungen für femvents.at
REFRESH-INTERVAL;VALUE=DURATION:PT1H
X-Robots-Tag:noindex
X-PUBLISHED-TTL:PT1H
BEGIN:VTIMEZONE
TZID:Europe/Vienna
BEGIN:DAYLIGHT
TZOFFSETFROM:+0100
TZOFFSETTO:+0200
TZNAME:CEST
DTSTART:20240331T010000
END:DAYLIGHT
BEGIN:STANDARD
TZOFFSETFROM:+0200
TZOFFSETTO:+0100
TZNAME:CET
DTSTART:20241027T010000
END:STANDARD
BEGIN:DAYLIGHT
TZOFFSETFROM:+0100
TZOFFSETTO:+0200
TZNAME:CEST
DTSTART:20250330T010000
END:DAYLIGHT
BEGIN:STANDARD
TZOFFSETFROM:+0200
TZOFFSETTO:+0100
TZNAME:CET
DTSTART:20251026T010000
END:STANDARD
BEGIN:DAYLIGHT
TZOFFSETFROM:+0100
TZOFFSETTO:+0200
TZNAME:CEST
DTSTART:20260329T010000
END:DAYLIGHT
BEGIN:STANDARD
TZOFFSETFROM:+0200
TZOFFSETTO:+0100
TZNAME:CET
DTSTART:20261025T010000
END:STANDARD
END:VTIMEZONE
BEGIN:VEVENT
DTSTART;VALUE=DATE:20251023
DTEND;VALUE=DATE:20251027
DTSTAMP:20260423T001204
CREATED:20250618T132013Z
LAST-MODIFIED:20250618T132220Z
UID:10000067-1761177600-1761523199@www.femvents.at
SUMMARY:Women´s Wisdom FrauenRETREAT
DESCRIPTION:„A woman who returns to her feminine nature\, \nawakens the source of her power.“ \n✨ Women’s Wisdom Retreat – Ein Rückzugsort\, der dich an deine urweibliche Essenz und Schöpferkraft erinnert. 4 Tage Schwesternschaft\, tiefe Verbundenheit und Raum für dein Frau-Sein – frei von Erwartungen\, Stress und Alltags-To-Dos. \nDu verbindest dich mit deinem Herzen und Schoßraum\, spürst deine Intuition und deine urweibliche Kraft. \nWas dich erwartet:\nSunrise Yoga & Meditation\nLagerfeuer & Awaken your Voice-SingingCircle\nWomenCircles & Rituale der Schwesternschaft\nWomb Blessing & Yoni Steaming\nSauna-Zeremonie für Loslassen & Reinigung\nWaldbaden & Naturzeit\nSensual Soul Dance bei Kerzenlicht \nDeine Zeit für DICH und die Erinnerung an deine wahre Essenz\, deine unbändige Schöpferkraft und das Gefühl tiefer Schwesternschaft. \nEin Auftanken\, zur Ruhe kommen und dich SPÜREN auf Zellebene. \nWir freuen uns auf dich! \nRetreatleiterin:\nElla Gappmaier: Ella ist ganzheitliche Kinesiologin für Nervensystemregulierung\, Stressmanagement und Frau-Sein und leitet seit vielen Jahren spirituelle Events für Weiblichkeit und Verbundenheit\, Frauenkreise und Zeremonien mit viel Herz\, Authentizität und weiblichem Flow.\nSie schafft sichere Räume des Wohlfühlens\, der Verbindung & des einfachen Seins. Ihr Blick fällt auf die Wunder und das echte Miteinander. Eine Magic Bubble aus Liebe & Verbundenheit entsteht. \nYogafee:\nBabsi Reiter: Babsi schenkt uns zauberhafte\, tiefgehende und berührende Yoga- & feminine Movement Rituale\, die dich an deinen wahren Kern und dein weibliches Sein erinnern.\nIhre Präsenz schenkt Liebe\, Sicherheit und das Gefühl des Ankommens. \nPreis:\n555\,- Euro + Unterkunft
URL:https://www.femvents.at/event/womens-wisdom-frauenretreat/
LOCATION:TamanGa Retreatcenter\, Labitschberg 4\, Gamlitz\, Steiermark\, 8462\, Austria
CATEGORIES:Retreat
ATTACH;FMTTYPE=image/jpeg:https://www.femvents.at/wp-content/uploads/2025/06/Frauen-scaled.jpg
ORGANIZER;CN="EllasSoulfood - Ella Gappmaier":MAILTO:info@ellassoulfood.at
GEO:46.7243635;15.534673
X-APPLE-STRUCTURED-LOCATION;VALUE=URI;X-ADDRESS=TamanGa Retreatcenter Labitschberg 4 Gamlitz Steiermark 8462 Austria;X-APPLE-RADIUS=500;X-TITLE=Labitschberg 4:geo:15.534673,46.7243635
END:VEVENT
BEGIN:VEVENT
DTSTART;TZID=Europe/Vienna:20251024T120000
DTEND;TZID=Europe/Vienna:20251026T130000
DTSTAMP:20260423T001204
CREATED:20250930T150037Z
LAST-MODIFIED:20250930T150037Z
UID:10000340-1761307200-1761483600@www.femvents.at
SUMMARY:Ground & Grow
DESCRIPTION:Bei diesem Retreat wirst du eingeladen raus aus dem Funktionsmodus und wieder rein in die bewusste Verbindung mit dir selbst zu kommen.  Embodiment Einheiten\, Mindset-Workshops Yoga und die bewusste Verbindung mit dem weiblichen Zyklus werden dich dabei unterstützen!  Wir kennen das gut\, wir haben auch ständig viele neue Ideen in der Arbeit\, im Sport und und und..\, aber durch die bewusste Verbindung mit uns selbst haben wir gelernt uns dabei nicht zu verlieren\, unsere Energie achtsam einzusetzen und auf uns selbst zu hören. Diese Lebendigkeit möchten wir gerne mit euch teilen!
URL:https://www.femvents.at/event/ground-grow/
LOCATION:Bad Gastein\, the Comodo\, Kaiserhofstr. 18\, Bad Gastein\, Salzburg\, 5640\, Austria
CATEGORIES:Retreat,Salzburg
ATTACH;FMTTYPE=image/png:https://www.femvents.at/wp-content/uploads/2025/09/1-1.png
ORGANIZER;CN="Veronika Mayerhofer":MAILTO:office@veronika-mayerhofer.com
GEO:47.1236877;13.1445419
X-APPLE-STRUCTURED-LOCATION;VALUE=URI;X-ADDRESS=Bad Gastein the Comodo Kaiserhofstr. 18 Bad Gastein Salzburg 5640 Austria;X-APPLE-RADIUS=500;X-TITLE=Kaiserhofstr. 18:geo:13.1445419,47.1236877
END:VEVENT
BEGIN:VEVENT
DTSTART;TZID=Europe/Vienna:20251025T093000
DTEND;TZID=Europe/Vienna:20251025T173000
DTSTAMP:20260423T001204
CREATED:20251011T094220Z
LAST-MODIFIED:20251011T152510Z
UID:10000378-1761384600-1761413400@www.femvents.at
SUMMARY:Feel Good Day
DESCRIPTION:„Dein Tag für Körper\, Geist & Kreativität“ – Lass den Alltag hinter dir und schenke dir einen Tag nur für dich! \nWas dich erwartet: \n\nYOGA & SOMATISCHE ÜBUNGEN – Sanfte\, achtsame Bewegungen\, um Anspannung loszulassen\, dein Nervensystem zu beruhigen\, deine Körperwahrnehmung zu stärken und dich mit deinem inneren Raum zu verbinden.\n INTUITIVES MALEN UND KREATIVES GESTALTEN – Erlaube dir\, frei und ohne Druck oder Bewertung\, deine inneren Bilder  und Emotionen zum Ausdruck zu bringen..\nDEINE EIGENE AFFIRMATIONSKARTE – Gestalte ein persönliches Kraftbild\,\ndas dich auch nach dem Retreat begleitet.\nKRISTALLKLANG – Die feinen\, hochschwingenden Kristallklänge unterstützen dich dabei\, dein Energiefeld zu harmonisieren\, innere Blockaden zu lösen\nund in einen Zustand der Balance und Klarheit zu finden.\nACHTSAME PAUSEN & GEMEINSCHAFT – Zeit für dich und für den Austausch in einer wohlwollenden Runde.\n\nKeine Vorkenntnisse nötig – nur deine Offenheit und Neugier. \nWir freuen uns auf dich!\nSophie & Christina \n 
URL:https://www.femvents.at/event/feel-good-day/
LOCATION:SeyringerGut\, Seyring 3\, A-4971 Aurolzmünster\, Seyring 3\, Aurolzmünster\, Oberösterreich\, 4971\, Austria
CATEGORIES:Malworkshop,Meditation,Oberösterreich,Retreat,Soundhealing,Workshop
ATTACH;FMTTYPE=image/jpeg:https://www.femvents.at/wp-content/uploads/2025/10/FeelGoodDay_Header.jpg
ORGANIZER;CN="Herz an Herz Atelier":MAILTO:tina@herzanherz.at
GEO:48.2306101;13.4510808
X-APPLE-STRUCTURED-LOCATION;VALUE=URI;X-ADDRESS=SeyringerGut Seyring 3 A-4971 Aurolzmünster Seyring 3 Aurolzmünster Oberösterreich 4971 Austria;X-APPLE-RADIUS=500;X-TITLE=Seyring 3:geo:13.4510808,48.2306101
END:VEVENT
END:VCALENDAR