BEGIN:VCALENDAR
VERSION:2.0
PRODID:-//femvents.at - ECPv6.15.18//NONSGML v1.0//EN
CALSCALE:GREGORIAN
METHOD:PUBLISH
X-ORIGINAL-URL:https://www.femvents.at
X-WR-CALDESC:Veranstaltungen für femvents.at
REFRESH-INTERVAL;VALUE=DURATION:PT1H
X-Robots-Tag:noindex
X-PUBLISHED-TTL:PT1H
BEGIN:VTIMEZONE
TZID:Europe/Vienna
BEGIN:DAYLIGHT
TZOFFSETFROM:+0100
TZOFFSETTO:+0200
TZNAME:CEST
DTSTART:20240331T010000
END:DAYLIGHT
BEGIN:STANDARD
TZOFFSETFROM:+0200
TZOFFSETTO:+0100
TZNAME:CET
DTSTART:20241027T010000
END:STANDARD
BEGIN:DAYLIGHT
TZOFFSETFROM:+0100
TZOFFSETTO:+0200
TZNAME:CEST
DTSTART:20250330T010000
END:DAYLIGHT
BEGIN:STANDARD
TZOFFSETFROM:+0200
TZOFFSETTO:+0100
TZNAME:CET
DTSTART:20251026T010000
END:STANDARD
BEGIN:DAYLIGHT
TZOFFSETFROM:+0100
TZOFFSETTO:+0200
TZNAME:CEST
DTSTART:20260329T010000
END:DAYLIGHT
BEGIN:STANDARD
TZOFFSETFROM:+0200
TZOFFSETTO:+0100
TZNAME:CET
DTSTART:20261025T010000
END:STANDARD
END:VTIMEZONE
BEGIN:VEVENT
DTSTART;VALUE=DATE:20251201
DTEND;VALUE=DATE:20251202
DTSTAMP:20260422T173912
CREATED:20251107T190320Z
LAST-MODIFIED:20251216T100657Z
UID:10000481-1764547200-1764633599@www.femvents.at
SUMMARY:24 Dates with myself
DESCRIPTION:Gerade in der Adventszeit ist unser Fokus sehr viel im Außen\, weil um uns herum so viel los ist\, so viel noch getan werden soll und so viel von uns erwartet wird. Dabei befinden wir uns in der Zeit des Jahres\, in der sich in der Natur alles nach innen zieht\, Pause macht\, in Winterruhe geht. Wie diese Jahreszeit in unserer Gesellschaft gelebt wird\, entspricht so gar nicht unserer zyklischen Natur. \nUmso wichtiger ist es\, immer wieder bewusst nach innen zu gehen\, um dich nicht im Außen zu verlieren und das Jahr erschöpft zu beenden. \nDieser Adventskalender lädt dich ein\, dir Raum für dich selbst zu schenken: raus aus dem Funktionieren\, Planen und Tun – hinein in den Moment\, in Verbindung und Entspannung. \nDu bekommst \n\ntäglich einen wertvollen Impuls per Telegram in Audio- oder Textform\nkleine Körper-\, Atem- und Achtsamkeitsmomente\n5 Minuten für dich jeden Tag\, in denen du dich dir selbst zuwendest\, langsam wirst und Entspannung findest\n\nKosten: 33 €
URL:https://www.femvents.at/event/24-dates-with-myself/
LOCATION:Wien
CATEGORIES:Meditation,Online-Event,Österreichweit
ATTACH;FMTTYPE=image/png:https://www.femvents.at/wp-content/uploads/2025/11/Flyer-24-Dates-with-myself.png
END:VEVENT
BEGIN:VEVENT
DTSTART;TZID=Europe/Vienna:20251201T080000
DTEND;TZID=Europe/Vienna:20251201T170000
DTSTAMP:20260422T173912
CREATED:20251114T110415Z
LAST-MODIFIED:20251216T100651Z
UID:10000501-1764576000-1764608400@www.femvents.at
SUMMARY:Wellpreneur Adventskalender für Selbstständige Frauen & Unternehmerinnen
DESCRIPTION:Der Wellpreneur Adventskalender für Selbstständige Frauen & Unternehmerinnen\n\n(kostenlos!)\n\n✨ 24 Tage für mehr Balance\, Freude & Leichtigkeit ✨\nEin Dezember voller Inspiration \nfür Körper\, Geist & Business.\n\n\nKein Schoko-Kalender. Ein Soul-Kalender.\nZuckerfrei. Stressfrei. Überforderungsfrei.\nDafür voller wertvoller Impulse\, Mini-Rituale\, Achtsamkeit \n\n& echter Selfcare. \n  \n\n\nIm Wellpreneur Adventskalender bekommst du ab dem 1. Dezember jeden Tag einen kleine (oder auch mal größere) Nachricht von mir.\nDich erwarten:\n💌 tägliche Impulse & Journaling-Fragen\n🧘‍♀️ kurze Embodiment- oder Atemübungen zur Nervensystemregulation\n🌿 Holistic Health & Hormonbalance Tipps für mehr Energie\n💖 Inspirationen für eine liebevolle\, gesunde Körperbeziehung & Bodylove\n💼 Wellpreneur-Impulse für mehr Flow & Leichtigkeit im Business\n🎁 Giveaways & Überraschungen\n\nIch freu mich so sehr\, dich bald im Flow zu sehen.\nDas wird kein weiteres To-do\, sondern der Anfang von mehr Wellbeing\, mehr Klarheit\, mehr Energie und echtem Vertrauen in deinen eigenen Rhythmus.\n\n🤎\nMelde dich jetzt kostenlos an und erhalte ab dem\n1. Dezember täglich eine Nachricht von mir direkt auf Telegram.\n(Nach deiner Anmeldung bekommst du sofort den Link zum Kanal und kannst beitreten\, bevor das erste Türchen aufgeht.)
URL:https://www.femvents.at/event/wellpreneur-adventskalender-fuer-selbststaendige-frauen-unternehmerinnen/
LOCATION:Online-Event\, Austria
CATEGORIES:Online-Event
ATTACH;FMTTYPE=image/png:https://www.femvents.at/wp-content/uploads/2025/11/Ads-IG-Story-Wellpreneur-Adventskalender.png
GEO:47.516231;14.550072
END:VEVENT
BEGIN:VEVENT
DTSTART;TZID=Europe/Vienna:20251201T190000
DTEND;TZID=Europe/Vienna:20251201T213000
DTSTAMP:20260422T173912
CREATED:20251117T175708Z
LAST-MODIFIED:20251117T175708Z
UID:10000519-1764615600-1764624600@www.femvents.at
SUMMARY:Frauenkreis - AUFTANKEN. Langsamkeit & Sanftheit.
DESCRIPTION:✨ Frauenkreis: Slowness. Softness. Gentleness. – ein nährender Abend für dich ✨ \nMitten in der oft hektischen Vorweihnachtszeit – in der To-Do-Listen länger werden\, Erwartungen steigen und familiäre wie soziale Verpflichtungen uns fordern – möchte ich dir die Möglichkeit geben\, für zweieinhalb Stunden auf Pause zu drücken. \n🤍Ein Raum nur für dich.\n🤍Ein Raum\, in du nichts tun oder erreichen musst.\n🤍Ein Raum\, in dem du einfach sein darfst. \nAn diesem Abend tauchen wir gemeinsam ein in Langsamkeit und Sanftheit – Qualitäten\, die uns aufatmen lassen\, nähren\, und wieder zurück zu uns selbst führen. \nDich erwartet eine wohltuende Mischung aus\n• Achtsamkeitspraxis\n• geführter Meditation\n• sanftem Embodiment\n• Momenten der Stille\, des Spürens und des Auftankens \nWir lassen Spannung abfallen\, erlauben uns Entschleunigung und geben dem Körper\, dem Nervensystem Raum\, in ein weicheres\, langsameres Tempo zu finden. \nDies ist deine Einladung  das Müssen\, das Tun\, das Funktionieren für einen Abend loszulassen und dich als einen Akt von Selbstfürsorge selbst mit Langsamkeit\, Sanftheit und Präsenz zu beschenken. \nGönn dir diesen nährenden Abend für dich.\nEntschleunigen. Aufatmen. Batterien auftanken.  \n  \n📅 Montag\, 1. Dezember \n⏰ 19.00 bis 21.30 Uhr \n📍 1150 Wien (nähe U3 Schweglerstraße)  \n👉🏻 Teilnahmebeitrag: EUR 30 \n🗣️ Deutsch \n💌 Anmeldung unter diesem Link: \nhttps://form.jotform.com/252513432956357 \n*Der Kreis ist offen für Menschen die sich als Frau* verstehen oder Personen die Erfahrungen gemacht haben\, die typischerweise mit einer weiblichen Sozialisation verbunden sind. \n💌 Du hast keine Zeit aber kennst jemanden\, für die das interessant ist? Dann leite diese Einladung doch gerne weiter! \n  \n➡️Mehr Infos über mich und meine Arbeit (Workshops und psychologische Beratung) \nheartscape.at/womens-circles \nwww.instagram.com/heartscape.at \n  \nWenn du noch weitere Fragen hast schreib mir gerne 💛 ich freu mich auf dich! \nAlles Liebe \nJasmin
URL:https://www.femvents.at/event/frauenkreis-auftanken-langsamkeit-sanftheit/
LOCATION:Benedikt-Schellinger-Gasse\, 1150 Wien\, Wien\, Wien\, 1150\, Austria
CATEGORIES:After Work,Coaching,Frauenkreis,Kurs,Meditation,Meetup,Wien,Workshop
ATTACH;FMTTYPE=image/jpeg:https://www.femvents.at/wp-content/uploads/2025/11/a1ac0557-8855-45bc-9261-4e6429fc57f2.jpg
ORGANIZER;CN="heartscape.at":MAILTO:jasmin@heartscape.at
GEO:48.1919814;16.3324557
END:VEVENT
END:VCALENDAR