BEGIN:VCALENDAR
VERSION:2.0
PRODID:-//femvents.at - ECPv6.15.18//NONSGML v1.0//EN
CALSCALE:GREGORIAN
METHOD:PUBLISH
X-ORIGINAL-URL:https://www.femvents.at
X-WR-CALDESC:Veranstaltungen für femvents.at
REFRESH-INTERVAL;VALUE=DURATION:PT1H
X-Robots-Tag:noindex
X-PUBLISHED-TTL:PT1H
BEGIN:VTIMEZONE
TZID:Europe/Vienna
BEGIN:DAYLIGHT
TZOFFSETFROM:+0100
TZOFFSETTO:+0200
TZNAME:CEST
DTSTART:20240331T010000
END:DAYLIGHT
BEGIN:STANDARD
TZOFFSETFROM:+0200
TZOFFSETTO:+0100
TZNAME:CET
DTSTART:20241027T010000
END:STANDARD
BEGIN:DAYLIGHT
TZOFFSETFROM:+0100
TZOFFSETTO:+0200
TZNAME:CEST
DTSTART:20250330T010000
END:DAYLIGHT
BEGIN:STANDARD
TZOFFSETFROM:+0200
TZOFFSETTO:+0100
TZNAME:CET
DTSTART:20251026T010000
END:STANDARD
BEGIN:DAYLIGHT
TZOFFSETFROM:+0100
TZOFFSETTO:+0200
TZNAME:CEST
DTSTART:20260329T010000
END:DAYLIGHT
BEGIN:STANDARD
TZOFFSETFROM:+0200
TZOFFSETTO:+0100
TZNAME:CET
DTSTART:20261025T010000
END:STANDARD
END:VTIMEZONE
BEGIN:VEVENT
DTSTART;TZID=Europe/Vienna:20251202T093000
DTEND;TZID=Europe/Vienna:20251202T113000
DTSTAMP:20260422T173914
CREATED:20251126T145035Z
LAST-MODIFIED:20251126T145035Z
UID:10000540-1764667800-1764675000@www.femvents.at
SUMMARY:Pension? Deine Zukunft – deine Entscheidung! (Live-Online-Seminar)
DESCRIPTION:In diesem Seminar erhältst du einen klaren Überblick über das Pensionssystem und die wichtigsten Stellschrauben für deine persönliche Vorsorge. Wir zeigen\, welche Chancen und Risiken es gibt\, wie du finanzielle Lücken erkennen und rechtzeitig schließen kannst und welche Strategien wirklich langfristig tragen. Das Ziel: Du gewinnst Sicherheit\, Orientierung und die Kompetenz\, deine finanzielle Zukunft selbst in die Hand zu nehmen. Wir werden dir das Wissen und die Werkzeuge geben\, damit du mit Klarheit und Zuversicht planen kannst. \nSeminarleitung: Dr. Marietta Babos\, Damensache – Finanzen für die Frau \nHinweis: Dieses Seminar findet live und ONLINE statt \nVeranstaltet vom Österreichischen Fonds zur Stärkung und Förderung von Frauen und Mädchen
URL:https://www.femvents.at/event/pension-deine-zukunft-deine-entscheidung-live-online-seminar-3/
LOCATION:Live-Online-Seminar
CATEGORIES:Online-Event,Österreichweit,Workshop
ATTACH;FMTTYPE=image/jpeg:https://www.femvents.at/wp-content/uploads/2025/11/lea01.jpg
END:VEVENT
BEGIN:VEVENT
DTSTART;TZID=Europe/Vienna:20251202T093000
DTEND;TZID=Europe/Vienna:20251202T113000
DTSTAMP:20260422T173914
CREATED:20251126T145054Z
LAST-MODIFIED:20251126T145054Z
UID:10000542-1764667800-1764675000@www.femvents.at
SUMMARY:Selbstwert erleben – Wer bin ich jenseits von Leistung\, Fürsorge und Zustimmung?
DESCRIPTION:Viele Menschen – insbesondere Frauen – leben in ständiger Anstrengung\, für andere da zu sein: als Mütter\, Partnerinnen\, Töchter oder Kolleginnen. Trotz großer Hingabe bleibt oft ein Gefühl von „nicht genug“. Dieses Seminar lädt dazu ein\, liebevoll nach innen zu schauen: Wer bin ich jenseits von Rollen und Erwartungen? Wie gelingt es\, Selbstwert nicht nur als Idee zu verstehen\, sondern als spürbare\, innere Erfahrung zu leben? In einer achtsamen Mischung aus Impulsen\, Reflexion und einfachen Übungen erkunden wir\, wie echter Selbstwert unabhängig von Rückmeldungen von außen entsteht – und wie wir lernen\, uns selbst wieder an erste Stelle zu setzen\, ohne egoistisch zu sein. \nSeminarleitung: Sandra Teml-Wall \nHinweis: Dieses Seminar wird als Live-Online-Veranstaltung abgehalten \nVeranstaltet vom Österreichischen Fonds zur Stärkung und Förderung von Frauen und Mädchen
URL:https://www.femvents.at/event/selbstwert-erleben-wer-bin-ich-jenseits-von-leistung-fuersorge-und-zustimmung/
LOCATION:Live-Online-Seminar
CATEGORIES:Coaching,Online-Event,Österreichweit,Workshop
ATTACH;FMTTYPE=image/jpeg:https://www.femvents.at/wp-content/uploads/2025/11/lea01-2.jpg
END:VEVENT
BEGIN:VEVENT
DTSTART;TZID=Europe/Vienna:20251202T160000
DTEND;TZID=Europe/Vienna:20251202T190000
DTSTAMP:20260422T173914
CREATED:20250916T063020Z
LAST-MODIFIED:20250916T063020Z
UID:10000288-1764691200-1764702000@www.femvents.at
SUMMARY:Digifit - Ich mach mir selbst ein Bild. Weiterbildung & Lebenslanges Lernen
DESCRIPTION:Moocs\, E-Learnings\, Tutorials\, Webinare: noch nie war Weiterbildung\, das Erlernen von Sprachen oder Computerprogrammen so einfach. Und das meist kostenlos. Es gibt nichts\, was es nicht gibt: Seiten zum Üben des 10-Finger-Systems\, MS-Office-Tutorials\, Berufsberatung\, Wissenstests und vieles mehr. Lebenslanges Lernen bekommt einen völlig neuen Stellenwert. Jede hat also die Möglichkeit\, Neues zu lernen. Doch wie finde ich unter der Vielzahl der Angebote das\, was ich brauche? Was muss ich beachten? \nWebinar – Online via zoom. Den Link zur Teilnahme erhalten Sie nach Anmeldung. \nDie Veranstaltung ist kostenlos\, bitte melden Sie sich an. \nEine Veranstaltung von \nFrau & Arbeit gGmbH\nSterneckstraße 31/3\n5020 Salzburg \nwww.frau-und-arbeit.at
URL:https://www.femvents.at/event/digifit-ich-mach-mir-selbst-ein-bild-weiterbildung-lebenslanges-lernen/
LOCATION:Webinar\, Online via Zoom
CATEGORIES:Coaching
ATTACH;FMTTYPE=image/jpeg:https://www.femvents.at/wp-content/uploads/2025/09/digifit_foto_neu-3.jpg
ORGANIZER;CN="Frau &amp%3B Arbeit":MAILTO:b.karl@frau-und-arbeit.at
END:VEVENT
BEGIN:VEVENT
DTSTART;TZID=Europe/Vienna:20251202T180000
DTEND;TZID=Europe/Vienna:20251202T200000
DTSTAMP:20260422T173914
CREATED:20251115T122409Z
LAST-MODIFIED:20251115T122409Z
UID:10000516-1764698400-1764705600@www.femvents.at
SUMMARY:THE:Sorority Circle – Coaching & Connection
DESCRIPTION:🚨🗯️ Die Sorority Speed-Coachings waren in den letzten Jahren ein voller Erfolg – freie Plätze? Selten! Dabei ist uns eines besonders aufgefallen: Im beruflichen Kontext beschäftigen uns oft ähnliche Themen und Herausforderungen. Warum also nicht die Kraft der Gruppe nutzen? 🤜🏻⚡ \n🙋🏻‍♀️Im Sorority Circle – Coaching & Connection greifen wir genau das auf. In kleinen\, vertrauensvollen Gruppenformaten arbeiten wir gemeinsam an Zielen\, Fragen und Anliegen\, die dich bewegen. Du hast die Möglichkeit\, ein eigenes Thema einzubringen – und entscheidest dabei selbst\, wie viel du teilen möchtest. Durch gezielte Fragen\, kollektive Reflexion und den Austausch in der Gruppe gewinnst du neue Perspektiven und Impulse für deinen nächsten Schritt. \n📌 // Was? THE:Sorority Circle – Coaching & Connection\n🗓️// Wann? 2.12.2025 um 18:00 Uhr\n📍// Wo? Impact Hub\, The Library\, Lindengasse 56\, 1070 Wien \n🐭 // Wer? Nur für Mitglieder!\n👑// Daniela Schwarz & Johanna Amlacher\n👉🏼 Melde dich per Mail an unter: event@sorority.at
URL:https://www.femvents.at/event/thesorority-circle-coaching-connection/
LOCATION:Impact Hub Vienna\, Lindengasse 56\, Wien\, Wien\, 1070\, Austria
CATEGORIES:After Work,Coaching,Frauenkreis,Netzwerk-Treffen,Wien
ATTACH;FMTTYPE=image/jpeg:https://www.femvents.at/wp-content/uploads/2025/11/Kopie-von-FB-Header-Event-26.jpg
ORGANIZER;CN="THE%3ASorority":MAILTO:events@sorority.at
GEO:48.1995724;16.3459081
X-APPLE-STRUCTURED-LOCATION;VALUE=URI;X-ADDRESS=Impact Hub Vienna Lindengasse 56 Wien Wien 1070 Austria;X-APPLE-RADIUS=500;X-TITLE=Lindengasse 56:geo:16.3459081,48.1995724
END:VEVENT
BEGIN:VEVENT
DTSTART;TZID=Europe/Vienna:20251202T183000
DTEND;TZID=Europe/Vienna:20251202T203000
DTSTAMP:20260422T173914
CREATED:20251021T133704Z
LAST-MODIFIED:20251021T133704Z
UID:10000422-1764700200-1764707400@www.femvents.at
SUMMARY:Selbsthilfegruppentreffen für Endometriosebetroffene
DESCRIPTION:Für Anmeldungen zu Gruppentreffen in Wien schreibe bitte formlos an: endopower.wien@gmail.com\nUnser Ziel – Ablauf eines Treffens\nUnsere SHG möchte einen offenen und lockeren Austausch bieten und verhindern\, dass sich Endometriose Betroffene alleine fühlen. \nAlle zwei Monate findet das Austauschcafé statt\, in dessen Rahmen die Teilnehmenden ca zwei Stunden Zeit haben ihre Erfahrungen und Sorgen zu teilen und sich gegenseitig Tipps zu geben (einander zu empowern). \nWir organisieren derzeit keine Vorträge oder geben Themen vor – diese ergeben sich in der (Gruppen-) Diskussion.
URL:https://www.femvents.at/event/selbsthilfegruppentreffen-fuer-endometriosebetroffene/
LOCATION:The Social Hub\, Nordbahnstraße 47\, Wien\, Wien\, 1020\, Austria
CATEGORIES:After Work,Frauenkreis,Meetup,Netzwerk-Treffen,Stammtisch,Wien
ATTACH;FMTTYPE=image/png:https://www.femvents.at/wp-content/uploads/2025/10/Cafe.png
ORGANIZER;CN="EndoPower.Wien":MAILTO:endopower.wien@gmail.com
GEO:48.2227356;16.3900024
X-APPLE-STRUCTURED-LOCATION;VALUE=URI;X-ADDRESS=The Social Hub Nordbahnstraße 47 Wien Wien 1020 Austria;X-APPLE-RADIUS=500;X-TITLE=Nordbahnstraße 47:geo:16.3900024,48.2227356
END:VEVENT
END:VCALENDAR