BEGIN:VCALENDAR
VERSION:2.0
PRODID:-//femvents.at - ECPv6.15.18//NONSGML v1.0//EN
CALSCALE:GREGORIAN
METHOD:PUBLISH
X-ORIGINAL-URL:https://www.femvents.at
X-WR-CALDESC:Veranstaltungen für femvents.at
REFRESH-INTERVAL;VALUE=DURATION:PT1H
X-Robots-Tag:noindex
X-PUBLISHED-TTL:PT1H
BEGIN:VTIMEZONE
TZID:Europe/Vienna
BEGIN:DAYLIGHT
TZOFFSETFROM:+0100
TZOFFSETTO:+0200
TZNAME:CEST
DTSTART:20240331T010000
END:DAYLIGHT
BEGIN:STANDARD
TZOFFSETFROM:+0200
TZOFFSETTO:+0100
TZNAME:CET
DTSTART:20241027T010000
END:STANDARD
BEGIN:DAYLIGHT
TZOFFSETFROM:+0100
TZOFFSETTO:+0200
TZNAME:CEST
DTSTART:20250330T010000
END:DAYLIGHT
BEGIN:STANDARD
TZOFFSETFROM:+0200
TZOFFSETTO:+0100
TZNAME:CET
DTSTART:20251026T010000
END:STANDARD
BEGIN:DAYLIGHT
TZOFFSETFROM:+0100
TZOFFSETTO:+0200
TZNAME:CEST
DTSTART:20260329T010000
END:DAYLIGHT
BEGIN:STANDARD
TZOFFSETFROM:+0200
TZOFFSETTO:+0100
TZNAME:CET
DTSTART:20261025T010000
END:STANDARD
END:VTIMEZONE
BEGIN:VEVENT
DTSTART;TZID=Europe/Vienna:20251203T093000
DTEND;TZID=Europe/Vienna:20251203T120000
DTSTAMP:20260422T191301
CREATED:20251203T104312Z
LAST-MODIFIED:20251203T104312Z
UID:10000556-1764754200-1764763200@www.femvents.at
SUMMARY:Visionboard Workshop
DESCRIPTION:💭 Was wäre\, wenn du deine Träume wirklich sichtbar machen könntest? \n\n\n🚀 VisionBoard-Workshop für Frauen \n\n\nReady\, deine Ziele sichtbar zu machen? ✨ \n\n\nIn diesem kreativen Workshop gestaltest du dein persönliches VisionBoard – für Fokus\, Motivation & Klarheit! Und zwengs da Gaudi am Kreativsein 🌈 \n\n\nGemeinsam reflektieren\, träumen & umsetzen – in entspannter Atmosphäre mit inspirierenden Frauen. 💕 \n\n\n📅 03.01.2026\, 9:30-12:00 \n\n\n📍 Pfarrsaal Lengau \n\n\n💶 Preis: 59 € (inkl. Material & Snacks) \n\n\nKreier da dei Lebn\, so wie du wüst! 💫 \n\n\n👉 Jetzt unter dorisleeb@icloud.com anmelden & dabei sein!
URL:https://www.femvents.at/event/visionboard-workshop-3/
LOCATION:Lengau\, Austria
CATEGORIES:Oberösterreich,Workshop
ATTACH;FMTTYPE=image/png:https://www.femvents.at/wp-content/uploads/2025/12/Beige-Vintage-Aesthetic-Vision-Board-Instagram-Post.zip-1.png
GEO:47.516231;14.550072
END:VEVENT
BEGIN:VEVENT
DTSTART;TZID=Europe/Vienna:20251203T100000
DTEND;TZID=Europe/Vienna:20251203T120000
DTSTAMP:20260422T191301
CREATED:20251201T114023Z
LAST-MODIFIED:20251201T114023Z
UID:10000551-1764756000-1764763200@www.femvents.at
SUMMARY:WINTERDEKO – Selbst gemacht!
DESCRIPTION:WINTERDEKO – Selbst gemacht!\nWir basteln gemeinsam schöne winterliche Deko – einfach und kreativ! 🎄🤩 \nMit Naturmaterialien\, Papier & vielen tollen Ideen 🌟 \n📅 Mittwoch\, 03.12.2025\n🕙 10:00 – 12:00 Uhr \nKomm vorbei\, mach mit und nimm deine selbstgemachte Deko gleich mit nach Hause 🎁💚\nWir freuen uns auf dich! ✨
URL:https://www.femvents.at/event/winterdeko-selbst-gemacht/
LOCATION:Wien\, wien\, Wien\, 1060\, Austria
CATEGORIES:Wien,Workshop
ATTACH;FMTTYPE=image/png:https://www.femvents.at/wp-content/uploads/2025/06/femvents_eventbild.png
GEO:48.1945985;16.3504336
END:VEVENT
BEGIN:VEVENT
DTSTART;TZID=Europe/Vienna:20251203T170000
DTEND;TZID=Europe/Vienna:20251203T230000
DTSTAMP:20260422T191301
CREATED:20251115T122419Z
LAST-MODIFIED:20251115T122419Z
UID:10000517-1764781200-1764802800@www.femvents.at
SUMMARY:THE:Sorority Winterfest 2025
DESCRIPTION:❄️Ein aufregendes Sorority Jahr neigt sich langsam dem Ende und wir möchten das zum Anlass nehmen noch einmal solidarisch mit euch anzustoßen. Daher laden wir Sisters* und Friends auch dieses Jahr zu unserem Sorority Winterfest ein. \n☃️Schnapp dir deine Freund:innen und lass das Jahr mit uns bei heißen Punsch Revue passieren. Für den fun factor haben wir auch diesmal wieder ein Quiz vorbereitet und du kannst mit uns feministisch schönen Baumschmuck basteln. Also Save the Date! Komm vorbei! Wir freuen uns auf dich! \n📌// Was? THE:Sorority Winterfest\n⏰ // Wann? Mi\,3.12.2025\, von 17:00 – 23:00 Uhr\n📍// Wo? Café Pier22\, Donauinsel\, 1220 Wien \n👸🏻// Wer? Für Mitglieder & Friends*\n🍷// Special? Punsch so lange der Vorrat reicht
URL:https://www.femvents.at/event/thesorority-winterfest-2025/
LOCATION:Café Pier 22\, Café Pier22\, Donauinsel\, 1220 Wien\, Café Pier 22\, Wien\, 1220\, Austria
CATEGORIES:After Work,Frauenkreis,Meetup,Netzwerk-Treffen,Wien
ATTACH;FMTTYPE=image/jpeg:https://www.femvents.at/wp-content/uploads/2025/11/Kopie-von-FB-Header-Event-27.jpg
ORGANIZER;CN="THE%3ASorority":MAILTO:events@sorority.at
GEO:48.2289193;16.4097229
X-APPLE-STRUCTURED-LOCATION;VALUE=URI;X-ADDRESS=Café Pier 22 Café Pier22 Donauinsel 1220 Wien Café Pier 22 Wien 1220 Austria;X-APPLE-RADIUS=500;X-TITLE=Café Pier22\, Donauinsel\, 1220 Wien:geo:16.4097229,48.2289193
END:VEVENT
BEGIN:VEVENT
DTSTART;TZID=Europe/Vienna:20251203T180000
DTEND;TZID=Europe/Vienna:20251203T200000
DTSTAMP:20260422T191301
CREATED:20251017T065027Z
LAST-MODIFIED:20251017T065027Z
UID:10000408-1764784800-1764792000@www.femvents.at
SUMMARY:FRAU iDA Vernetzungstreffen
DESCRIPTION:Wir von FRAU iDA laden dich heuer wieder ein\, bei unserer Weihnachtsfeier dabei zu sein. Der Abend steht wie gewohnt im Zeichen der Kommunikation und des Vernetzens – und das mit jeder Menge Weihnachtszauber in besinnlicher und festlicher Atmosphäre. ✨ \nGemeinsam möchten wir die besinnliche Zeit in harmonischer Runde mit Punsch einläuten. Zieh dir gerne deinen Lieblings-Weihnachtspullover über\, packe deine Visitenkarten sowie Folder ein und stelle dich und deine Tätigkeiten vor. \nWir setzen wieder unsere Videokonferenzkamera mit 360° Rundum-Überblick ein\, damit wir allen\, die an diesem Abend nicht nach Zwettl kommen können\, die Möglichkeit bieten\, sich zu vernetzen und austauschen zu können. Dank Owlivia\, wie wir sie liebevoll nennen\, können wir Interessierte online via Zoom zuschalten – sie erleben das Treffen\, als wären sie im selben Raum. Wir freuen uns\, wenn du unser innovatives Angebot nutzt – hier der Zoom-Link: https://us06web.zoom.us/j/85665550790\nWir bitten um Reservierung: https://www.frau-ida.at/veranstaltung/frau-ida-vernetzungstreffen-29/
URL:https://www.femvents.at/event/frau-ida-vernetzungstreffen-2/
LOCATION:FRAU iDA\, Hauptplatz 16\, Zwettl\, Niederösterreich\, 3910\, Austria
CATEGORIES:Netzwerk-Treffen,Niederösterreich
ATTACH;FMTTYPE=image/png:https://www.femvents.at/wp-content/uploads/2025/10/Illustrationen_alle-03-scaled.png
ORGANIZER;CN="FRAU iDA":MAILTO:office@frau-ida.at
GEO:48.6041614;15.167567
X-APPLE-STRUCTURED-LOCATION;VALUE=URI;X-ADDRESS=FRAU iDA Hauptplatz 16 Zwettl Niederösterreich 3910 Austria;X-APPLE-RADIUS=500;X-TITLE=Hauptplatz 16:geo:15.167567,48.6041614
END:VEVENT
BEGIN:VEVENT
DTSTART;TZID=Europe/Vienna:20251203T180000
DTEND;TZID=Europe/Vienna:20251203T200000
DTSTAMP:20260422T191301
CREATED:20251023T110303Z
LAST-MODIFIED:20251023T110322Z
UID:10000427-1764784800-1764792000@www.femvents.at
SUMMARY:Natürlich schön schenken – DIY-Kosmetik für Weihnachten
DESCRIPTION:Selbst gemachte Weihnachtsgeschenke kommen von Herzen – und duften herrlich! In diesem Workshop entstehen natürliche Pflegeprodukte wie Lippenbalsam und Körperpeeling. \nIdeal zum Verschenken oder Selbstverwöhnen in der kalten Jahreszeit. \nNatürliche Inhaltsstoffe\, liebevoll handgemacht – DIY-Kosmetik ist nicht nur nachhaltig\, sondern auch kreativ und wohltuend. \nIn diesem Workshop stellen wir zwei hochwertige Produkte her\, die sich wunderbar als Weihnachtsgeschenke eignen. Du lernst die Grundlagen der Naturkosmetik kennen\, erhältst erprobte Rezepte und viele Tipps zur Wirkung von Pflanzenölen\, Wachsen und ätherischen Ölen. Keine Vorkenntnisse nötig – nur Lust auf Selbermachen! \n​Du gehst mit zwei selbst gemachten Naturkosmetikprodukten (Lippenpflege und Körperpeeling) nach Hause – hübsch verpackt und bereit zum Verschenken. Zusätzlich erhältst du alle Rezepte und viele Ideen für weitere DIY-Geschenke aus der Natur.
URL:https://www.femvents.at/event/natuerlich-schoen-schenken-diy-kosmetik-fuer-weihnachten/
LOCATION:Bildungszentrum Floridsdorf\, Zaunscherbgasse 4\,\, Wien\, Wien\, 1210\, Austria
CATEGORIES:Niederösterreich,Workshop
ATTACH;FMTTYPE=image/jpeg:https://www.femvents.at/wp-content/uploads/2025/10/pexels-nerosable-10802091-scaled.jpg
ORGANIZER;CN="Katharina Hansi":MAILTO:kathi@unmaskednature.com
GEO:48.258248;16.400548
X-APPLE-STRUCTURED-LOCATION;VALUE=URI;X-ADDRESS=Bildungszentrum Floridsdorf Zaunscherbgasse 4 Wien Wien 1210 Austria;X-APPLE-RADIUS=500;X-TITLE=Zaunscherbgasse 4\,:geo:16.400548,48.258248
END:VEVENT
BEGIN:VEVENT
DTSTART;TZID=Europe/Vienna:20251203T183000
DTEND;TZID=Europe/Vienna:20251203T210000
DTSTAMP:20260422T191301
CREATED:20251023T191355Z
LAST-MODIFIED:20251023T191355Z
UID:10000435-1764786600-1764795600@www.femvents.at
SUMMARY:From Hands to Hearts Craft Your Christmas Gifts
DESCRIPTION:Join us to craft artistic postcards\, fragrant bath salts\, herbal salts\, hand-stamped wrapping paper\, gift tags and decorations. All while enjoying mulled wine and the scent of Christmas in the air. \nJoin our young international group of creatives for a cozy evening filled with creativity\, laughter\, yummy snacks and good wine. \nEvery Wednesday in Studio Katz in Boots\n6.30-9.00 PM\nWerkstättenstraße 5\, Salzburg \nA cozy\, convenient location with free parking 🚗 in front of the house and just minutes from the main station.\nWorkshop cover material costs\, food and drinks 🧀🍷 \nThe studio is small and cozy with limited spots only\, thats why we recommend you to message us and reserve your spot fast 😉 \nLooking forward to create with you 🩷👩🏼‍🎨
URL:https://www.femvents.at/event/from-hands-to-hearts-craft-your-christmas-gifts/
LOCATION:Studio | Katz in Boots\, Werkstättenstraße 5\, Salzburg\, Salzburg\, 5020\, Austria
CATEGORIES:After Work,Malworkshop,Salzburg,Workshop
ATTACH;FMTTYPE=image/jpeg:https://www.femvents.at/wp-content/uploads/2025/10/gifts.jpeg
ORGANIZER;CN="Studio | Katz in Boots":MAILTO:hello@studio-katzinboots.at
GEO:47.8201536;13.0449636
X-APPLE-STRUCTURED-LOCATION;VALUE=URI;X-ADDRESS=Studio | Katz in Boots Werkstättenstraße 5 Salzburg Salzburg 5020 Austria;X-APPLE-RADIUS=500;X-TITLE=Werkstättenstraße 5:geo:13.0449636,47.8201536
END:VEVENT
BEGIN:VEVENT
DTSTART;TZID=Europe/Vienna:20251203T183000
DTEND;TZID=Europe/Vienna:20251203T210000
DTSTAMP:20260422T191301
CREATED:20251126T090817Z
LAST-MODIFIED:20251126T090817Z
UID:10000537-1764786600-1764795600@www.femvents.at
SUMMARY:Zykluswissen für Frauen
DESCRIPTION:Ein Abend in einem geschützten Raum für Frauen jeden Alters\, die mehr über ihren Körper und ihren Zyklus erfahren möchten. Kombiniert wird die Vermittlung von Wissen mit Körperarbeit!
URL:https://www.femvents.at/event/zykluswissen-fuer-frauen/
LOCATION:Online-Event\, Austria
CATEGORIES:Frauenkreis,Online-Event
ATTACH;FMTTYPE=image/jpeg:https://www.femvents.at/wp-content/uploads/2025/11/inbound1874516554347918895.jpg
GEO:47.516231;14.550072
END:VEVENT
BEGIN:VEVENT
DTSTART;TZID=Europe/Vienna:20251203T190000
DTEND;TZID=Europe/Vienna:20251203T210000
DTSTAMP:20260422T191301
CREATED:20251114T190711Z
LAST-MODIFIED:20251114T191744Z
UID:10000513-1764788400-1764795600@www.femvents.at
SUMMARY:Frauenkreis
DESCRIPTION:Spürst du den Wunsch nach weiblichen Verbindungen\, nach ehrlichem Austausch und nährenden Begegnungen? Sehnst du dich danach\, deiner Weiblichkeit mehr Raum zu geben und mehr bei dir selbst anzukommen? \nWir laden dich von Herzen in unseren Kreis ein\, in unseren Raum voller Achtsamkeit und Wertschätzung füreinander. \nDas erwartet dich bei unseren Frauenkreisen:\n♡ Eine Meditation zum Start\, um anzukommen\, durchzuatmen und ganz bei dir zu sein\n♡ Ein von uns geleitetes Thema (das siehst du immer in unserem Terminkalender) oder\n♡ Eine Herzensrunde: das sind Abende ohne festes Thema\, an denen alles Raum hat\, was dich gerade beschäftigt\n♡ Achtsame Rituale – passend zum jeweiligen Thema unseres Abends\n♡ Besondere Momente\n♡ Ehrliche Verbindungen & bereichernde Gespräche\n♡ Wohltuende Ruhe & Entspannung\n♡ Getränke & Snacks \nUnser Frauenkreis ist ein Ort\, an dem du ganz DU sein darfst. Ohne Bewertungen\, einfach SEIN. \nBei unseren Frauenkreisen in 1220 Wien sind alle Frauen\, ganz gleich welchen Alters oder welcher Herkunft\, ob Mama oder nicht\, willkommen.
URL:https://www.femvents.at/event/frauenkreis-vulvarei/
LOCATION:Seestadt\, Maria-Tusch-Straße 2/1\, Wien\, Wien\, 1220
CATEGORIES:Frauenkreis,Wien
ATTACH;FMTTYPE=image/jpeg:https://www.femvents.at/wp-content/uploads/2025/11/7109078e-3e4a-4fda-b870-198bcbd1aed1.jpeg
ORGANIZER;CN="VULVAREI":MAILTO:vulvarei@gmail.com
GEO:48.2244393;16.4965255
X-APPLE-STRUCTURED-LOCATION;VALUE=URI;X-ADDRESS=Seestadt Maria-Tusch-Straße 2/1 Wien Wien 1220;X-APPLE-RADIUS=500;X-TITLE=Maria-Tusch-Straße 2/1:geo:16.4965255,48.2244393
END:VEVENT
END:VCALENDAR