BEGIN:VCALENDAR
VERSION:2.0
PRODID:-//femvents.at - ECPv6.15.18//NONSGML v1.0//EN
CALSCALE:GREGORIAN
METHOD:PUBLISH
X-WR-CALNAME:femvents.at
X-ORIGINAL-URL:https://www.femvents.at
X-WR-CALDESC:Veranstaltungen für femvents.at
REFRESH-INTERVAL;VALUE=DURATION:PT1H
X-Robots-Tag:noindex
X-PUBLISHED-TTL:PT1H
BEGIN:VTIMEZONE
TZID:Europe/Vienna
BEGIN:DAYLIGHT
TZOFFSETFROM:+0100
TZOFFSETTO:+0200
TZNAME:CEST
DTSTART:20240331T010000
END:DAYLIGHT
BEGIN:STANDARD
TZOFFSETFROM:+0200
TZOFFSETTO:+0100
TZNAME:CET
DTSTART:20241027T010000
END:STANDARD
BEGIN:DAYLIGHT
TZOFFSETFROM:+0100
TZOFFSETTO:+0200
TZNAME:CEST
DTSTART:20250330T010000
END:DAYLIGHT
BEGIN:STANDARD
TZOFFSETFROM:+0200
TZOFFSETTO:+0100
TZNAME:CET
DTSTART:20251026T010000
END:STANDARD
BEGIN:DAYLIGHT
TZOFFSETFROM:+0100
TZOFFSETTO:+0200
TZNAME:CEST
DTSTART:20260329T010000
END:DAYLIGHT
BEGIN:STANDARD
TZOFFSETFROM:+0200
TZOFFSETTO:+0100
TZNAME:CET
DTSTART:20261025T010000
END:STANDARD
END:VTIMEZONE
BEGIN:VEVENT
DTSTART;TZID=Europe/Vienna:20251205T090000
DTEND;TZID=Europe/Vienna:20251208T170000
DTSTAMP:20260422T173815
CREATED:20250918T163554Z
LAST-MODIFIED:20250930T124337Z
UID:10000295-1764925200-1765213200@www.femvents.at
SUMMARY:Ausbildung Japanisches Facelifting und Crystal Lifting
DESCRIPTION:✨ Zeit für Veränderung? Werde Experte für Japanisches Facelifting & Crystal Lifting! ✨ \nTräumst du von einer erfüllenden Tätigkeit im Beauty- und Wellnessbereich? 🌿💆‍♀️ Dann entdecke die Kunst des Japanischen Faceliftings und Crystal Liftings nach der Methode von Lone Sorensen! \nDiese sanfte\, natürliche Technik verjüngt das Gesicht\, entspannt tiefgehend und bringt Schönheit von innen heraus zum Strahlen. Perfekt für alle\, die eine neue berufliche Perspektive suchen – ob als Quereinsteiger oder als Ergänzung zu deinem bestehenden Angebot. \n📍 Ausbildung in deutscher Sprache an mehreren Standorten in Österreich \nErfülle dir deinen Traum von einem Beruf\, der Menschen guttut – und starte jetzt deine Ausbildung! 💖 \n🔗 Mehr Infos & Anmeldung: face-reflex.at \nNächste Ausbildungstermine: \n\n5. – 8. Dezember 2025 in 1060 Wien\n\n9.  – 12. Februar 2026 in St. Andrä-Wördern
URL:https://www.femvents.at/event/ausbildung-japanisches-facelifting-und-crystal-lifting/
LOCATION:Wien
CATEGORIES:Kurs,Wien
ATTACH;FMTTYPE=image/png:https://www.femvents.at/wp-content/uploads/2025/09/Bildschirmfoto-2025-05-04-um-17.54.09.png
ORGANIZER;CN="Andrea Steinkellner Instruktorin der Neuro-Reflex-Therapien nach der Originalmethode Lone Sorensen":MAILTO:info@face-reflex.at
END:VEVENT
BEGIN:VEVENT
DTSTART;TZID=Europe/Vienna:20251206T093000
DTEND;TZID=Europe/Vienna:20251206T120000
DTSTAMP:20260422T173815
CREATED:20251130T123031Z
LAST-MODIFIED:20251130T123031Z
UID:10000549-1765013400-1765022400@www.femvents.at
SUMMARY:Damensalon
DESCRIPTION:Hallo liebe Lady‘s! \nWie wäre es mit \neinem monatlichen Rendezvous? \nJeden ersten Samstag im Monat lade ich dich herzlich in den Damensalon in Wien 1180 Wien in Präsenz ein!  Der Damensalon ist der perfekte kreative Raum\, wo Frauen sich austauschen\, gemeinsam wachsen und ihre Stärken entdecken können. \nDie Themen \nbestimmst du? Was brennt dir auf dem Herzen? \nIch teile gerne mein Wissen und meine Erfahrungen\, um dich/euch auf eurem Weg zu begleiten – damit ihr zu Architektinnen eures eigenen Lebens werdet und euren inneren Raum in eine persönliche Wohlfühloase verwandelt. \nGönn‘ dir diese Zeit für dich! \nDie Teilnahmegebühr beträgt 30 € (29 € plus 1 € \nSpende an das Frauenhaus). \nWasser\, Kaffee\, Tee\, Kekse und Snacks gibt’s für alle Teilnehmerinnen kostenlos! \nLasst uns gemeinsam eine inspirierende Zeit erleben! \nNoch freie Plätze für jeden 1. Samstag im Monat! Letzter Termin ist am 6.12.25 von 9:45- 12:00 Melde dich einfach an unter info@ladykompass.at \nIch freu mich auf DICH 🫶Silvia Hummel 🐝
URL:https://www.femvents.at/event/damensalon-2/
LOCATION:Wien\, wien\, Wien\, 1060\, Austria
CATEGORIES:Coaching,Frauenkreis,Wien
ATTACH;FMTTYPE=image/jpeg:https://www.femvents.at/wp-content/uploads/2025/11/c33a9ff1-a22b-459a-aa46-e54613e493b1.jpeg
ORGANIZER;CN="Silvia Hummel":MAILTO:Info@ladykompass.at
GEO:48.1945985;16.3504336
END:VEVENT
BEGIN:VEVENT
DTSTART;TZID=Europe/Vienna:20251206T110000
DTEND;TZID=Europe/Vienna:20251206T140000
DTSTAMP:20260422T173815
CREATED:20250926T103704Z
LAST-MODIFIED:20250926T103704Z
UID:10000335-1765018800-1765029600@www.femvents.at
SUMMARY:Weihnachts-Kräuter Workshop
DESCRIPTION:GESCHENKE AUS DER NATUR\n\n\nSelbst gemachte Naturkosmetik\, Kräuteröle für Körper und Küche.\n\n\nDie schönste Art zu schenken\, ist von Herzen & mit den Händen gemacht.In diesem kreativen Weihnachts-Workshop stellen wir gemeinsam natürliche Geschenke her – zum Verschenken oder Selbstverwöhnen und erfahren Wissenswertes über Heilpflanzen und Wildkräuter. \n\n\n\n\nFür dich wenn du:\n✔️ auf der Suche nach nachhaltigen Geschenkideen bist\n✔️ dich für Naturkosmetik\, Kräuterprodukte\n✔️selbstgemachte Köstlichkeiten interessierst\n✔️ in entspannter Atmosphäre zur Ruhe kommen und kreativ sein willst\n✔️ persönliche Aufmerksamkeiten lieber selbst herstellst als kaufst\n \nDu nimmst mit:\n✔️Feine Kräuter- & Gewürzmischungen zum Verschenken\n✔️Selbstgemachte Pflegeprodukte aus natürlichen Zutaten (z. B. Lippenbalsam\, Körperöl\, …)\n✔️Schmackhafte Küchengeschenke mit Wow-Effekt (z. B. Energykicks\, Wintertee\, …)\n✔️ Wissen und Austausch in einer kleinen\, entspannten Gruppe \nUmgangreiches Handout + kleine Überraschung\n \nDie Plätze sind begrenzt – sichere dir deinen Platz und entdecke die Kraft der Natur für deine Gesundheit!\nIch freue mich auf dich und einen gemeinsamen spannenden Workshop! 🌿✨
URL:https://www.femvents.at/event/weihnachts-kraeuter-workshop/
LOCATION:Tanzstern Salzburg\, Maxglan\, Josef-Gruber-Gasse 2a\, Tanzstern Salzburg\, Salzburg\, 5020 Salzburg Maxglan\, Austria
CATEGORIES:Salzburg,Workshop
ATTACH;FMTTYPE=image/png:https://www.femvents.at/wp-content/uploads/2025/09/BWK2025-website-pics1-scaled.png
ORGANIZER;CN="Bewusstek%C3%BCche":MAILTO:office@bewusstekueche.at
GEO:47.7956835;13.0249268
X-APPLE-STRUCTURED-LOCATION;VALUE=URI;X-ADDRESS=Tanzstern Salzburg Maxglan Josef-Gruber-Gasse 2a Tanzstern Salzburg Salzburg 5020 Salzburg Maxglan Austria;X-APPLE-RADIUS=500;X-TITLE=Josef-Gruber-Gasse 2a:geo:13.0249268,47.7956835
END:VEVENT
BEGIN:VEVENT
DTSTART;TZID=Europe/Vienna:20251206T140000
DTEND;TZID=Europe/Vienna:20251206T180000
DTSTAMP:20260422T173815
CREATED:20251114T161438Z
LAST-MODIFIED:20251114T162140Z
UID:10000510-1765029600-1765044000@www.femvents.at
SUMMARY:PARFUM WORKSHOP
DESCRIPTION:In diesem 4-5 stündigen Workshop wählst du aus etwa 60 naturreinen ätherischen Ölen und Essenzen deine Favoriten und übst die Komposition anhand einer einfachen Duftarchitektur von Basisnoten\, Herznoten und Kopfnoten. Mit der Erfahrung unserer Parfumeurin erstellen wir daraus deine eigene Parfumrezeptur\, die wir live mischen und in einen Parfumflacon abfüllen. \nLOCATION:\nLESS IS MORE OPEN LAB Wien\nBandgasse 34/29A\n1070 Wien
URL:https://www.femvents.at/event/parfum-workshop/
LOCATION:LESS IS MORE OPEN LAB\, Wien
CATEGORIES:Wien,Workshop
ATTACH;FMTTYPE=image/png:https://www.femvents.at/wp-content/uploads/2025/11/LESS-IS-MORE-OPEN-LAB-Wien.png
GEO:48.2080696;16.3713095
END:VEVENT
END:VCALENDAR