BEGIN:VCALENDAR
VERSION:2.0
PRODID:-//femvents.at - ECPv6.15.18//NONSGML v1.0//EN
CALSCALE:GREGORIAN
METHOD:PUBLISH
X-ORIGINAL-URL:https://www.femvents.at
X-WR-CALDESC:Veranstaltungen für femvents.at
REFRESH-INTERVAL;VALUE=DURATION:PT1H
X-Robots-Tag:noindex
X-PUBLISHED-TTL:PT1H
BEGIN:VTIMEZONE
TZID:Europe/Vienna
BEGIN:DAYLIGHT
TZOFFSETFROM:+0100
TZOFFSETTO:+0200
TZNAME:CEST
DTSTART:20240331T010000
END:DAYLIGHT
BEGIN:STANDARD
TZOFFSETFROM:+0200
TZOFFSETTO:+0100
TZNAME:CET
DTSTART:20241027T010000
END:STANDARD
BEGIN:DAYLIGHT
TZOFFSETFROM:+0100
TZOFFSETTO:+0200
TZNAME:CEST
DTSTART:20250330T010000
END:DAYLIGHT
BEGIN:STANDARD
TZOFFSETFROM:+0200
TZOFFSETTO:+0100
TZNAME:CET
DTSTART:20251026T010000
END:STANDARD
BEGIN:DAYLIGHT
TZOFFSETFROM:+0100
TZOFFSETTO:+0200
TZNAME:CEST
DTSTART:20260329T010000
END:DAYLIGHT
BEGIN:STANDARD
TZOFFSETFROM:+0200
TZOFFSETTO:+0100
TZNAME:CET
DTSTART:20261025T010000
END:STANDARD
END:VTIMEZONE
BEGIN:VEVENT
DTSTART;TZID=Europe/Vienna:20251210T150000
DTEND;TZID=Europe/Vienna:20251210T180000
DTSTAMP:20260422T191307
CREATED:20251126T145114Z
LAST-MODIFIED:20251126T145114Z
UID:10000544-1765378800-1765389600@www.femvents.at
SUMMARY:Finanzen für Frauen (Live-Online-Seminar)
DESCRIPTION:Wie wir Stolpersteine vermeiden und langfristige finanzielle Entscheidungen treffen \nFinanzen für Frauen“ ist ein 3-stündiger Online-Workshop\, in dem Themen rund ums Geld\, mit den teilnehmenden Frauen\, bearbeitet werden. Dabei wird auf die Bedürfnisse und Interessen\, sowie das Vorwissen der Teilnehmerinnen eingegangen. Die Teilnehmerinnen erhalten Inputs zu Möglichkeiten der finanziellen Planung\, beschäftigen sich mit den häufigsten finanziellen Stolpersteinen\, können sich Expertinnen-Tipps mitnehmen und erhalten Antworten auf ihre „Geldfragen“. Lebensentscheidungen\, die eine langfristige Auswirkung auf die finanzielle Situation haben\, wie z.B.: Teilzeitarbeit\, werden ebenso zum Thema wie Informationen rund um die Pension. \nSeminarleitung: Julia Strablegg-Muchitsch / Schuldenberatung Steiermark \nHinweis: Dieses Seminar wird als Live-Online-Veranstaltung abgehalten \nVeranstaltet vom Österreichischen Fonds zur Stärkung und Förderung von Frauen und Mädchen
URL:https://www.femvents.at/event/finanzen-fuer-frauen-live-online-seminar-3/
LOCATION:Live-Online-Seminar
CATEGORIES:Online-Event,Österreichweit,Workshop
ATTACH;FMTTYPE=image/jpeg:https://www.femvents.at/wp-content/uploads/2025/11/lea01-4.jpg
END:VEVENT
BEGIN:VEVENT
DTSTART;TZID=Europe/Vienna:20251210T183000
DTEND;TZID=Europe/Vienna:20251210T210000
DTSTAMP:20260422T191307
CREATED:20251024T150627Z
LAST-MODIFIED:20251024T150627Z
UID:10000436-1765391400-1765400400@www.femvents.at
SUMMARY:From Hands to Hearts - Beeswax Candle Workshop
DESCRIPTION:Create your own natural candles from scratch in this cozy\, hands-on workshop. Roll pure beeswax sheets into beautiful candles and decorate them with natural decorations.  \nCome and join us for a cozy evening filled with creativity\, laughter\, yummy snacks and good wine and leave with your unique\, 6 pieces of fragrant creations! \nWednesday 12.10 in Studio Katz in Boots\n6.30-9.00 PM\nWerkstättenstraße 5\, Salzburg \nA cozy\, convinient location with free parking 🚗 in front of the house and just minutes from the main station.\nWheather you want to craft or paint\, we’ve got you covered. \nWorkshop covers material costs\, food and drinks 🧀🍷 \nThe studio is small and cozy with limited spots only\, that’s why we recommend you to message us and reserve your spot fast 😉 \nLooking forward to create with you 🩷👩🏼‍🎨 \n 
URL:https://www.femvents.at/event/from-hands-to-hearts-beeswax-candle-workshop/
LOCATION:Studio | Katz in Boots\, Werkstättenstraße 5\, Salzburg\, Salzburg\, 5020\, Austria
CATEGORIES:After Work,Salzburg,Workshop
ATTACH;FMTTYPE=image/jpeg:https://www.femvents.at/wp-content/uploads/2025/10/beewax-candles.jpeg
ORGANIZER;CN="Studio | Katz in Boots":MAILTO:hello@studio-katzinboots.at
GEO:47.8201536;13.0449636
X-APPLE-STRUCTURED-LOCATION;VALUE=URI;X-ADDRESS=Studio | Katz in Boots Werkstättenstraße 5 Salzburg Salzburg 5020 Austria;X-APPLE-RADIUS=500;X-TITLE=Werkstättenstraße 5:geo:13.0449636,47.8201536
END:VEVENT
BEGIN:VEVENT
DTSTART;TZID=Europe/Vienna:20251210T183000
DTEND;TZID=Europe/Vienna:20251210T220000
DTSTAMP:20260422T191307
CREATED:20251105T182935Z
LAST-MODIFIED:20251105T182935Z
UID:10000474-1765391400-1765404000@www.femvents.at
SUMMARY:Schön genug - von Körperbildern\, Essstörungen und dem Mut sich selbst zu lieben
DESCRIPTION:Wie blicken wir auf unsere Körper – und wie oft sind wir dabei zu hart zu uns selbst?\nAn diesem Abend öffnen wir einen sensiblen Raum für Geschichten über Schönheitsideale\, Essstörungen\, Heilungswege und den Mut zur Selbstannahme. \nDer Abend beginnt mit einem bewegenden Poetry Slam Beitrag und einem kurzen Impuls zum Thema. Anschließend laden wir ins Erzählcafé ein – einen geschützten Raum\, in dem persönliche Geschichten geteilt werden können\, ehrliche Fragen Platz haben und gemeinsames Nachdenken entsteht. \nDu bist herzlich willkommen – egal ob du selbst erzählen möchtest oder einfach nur zuhören willst. \nAuch das stille Dabeisein und Lauschen kann berühren\, verbinden und inspirieren. \nEingeladen sind Angehörige\, Betroffene und alle\, die sich für das Thema interessieren. \nDurch den Abend begleiten:\nCarmen Drexler\, Koordinatorin Take care und Birgit Häusle\, SALON 13 als Gastgeberinnen\nChristina Strohmaier\, Poetry Slammerin und Tischimpulsgeberin als ehemalige Betroffene von Anorexie\nSusanne Nigg\, Tischimpulsgeberin als Mutter einer 18jährigen Tochter mit Anorexie\nJohanna Düringer\, Tischimpulsgeberin als ehemalige Betroffene von Bulimie\nNicola Maier-Kilga\, Tischimpulsgeberin als Psychotherapeutin\nRebecca Brenner\, Tischimpulsgeberin zum Thema Körperbilder\nEveline Vonbun\, Evelyn Schöpf\, Sylvia Burtscher\, Carmen Drexler\, Birgit Häusle als Host und Tischmoderinnen \nEin Erzählcafé ist eine offene Gesprächsrunde\, in der Menschen ihre Erfahrungen zu einem bestimmten Thema teilen. Es geht nicht um Fachvorträge\, sondern um gelebte Realität\, Zuhören und gegenseitige Inspiration. \n\n\n\n\n\n\n\n\nIn Kooperation mit der Fachstelle Take Care der Caritas Vorarlberg \nAnmeldung: salon13.at/event/schoengenug/
URL:https://www.femvents.at/event/schoen-genug-von-koerperbildern-essstoerungen-und-dem-mut-sich-selbst-zu-lieben/
LOCATION:Volksbank Bregenz\, Bahnhosftr. 12\, Bregenz\, Vorarlberg\, 6900\, Austria
CATEGORIES:Salon13,Vorarlberg
ATTACH;FMTTYPE=image/jpeg:https://www.femvents.at/wp-content/uploads/2025/11/251210_Flyer-Erzaehlcafe-II-S1.jpg
ORGANIZER;CN="SALON 13":MAILTO:info@salon13.at
GEO:47.5040135;9.7447679
X-APPLE-STRUCTURED-LOCATION;VALUE=URI;X-ADDRESS=Volksbank Bregenz Bahnhosftr. 12 Bregenz Vorarlberg 6900 Austria;X-APPLE-RADIUS=500;X-TITLE=Bahnhosftr. 12:geo:9.7447679,47.5040135
END:VEVENT
BEGIN:VEVENT
DTSTART;TZID=Europe/Vienna:20251210T190000
DTEND;TZID=Europe/Vienna:20251210T213000
DTSTAMP:20260422T191307
CREATED:20251106T111320Z
LAST-MODIFIED:20251106T111320Z
UID:10000476-1765393200-1765402200@www.femvents.at
SUMMARY:THE:Salon Sorority X Caroline Wahl - Die Assistentin
DESCRIPTION:📖Unser beliebter Buchclub Salon Sorority trifft sich im Dezember für die Autorin der Stunde! \n📕Caroline Wahls dritter Roman\, „Die Assistentin“ behandelt die Themen Machtmissbrauch und toxische Arbeitsumfelder\, insbesondere die Dynamik zwischen einer jungen Angestellten und einem älteren Vorgesetzten. Erst scheitert die Protagonistin Charlotte an ihrem Musikraum und gerät auf der Suche nach einem ernstzunehmenden Job in die Fänge eines mächtigen Verlegers. Es beginnt ein Kampf um Anerkennung in einem Umfeld\, das als ein Ort für idealistische Debatten gilt\, aber dennoch einen hohen Verschleiß an Assistentinnen hat. Charlotte navigiert durch die Anforderungen des Chefs\, entwickelt eine Beziehung zu ihm\, die ihr Vertrauen und die Möglichkeit zur Selbstbehauptung bietet\, und findet in der Musik eine Form der Rettung und des Ausdrucks. Sei dabei und sprich mit uns über toxische Verhältnisse im Beruf und die Auswirkungen auf Frauen. ☕🍷🍪 \n📌 // Was? Salon Sorority X Caroline Wahl – Die Assistentin\n⏰ // Wann? Mi\, 10.12.2025\, 19:00 Uhr\n📍 // Wo? Büchcafé Vox Libri \, Jörgerstraße 26\, 1170 Wien \n🐭// Wer? alle Lesemausis\n🎤// mit Marta Suzama
URL:https://www.femvents.at/event/thesalon-sorority-x-caroline-wahl-die-assistentin/
LOCATION:Vox Libri\, Jörgerstraße 26\, Wien\, Wien\, 1170
CATEGORIES:After Work,Frauenkreis,Meetup,Stammtisch,Wien
ATTACH;FMTTYPE=image/jpeg:https://www.femvents.at/wp-content/uploads/2025/11/Kopie-von-FB-Header-Event-22.jpg
ORGANIZER;CN="THE%3ASorority":MAILTO:events@sorority.at
GEO:48.2102918;15.6512114
X-APPLE-STRUCTURED-LOCATION;VALUE=URI;X-ADDRESS=Vox Libri Jörgerstraße 26 Wien Wien 1170;X-APPLE-RADIUS=500;X-TITLE=Jörgerstraße 26:geo:15.6512114,48.2102918
END:VEVENT
END:VCALENDAR