BEGIN:VCALENDAR
VERSION:2.0
PRODID:-//femvents.at - ECPv6.15.18//NONSGML v1.0//EN
CALSCALE:GREGORIAN
METHOD:PUBLISH
X-ORIGINAL-URL:https://www.femvents.at
X-WR-CALDESC:Veranstaltungen für femvents.at
REFRESH-INTERVAL;VALUE=DURATION:PT1H
X-Robots-Tag:noindex
X-PUBLISHED-TTL:PT1H
BEGIN:VTIMEZONE
TZID:Europe/Vienna
BEGIN:DAYLIGHT
TZOFFSETFROM:+0100
TZOFFSETTO:+0200
TZNAME:CEST
DTSTART:20240331T010000
END:DAYLIGHT
BEGIN:STANDARD
TZOFFSETFROM:+0200
TZOFFSETTO:+0100
TZNAME:CET
DTSTART:20241027T010000
END:STANDARD
BEGIN:DAYLIGHT
TZOFFSETFROM:+0100
TZOFFSETTO:+0200
TZNAME:CEST
DTSTART:20250330T010000
END:DAYLIGHT
BEGIN:STANDARD
TZOFFSETFROM:+0200
TZOFFSETTO:+0100
TZNAME:CET
DTSTART:20251026T010000
END:STANDARD
BEGIN:DAYLIGHT
TZOFFSETFROM:+0100
TZOFFSETTO:+0200
TZNAME:CEST
DTSTART:20260329T010000
END:DAYLIGHT
BEGIN:STANDARD
TZOFFSETFROM:+0200
TZOFFSETTO:+0100
TZNAME:CET
DTSTART:20261025T010000
END:STANDARD
END:VTIMEZONE
BEGIN:VEVENT
DTSTART;TZID=Europe/Vienna:20251211T153000
DTEND;TZID=Europe/Vienna:20251211T173000
DTSTAMP:20260422T205440
CREATED:20251126T145045Z
LAST-MODIFIED:20251126T145045Z
UID:10000541-1765467000-1765474200@www.femvents.at
SUMMARY:Pension? Deine Zukunft – deine Entscheidung! (Live-Online-Seminar)
DESCRIPTION:In diesem Seminar erhältst du einen klaren Überblick über das Pensionssystem und die wichtigsten Stellschrauben für deine persönliche Vorsorge. Wir zeigen\, welche Chancen und Risiken es gibt\, wie du finanzielle Lücken erkennen und rechtzeitig schließen kannst und welche Strategien wirklich langfristig tragen. Das Ziel: Du gewinnst Sicherheit\, Orientierung und die Kompetenz\, deine finanzielle Zukunft selbst in die Hand zu nehmen. Wir werden dir das Wissen und die Werkzeuge geben\, damit du mit Klarheit und Zuversicht planen kannst. \nSeminarleitung: Dr. Marietta Babos\, Damensache – Finanzen für die Frau \nHinweis: Dieses Seminar findet live und ONLINE statt \nVeranstaltet vom Österreichischen Fonds zur Stärkung und Förderung von Frauen und Mädchen
URL:https://www.femvents.at/event/pension-deine-zukunft-deine-entscheidung-live-online-seminar-4/
LOCATION:Live-Online-Seminar
CATEGORIES:Online-Event,Österreichweit,Workshop
ATTACH;FMTTYPE=image/jpeg:https://www.femvents.at/wp-content/uploads/2025/11/lea01-1.jpg
END:VEVENT
BEGIN:VEVENT
DTSTART;TZID=Europe/Vienna:20251211T183000
DTEND;TZID=Europe/Vienna:20251211T203000
DTSTAMP:20260422T205440
CREATED:20250818T153945Z
LAST-MODIFIED:20251201T115533Z
UID:10000181-1765477800-1765485000@www.femvents.at
SUMMARY:Feminine Shapes: Vulva Acrylic Night
DESCRIPTION:Vulven sind so individuell wie Frauen und jede ist schön. Dennoch werden sie oft von Scham\, Tabus oder unrealistischen Bildern überlagert. \nDieser Abend ist eine Einladung\, diese Bilder zu hinterfragen und deine eigene Definition von Weiblichkeit kreativ sichtbar zu machen. Hier gibt es keinen Leistungsdruck\, kein Richtig oder Falsch – nur deinen Ausdruck\, deine Farben und deinen Raum. \nFemale only! \nDu erhältst ein liebevoll gestaltetes Reflection & Impulse-Workbook\, das nur für dich gedacht ist. Es führt dich mit modernen Fragen und kreativen Impulsen zu deinen eigenen Gefühlen\, Bildern und Vorstellungen. Alles\, was du aufschreibst\, bleibt bei dir … es sei denn\, du möchtest etwas daraus im Austausch teilen. So kannst du den Abend ganz in deinem Tempo erleben: im stillen Dialog mit dir selbst oder im offenen Gespräch mit anderen. \nMit Acrylfarben und Leinwand gestaltest du dein persönliches Kunstwerk – inspiriert von der Form und Symbolik der Vulva. Abstrakt\, detailreich oder minimalistisch. \nZum Abschluss kannst du\, wenn du möchtest\, dein Kunstwerk oder deine Gedanken teilen – musst es aber nicht. \nWas dich erwartet: \n\nReflection & Impulse-Workbook mit Fragen & Impulsen\nLeinwand\, Acrylfarben\, Pinsel\, Schwämme etc\nWertschätzender & geschützter Female-Only-Rahmen\n\nWarum du kommen solltest? \n\nWeil Weiblichkeit keine Schublade ist und du hier deinen eigenen Ausdruck findest.\nWeil Kunst heilen kann: Farben und Formen öffnen Räume\, in denen Scham keinen Platz mehr hat.\nWeil es Zeit ist\, Tabus zu hinterfragen und dir zu erlauben\, selbst zu definieren\, was für dich schön\, stark und weiblich ist.\nWeil du hier in einem sicheren\, female only Raum bist. Frei von Bewertung\, voller Wertschätzung.\nWeil du etwas mit nach Hause nimmst\, das dich an diesen Abend erinnert … und an deine Stärke.
URL:https://www.femvents.at/event/feminine-shapes-vulva-acrylic-night-4/
LOCATION:liebestrunken I SELF LOVE CLUB\, Lederergasse 3\, Salzburg\, Salzburg\, 5020\, Austria
CATEGORIES:Salzburg,Workshop
ATTACH;FMTTYPE=image/jpeg:https://www.femvents.at/wp-content/uploads/2025/08/Vulva-2.jpg
ORGANIZER;CN="SELF LOVE CLUB @liebestrunken":MAILTO:hey@liebestrunken.com
GEO:47.802268;13.0445985
X-APPLE-STRUCTURED-LOCATION;VALUE=URI;X-ADDRESS=liebestrunken I SELF LOVE CLUB Lederergasse 3 Salzburg Salzburg 5020 Austria;X-APPLE-RADIUS=500;X-TITLE=Lederergasse 3:geo:13.0445985,47.802268
END:VEVENT
BEGIN:VEVENT
DTSTART;TZID=Europe/Vienna:20251211T190000
DTEND;TZID=Europe/Vienna:20251211T200000
DTSTAMP:20260422T205440
CREATED:20250915T110816Z
LAST-MODIFIED:20250915T110816Z
UID:10000280-1765479600-1765483200@www.femvents.at
SUMMARY:Gründerinnen-Sprechstunde: Fempreneur
DESCRIPTION:Du möchtest dich selbstständig machen aber hast noch 1000 Fragen?\n💬 Komm zum zweiwöchentlichen Online-Expertinnen-Talk für Gründerinnen (in spe) zu allen Fragen rund um deine Selbstständigkeit! \nIn diesem kostenlosen Webinar erwartet dich: \n\nOffene Q&A-Session zu allen Themen der Unternehmensgründung\nPraxisnahe Antworten auf deine individuellen Herausforderungen\nVernetzung mit Gleichgesinnten in entspannter Atmosphäre\nWertvolle Impulse und konkrete Handlungsschritte\n\nDetails:\n🗓️ Jeden zweiten Donnerstag\n⏰ 19:00 Uhr\n💻 Via Zoom\n💰 Kostenlos \nBringe deine Fragen mit oder höre einfach zu und lass dich inspirieren.\nDieser interaktive Austausch ist perfekt für dich\, egal ob du… \n\nmit dem Gedanken spielst\, dich selbstständig zu machen\nkonkrete Schritte zur Gründung planst\nbereits gegründet hast und vor neuen Herausforderungen stehst\n\n👩‍💼 Über den Host:\nIsabella ist diplomierte psychologische Beraterin\, Business Coach\, Trainerin für Erwachsenenbildung und zertifiziert für systemische Aufstellungsarbeit. Mit 13+ Jahren Erfahrung als selbstständige Senior UX-Designerin bringt sie einen reichen Erfahrungsschatz in der Zusammenarbeit mit Kund:innen in ganz Europa mit. ✨ \n🔗 Melde dich jetzt für einen der nächsten Termine an! \nhttps://scheduler.zoom.us/isabella-raunigk/fempreneur-after-work
URL:https://www.femvents.at/event/gruenderinnen-sprechstunde-fempreneur-10/
LOCATION:Online-Event\, Austria
CATEGORIES:After Work,Coaching,Meetup,Netzwerk-Treffen,Online-Event,Österreichweit
ATTACH;FMTTYPE=image/jpeg:https://www.femvents.at/wp-content/uploads/2025/09/Fempreneur-After-Work-Linkedin-Video-SSG-Coop-2.jpg
ORGANIZER;CN="Mind Distillery":MAILTO:hello@mind-distillery.com
GEO:47.516231;14.550072
END:VEVENT
END:VCALENDAR