BEGIN:VCALENDAR
VERSION:2.0
PRODID:-//femvents.at - ECPv6.15.18//NONSGML v1.0//EN
CALSCALE:GREGORIAN
METHOD:PUBLISH
X-WR-CALNAME:femvents.at
X-ORIGINAL-URL:https://www.femvents.at
X-WR-CALDESC:Veranstaltungen für femvents.at
REFRESH-INTERVAL;VALUE=DURATION:PT1H
X-Robots-Tag:noindex
X-PUBLISHED-TTL:PT1H
BEGIN:VTIMEZONE
TZID:Europe/Vienna
BEGIN:DAYLIGHT
TZOFFSETFROM:+0100
TZOFFSETTO:+0200
TZNAME:CEST
DTSTART:20240331T010000
END:DAYLIGHT
BEGIN:STANDARD
TZOFFSETFROM:+0200
TZOFFSETTO:+0100
TZNAME:CET
DTSTART:20241027T010000
END:STANDARD
BEGIN:DAYLIGHT
TZOFFSETFROM:+0100
TZOFFSETTO:+0200
TZNAME:CEST
DTSTART:20250330T010000
END:DAYLIGHT
BEGIN:STANDARD
TZOFFSETFROM:+0200
TZOFFSETTO:+0100
TZNAME:CET
DTSTART:20251026T010000
END:STANDARD
BEGIN:DAYLIGHT
TZOFFSETFROM:+0100
TZOFFSETTO:+0200
TZNAME:CEST
DTSTART:20260329T010000
END:DAYLIGHT
BEGIN:STANDARD
TZOFFSETFROM:+0200
TZOFFSETTO:+0100
TZNAME:CET
DTSTART:20261025T010000
END:STANDARD
END:VTIMEZONE
BEGIN:VEVENT
DTSTART;TZID=Europe/Vienna:20251213T140000
DTEND;TZID=Europe/Vienna:20251213T160000
DTSTAMP:20260422T223307
CREATED:20251128T081206Z
LAST-MODIFIED:20251128T081206Z
UID:10000547-1765634400-1765641600@www.femvents.at
SUMMARY:Move & Create with your partner
DESCRIPTION:When Physiotherapy & Art meet\, a room for self-discovery and growth is created.\nJoin us in a unique experience to deepen your connection and creativity with your partner\, and yourself. \nWHAT TO EXPECT?\nDaniel\, a physiotherapist\, guides you through simple massage and stretching exercises to practice together to release tension and improve your body awareness.\nThen\, Marie\, an artist\, guides you in an intuitive painting session to transform your sensations into a joint creation. A moment to move\, breathe\, and create together. \nNo physical/artistic skills needed.\nBring your lover\, bestie\, mother (or come alone and we’ll find your partner).
URL:https://www.femvents.at/event/move-create-with-your-partner/
LOCATION:The Soul Space\, Alexander-Girardi-Straße 39\, Salzburg\, 5020
CATEGORIES:Malworkshop,Salzburg,Workshop
ATTACH;FMTTYPE=image/jpeg:https://www.femvents.at/wp-content/uploads/2025/11/IMG_9633.jpeg
GEO:47.8014154;13.0448441
X-APPLE-STRUCTURED-LOCATION;VALUE=URI;X-ADDRESS=The Soul Space Alexander-Girardi-Straße 39 Salzburg 5020;X-APPLE-RADIUS=500;X-TITLE=Alexander-Girardi-Straße 39:geo:13.0448441,47.8014154
END:VEVENT
BEGIN:VEVENT
DTSTART;TZID=Europe/Vienna:20251213T140000
DTEND;TZID=Europe/Vienna:20251213T170000
DTSTAMP:20260422T223307
CREATED:20251110T180751Z
LAST-MODIFIED:20251110T180751Z
UID:10000488-1765634400-1765645200@www.femvents.at
SUMMARY:Whinenachten - Tanzworkshop mit Linda
DESCRIPTION:Special Tanzworkshop „Whinenachten“\nFühl die Freiheit \nTanz Workshop mit Linda in Salzburg\nChoreo inkl. professionellem Video\nDauer insgesamt 3h \nWir lernen gemeinsam eine richtig schöne Choreografie\,\ndie wir dann im professionellen Setting aufnehmen\,\nsodass ein richtig cooles Tanzvideo entsteht\,\nwelches du für dich verwenden kannst. \nGeeignet für routinierte Tänzerinnen \n\nDu fühlst die Freiheit und Lebendigkeit in deinem Körper\, während du dich zu jamaikanischen Beats bewegst\nDu lernst in einem sicheren und wertungsfreien Raum neue Bewegungen\, Tanzschritte und Choreos\nDu aktivierst über die Hüfte deine weibliche Power\, die sich wie heißes Feuer wohltuend in deinem ganzen Körper ausbreitet und dir Kraft schenkt\nDu bist voll im Moment\, durch das Tanzen kommst du aus deinem Kopf direkt rein in deinen Körper\, verbindest dich mit diesem und kannst so deine äußerliche Form voll akzeptieren und anerkennen\nDu fühlst eine wohltuende Verbindung mit den anderen Frauen\, wir füllen den Raum GEMEINSAM mit Tanz\, mit Inspiration\, jede Frau bringt ihren wertvollen individuellen Ausdruck und Stil mit\nDu sammelst Erfahrung vor der Kamera und schaffst so Wachstum für deine Tanzkarriere\n\nFEMALE DANCEHALL?\nDancehall ist eine Kultur\, ein Musikgenre und ein Tanzstil der auf den Parties der karibischen Insel JAMAIKA entstanden ist. Ein Vorläufer der Musik ist das bekannte Reggae. \nSENSUAL & FUN\nViele der Bewegungen gehen von der HÜFTE aus\, der Brust\, viele bodywaves\, sind powervoll\, voller vibe\, high energy und sensual. \nIch freu mich auf dich!\nLove\, Linda
URL:https://www.femvents.at/event/whinenachten-tanzworkshop-mit-linda/
LOCATION:Probehaus Salzburg\, Gewerbehofstraße 7/9a\, 5023 Salzburg\, Probehaus Salzburg\, Salzburg\, 5023\, Austria
CATEGORIES:Salzburg,Tanzveranstaltung
ATTACH;FMTTYPE=image/jpeg:https://www.femvents.at/wp-content/uploads/2025/11/insta-dancehall-female__2025-11-045-scaled.jpg
ORGANIZER;CN="Female Dancehall mit Linda":MAILTO:Linda@lichtgruen-design.at
GEO:47.820314;13.065639
X-APPLE-STRUCTURED-LOCATION;VALUE=URI;X-ADDRESS=Probehaus Salzburg Gewerbehofstraße 7/9a 5023 Salzburg Probehaus Salzburg Salzburg 5023 Austria;X-APPLE-RADIUS=500;X-TITLE=Gewerbehofstraße 7/9a\, 5023 Salzburg:geo:13.065639,47.820314
END:VEVENT
BEGIN:VEVENT
DTSTART;TZID=Europe/Vienna:20251213T143000
DTEND;TZID=Europe/Vienna:20251213T170000
DTSTAMP:20260422T223307
CREATED:20251120T082919Z
LAST-MODIFIED:20251120T131637Z
UID:10000524-1765636200-1765645200@www.femvents.at
SUMMARY:Kinderwunsch Kreis
DESCRIPTION:Kinderwunsch hat viele Gesichter.Die Frau\, die schon lange wartet.Die\, die schon Mama ist – und sich noch ein Kind wünscht.Die\, die gerade spürt\, dass der Wunsch da ist.Die\, die sich bewusst auf ihr Baby vorbereiten möchte.Und auch die\, die (noch) keinen Partner hat – aber in sich dieses tiefe Ja zum Leben spürt. 🤍 \nIn diesem Kinderwunsch-Kreis darf alles da sein.Kein Muss\, kein Vergleich – nur Raum für Verbindung\, Vertrauen und dein inneres Wissen.
URL:https://www.femvents.at/event/kinderwunsch-kreis-doulacynthia/
LOCATION:La Vie Coworking\, Wolf-Dietrich-Straße 9\, Salzburg\, Salzburg\, 5020\, Austria
CATEGORIES:Frauenkreis,Meditation,Salzburg
ATTACH;FMTTYPE=image/png:https://www.femvents.at/wp-content/uploads/2025/11/Intro-1.png
ORGANIZER;CN="Doula Cynthia":MAILTO:Hallo@doulacynthia.com
GEO:47.8048508;13.047892
X-APPLE-STRUCTURED-LOCATION;VALUE=URI;X-ADDRESS=La Vie Coworking Wolf-Dietrich-Straße 9 Salzburg Salzburg 5020 Austria;X-APPLE-RADIUS=500;X-TITLE=Wolf-Dietrich-Straße 9:geo:13.047892,47.8048508
END:VEVENT
BEGIN:VEVENT
DTSTART;TZID=Europe/Vienna:20251213T150000
DTEND;TZID=Europe/Vienna:20251213T220000
DTSTAMP:20260422T223307
CREATED:20251126T101410Z
LAST-MODIFIED:20251126T101410Z
UID:10000539-1765638000-1765663200@www.femvents.at
SUMMARY:Salon Femme - Winterfest
DESCRIPTION:Weihnachtseinkäufe mal anders: Coole Statement Pieces für die Liebsten shoppen\, Punsch trinken\, Essen\, Kunst schauen\, Konzerten lauschen. Ein Nachmittag von Frauen für alle. \nKAFFEESATZ & ROTMARIE laden zum Salon Femme: \nab 15 Uhr: \n\nFeminist Statement Pieces & Glühwein\nPeriodenunterwäsche & Punsch\nPullis & Hauben vom Slow Fashion Label Hulenoolja\n\nab 17 Uhr Köstlichkeiten von mosaic\, dem interkulturellen Frauenverein \n18 Uhr Finissage der Ausstellung von Caroline Hoffmann \nab 19:30 Konzerte von Pizza Emozionale und Medalomismo \nall female led\, Männer willkommen!
URL:https://www.femvents.at/event/salon-femme-winterfest/
LOCATION:ROTMARIE . der Zyklusladen\, Bloch-Bauer-Promenade 22/4\, Wien\, Wien\, 1100\, Austria
CATEGORIES:Wien
ATTACH;FMTTYPE=image/jpeg:https://www.femvents.at/wp-content/uploads/2025/11/Salon-Femme_Rotmarie.jpg
ORGANIZER;CN="ROTMARIE":MAILTO:info@rotmarie.com
GEO:48.1787753;16.385896
X-APPLE-STRUCTURED-LOCATION;VALUE=URI;X-ADDRESS=ROTMARIE . der Zyklusladen Bloch-Bauer-Promenade 22/4 Wien Wien 1100 Austria;X-APPLE-RADIUS=500;X-TITLE=Bloch-Bauer-Promenade 22/4:geo:16.385896,48.1787753
END:VEVENT
BEGIN:VEVENT
DTSTART;TZID=Europe/Vienna:20251213T160000
DTEND;TZID=Europe/Vienna:20251213T190000
DTSTAMP:20260422T223307
CREATED:20251127T065459Z
LAST-MODIFIED:20251127T065459Z
UID:10000545-1765641600-1765652400@www.femvents.at
SUMMARY:Female Pleasure Dinner
DESCRIPTION:Am 13.Dezember 2025 öffnen wir die Türen zu einem Abend\, der dich nährt\, berührt und elektrisiert. \nEin Gathering für Frauen\, die ihr Leben schmecken wollen — mit allen Sinnen. \nDu wirst: \n✨ tanzen\, deinen Körper spüren \n✨ dich in Verbindung erleben \n✨ ein sinnliches 3-Gänge-Menü genießen \n✨ lachen\, fühlen\, öffnen \n✨ dich zeigen dürfen \n✨ dein Nervensystem beruhigen durch Vergnügen \nEin Raum wie ein Frauenkreis – aber frecher\, mutiger\, lebendiger. \nEin Ort\, an dem Weiblichkeit sich ausbreiten darf. \n„Wie köstlich schmeckt dein Leben?“ \nKomm und finde es heraus. \n👉 Limitierte Plätze – sicher dir deinen Spot
URL:https://www.femvents.at/event/female-pleasure-dinner/
LOCATION:Salzburg Stadt
CATEGORIES:Frauenkreis,Salzburg,Tanzveranstaltung
ATTACH;FMTTYPE=image/png:https://www.femvents.at/wp-content/uploads/2025/11/Kopie-von-coming-soon.png
ORGANIZER;CN="Salon ROSA ROT":MAILTO:salon.rosarot@gmail.com
END:VEVENT
BEGIN:VEVENT
DTSTART;TZID=Europe/Vienna:20251213T160000
DTEND;TZID=Europe/Vienna:20251213T190000
DTSTAMP:20260422T223307
CREATED:20251204T205001Z
LAST-MODIFIED:20251205T081356Z
UID:10000557-1765641600-1765652400@www.femvents.at
SUMMARY:Zyklus Zirkel Baden
DESCRIPTION:Der Zyklus Zirkel ist ein monatliches Treffen\, in dem wir Frauen über alles sprechen können\, was uns mit oder ohne Zyklus beschäftigt.
URL:https://www.femvents.at/event/zyklus-zirkel-baden/
LOCATION:Das Yogaprojekt Studio\, Pelzgasse 18\, 2500 Baden\, Pelzgasse 18\, Baden\, Niederösterreich\, 2500\, Austria
CATEGORIES:Frauenkreis,Niederösterreich
ATTACH;FMTTYPE=image/jpeg:https://www.femvents.at/wp-content/uploads/2025/12/1000108095.jpg
ORGANIZER;CN="Katharina Gl%C3%B6ckel":MAILTO:katharina.gloeckel@gmail.com
GEO:48.00821;16.2284136
X-APPLE-STRUCTURED-LOCATION;VALUE=URI;X-ADDRESS=Das Yogaprojekt Studio Pelzgasse 18 2500 Baden Pelzgasse 18 Baden Niederösterreich 2500 Austria;X-APPLE-RADIUS=500;X-TITLE=Pelzgasse 18:geo:16.2284136,48.00821
END:VEVENT
BEGIN:VEVENT
DTSTART;TZID=Europe/Vienna:20251213T170000
DTEND;TZID=Europe/Vienna:20251213T200000
DTSTAMP:20260422T223307
CREATED:20250909T155849Z
LAST-MODIFIED:20251201T115616Z
UID:10000259-1765645200-1765656000@www.femvents.at
SUMMARY:Touch Yourself Workshop über Brustgesundheit und Selbstermächtigung
DESCRIPTION:Dieser Workshop stärkt Frauen* in ihrer Körperwahrnehmung und vermittelt durch Wissen und praktische Übung zur MammaCare* Methode einen selbstbewussten Umgang mit der eigenen Brust. Im Mittelpunkt stehen Selbstermächtigung\, der Abbau von Ängsten und das Vertrauen in den eigenen Körper als Schlüssel für aktive Brustgesundheit. \nDas erwartet dich: \n– Informationen zum Thema Brustgesundheit und Säulen der Brustkrebsprävention in Österreich \n– Anatomie der w. Brust und die Veränderungen im Laufe des Lebens einer Frau \n– Wie wirkt sich mein Zyklus auf meine Brustgesundheit aus? \nDu erlernst die MammaCare* Methode zur Brustselbstuntersuchung an speziellen Brustmodellen und schulst so deinen Tastsinn auf Veränderungen Wir besprechen wie sich Veränderungen anfühlen können und was du tun kannst\, wenn du etwas ertasten solltest. Wir beschäftigen uns mit Mythen und Fakten zum Thema Brustgesundheit Meditation und kl. Kakaozeremonie Ganz viel Austausch und Zeit für Fragen \n Inklusive: Infomaterialien\, reichhaltiges Goodiebag\, Snacks und Getränke \n*MammaCare ist weltweit die einzige wissenschaftlich fundierte Methode zur Brustselbstuntersuchung und klinischen Brustuntersuchung
URL:https://www.femvents.at/event/touch-yourself-workshop-ueber-brustgesundheit-und-selbstermaechtigung/
LOCATION:RaumGarten Graz\, Raiffeisenstraße 192\, Graz\, Austria\, Raiffeisenstraße 192\, Graz\, Steiermark\, 8041\, Austria
CATEGORIES:Steiermark,Workshop
ATTACH;FMTTYPE=image/jpeg:https://www.femvents.at/wp-content/uploads/2025/09/WhatsApp-Bild-2025-06-18-um-09.56.53_64ae0edc.jpg
GEO:47.0416284;15.4547442
X-APPLE-STRUCTURED-LOCATION;VALUE=URI;X-ADDRESS=RaumGarten Graz Raiffeisenstraße 192 Graz Austria Raiffeisenstraße 192 Graz Steiermark 8041 Austria;X-APPLE-RADIUS=500;X-TITLE=Raiffeisenstraße 192:geo:15.4547442,47.0416284
END:VEVENT
BEGIN:VEVENT
DTSTART;TZID=Europe/Vienna:20251213T180000
DTEND;TZID=Europe/Vienna:20251213T200000
DTSTAMP:20260422T223307
CREATED:20251029T160340Z
LAST-MODIFIED:20251029T160340Z
UID:10000456-1765648800-1765656000@www.femvents.at
SUMMARY:Chair Dance Workshop - open Level
DESCRIPTION:🥰 Ziel bei Selflove & Bootyshake:\nDeinen Körper lieben lernen.\nDeine innere & äußere Stärke zu finden.\nDich daran zu erinnern wie einzigartig und toll du bist.\nDeine Bewegungsqualität & deine weibliche Energie zu entfalten. \nWas erwartet dich beim Workshop:\n– Women Empowerment\n– Push für dein Selbstbewusstsein\n– Chair Dance Techniken\n– Übungen für mehr Flexibilität\n– positives Mindset\n– Chair Dance Choreography\n– sichere Atmosphäre & Fun \nWir als Frauen kreieren gemeinsam eine sichere Atmosphäre und füllen diese mit weiblicher Energie\, Spaß\, Sinnlichkeit\, guter Musik\, Freude an unserem Körper & Tanz. 💕 \nBitte mitbringen:\n– Wasserflasche\n– wir tanzen in Socken\n– Kleidung in der du dich wohl fühlst & dich gut bewegen kannst \nPS: du darfst dich gerne schick machen\, wenn du möchtest (Kein Muss!) \nIch freue mich auf dich du Queen! \nLet’s shine together.💎
URL:https://www.femvents.at/event/chair-dance-workshop-open-level/
LOCATION:Dance Base Salzburg\, Weiserhofstraße 3\, Salzburg\, 5020\, Austria
CATEGORIES:Salzburg,Tanzveranstaltung
ATTACH;FMTTYPE=image/jpeg:https://www.femvents.at/wp-content/uploads/2025/10/IMG_5428.jpg
ORGANIZER;CN="Selflove &amp%3B Bootyshake by Johanna":MAILTO:info@selflove-bootyshake.com
GEO:47.8120247;13.0474994
X-APPLE-STRUCTURED-LOCATION;VALUE=URI;X-ADDRESS=Dance Base Salzburg Weiserhofstraße 3 Salzburg 5020 Austria;X-APPLE-RADIUS=500;X-TITLE=Weiserhofstraße 3:geo:13.0474994,47.8120247
END:VEVENT
BEGIN:VEVENT
DTSTART;TZID=Europe/Vienna:20251213T183000
DTEND;TZID=Europe/Vienna:20251213T210000
DTSTAMP:20260422T223307
CREATED:20251210T120235Z
LAST-MODIFIED:20251210T120235Z
UID:10000562-1765650600-1765659600@www.femvents.at
SUMMARY:Soul-Business Circle - Lichterglanz: Celebrate\, Let Go & Rise into 2026
DESCRIPTION:Für einen liebevollen Abschluss des alten Jahres und einen kraftvollen Übergang ins neue. \nDieser Abend steht im Zeichen von Lichterglanz\, Innehalten und dich nähren. \nEin Moment um dich selbst zu feiern\, für all die Wege\, die du gegangen bist\, für alles\, was du gehalten\, geheilt und erschaffen hast. \nAn diesem Abend öffnen wir einen Raum voller Lichterglanz\, Wärme und Verbindung\, in dem du:\n✦ auf dein Jahr 2025 zurückblicken kannst\n✦ dich selbst und deinen Weg feierst\n✦ von anderen Frauen gesehen und unterstützt wirst\n✦ loslassen kannst\, was du nicht ins neue Jahr mitnehmen möchtest\n✦ dich mit deiner Energie für 2026 verbindest \nSpecial Guest: Jutta Pollhammer mit Soundbath & Poetry \nDich erwarten:\n Spiritual Practice meets Business – Cacaoritual\, achtsame Meditationen\, Rituale\, Journaling\, Embodiment\, Manifestation\, Breathwork\, Mindset- und Business-Impulse\n Energie & Ausrichtung – für Balance und Freude\n Tiefe Verbindung & Networking – Austausch auf Herzensebene
URL:https://www.femvents.at/event/soul-business-circle-lichterglanz-celebrate-let-go-rise-into-2026/
LOCATION:Ayurvedazentrum Forsthaus Hallein\, Dorrekstraße 2\, Hallein\, Salzburg\, 5400\, Austria
CATEGORIES:Frauenkreis,Netzwerk-Treffen,Salzburg
ATTACH;FMTTYPE=image/png:https://www.femvents.at/wp-content/uploads/2025/12/Soul-Business-Circle-4.png
ORGANIZER;CN="Katrin Anna Hauser":MAILTO:hallo@katrinannahauser.com
GEO:47.6812857;13.0956943
X-APPLE-STRUCTURED-LOCATION;VALUE=URI;X-ADDRESS=Ayurvedazentrum Forsthaus Hallein Dorrekstraße 2 Hallein Salzburg 5400 Austria;X-APPLE-RADIUS=500;X-TITLE=Dorrekstraße 2:geo:13.0956943,47.6812857
END:VEVENT
END:VCALENDAR