BEGIN:VCALENDAR
VERSION:2.0
PRODID:-//femvents.at - ECPv6.15.18//NONSGML v1.0//EN
CALSCALE:GREGORIAN
METHOD:PUBLISH
X-WR-CALNAME:femvents.at
X-ORIGINAL-URL:https://www.femvents.at
X-WR-CALDESC:Veranstaltungen für femvents.at
REFRESH-INTERVAL;VALUE=DURATION:PT1H
X-Robots-Tag:noindex
X-PUBLISHED-TTL:PT1H
BEGIN:VTIMEZONE
TZID:Europe/Vienna
BEGIN:DAYLIGHT
TZOFFSETFROM:+0100
TZOFFSETTO:+0200
TZNAME:CEST
DTSTART:20240331T010000
END:DAYLIGHT
BEGIN:STANDARD
TZOFFSETFROM:+0200
TZOFFSETTO:+0100
TZNAME:CET
DTSTART:20241027T010000
END:STANDARD
BEGIN:DAYLIGHT
TZOFFSETFROM:+0100
TZOFFSETTO:+0200
TZNAME:CEST
DTSTART:20250330T010000
END:DAYLIGHT
BEGIN:STANDARD
TZOFFSETFROM:+0200
TZOFFSETTO:+0100
TZNAME:CET
DTSTART:20251026T010000
END:STANDARD
BEGIN:DAYLIGHT
TZOFFSETFROM:+0100
TZOFFSETTO:+0200
TZNAME:CEST
DTSTART:20260329T010000
END:DAYLIGHT
BEGIN:STANDARD
TZOFFSETFROM:+0200
TZOFFSETTO:+0100
TZNAME:CET
DTSTART:20261025T010000
END:STANDARD
END:VTIMEZONE
BEGIN:VEVENT
DTSTART;TZID=Europe/Vienna:20251215T170000
DTEND;TZID=Europe/Vienna:20251215T200000
DTSTAMP:20260422T205329
CREATED:20251214T170405Z
LAST-MODIFIED:20251214T170405Z
UID:10000573-1765818000-1765828800@www.femvents.at
SUMMARY:LAGERABVERKAUF beim Upcyclinglabel vintage&young
DESCRIPTION:Liebe Ladies\, schweren Herzens schließen unser Upcycling Label vintage&young leider!\n\n\nDaher laden wir euch herzlich zu unserem vorweihnachtlichen LAGERABVERKAUF am Montag\, 15.12.2025 zwischen 17:00 und 20:00 Uhr in unser privates Atelier in Graz-Andritz\, Weinitzenstrasse 22c (weißes Haus mit Flachdach\, Parkplätze im Hof und an der Straße).\n\n\nSichert euch ein letztes Mal richtig tolle Unikate zu Schnäppchenpreisen.\n\n\nWir freuen uns sehr\, euch noch einmal bei uns zu begrüßen !\n\n\nEuer Team von v&y
URL:https://www.femvents.at/event/lagerabverkauf-beim-upcyclinglabel-vintageyoung/
CATEGORIES:After Work,Steiermark
ATTACH;FMTTYPE=image/jpeg:https://www.femvents.at/wp-content/uploads/2025/12/OPEN-HOUSE-bei-VY-1.jpeg
END:VEVENT
BEGIN:VEVENT
DTSTART;TZID=Europe/Vienna:20251215T183000
DTEND;TZID=Europe/Vienna:20251215T210000
DTSTAMP:20260422T205329
CREATED:20251013T165547Z
LAST-MODIFIED:20251013T165547Z
UID:10000388-1765823400-1765832400@www.femvents.at
SUMMARY:FEMME CIRCLE – Frauenkreis Salzburg
DESCRIPTION:Bei meinem Femme Circle kannst du dich auf einen besonderen Abend in einer gemütlichen Runde von tollen Frauen freuen. In etwa 2-3 wundervollen Stunden tauschen wir uns aus\, stärken uns gegenseitig und spüren die Kraft\, die wir Frauen einander geben können. In diesem ganz besonderen Kreis von Frauen wirst du gesehen und akzeptiert\, für das was du bist. \nVertrauen & Selbstreflexion sind der Schlüssel\nDu darfst dabei alles teilen und aussprechen\, was dich beschäftigt\, kannst deinen Gefühlen freien Lauf lassen und über Erfahrungen sprechen. Aber natürlich nur wenn du möchtest (du musst nicht). Das ist eine ganz befreiende Erfahrung. Es ermöglicht dir Selbstreflexion frei von Beurteilung. \nAn unserem gemeinsamen Abend erwarten dich: \n\nSelbstreflexion\nKakao Zeremonie\nMeditation\nAtem-\, Körperwahrnehmungs- und Achtsamkeitsübungen\nMusik & Klang\nAstrologie & Human Design Impulse\n\nBitte rechtzeitig anmelden\, da begrenzte Plätze! \n 
URL:https://www.femvents.at/event/femme-circle-frauenkreis-salzburg-2/
LOCATION:Hauptstrasse 4\, Obertrum\, Hauptstrasse 4\, Obertrum
CATEGORIES:Frauenkreis,Salzburg
ATTACH;FMTTYPE=image/jpeg:https://www.femvents.at/wp-content/uploads/2025/10/Z641146-Verbessert-RR-1.jpg
ORGANIZER;CN="Birgit Schulz":MAILTO:kontakt@birgitschulz.at
GEO:47.9373779;13.0745256
X-APPLE-STRUCTURED-LOCATION;VALUE=URI;X-ADDRESS=Hauptstrasse 4 Obertrum Hauptstrasse 4 Obertrum;X-APPLE-RADIUS=500;X-TITLE=Hauptstrasse 4:geo:13.0745256,47.9373779
END:VEVENT
END:VCALENDAR