BEGIN:VCALENDAR
VERSION:2.0
PRODID:-//femvents.at - ECPv6.15.18//NONSGML v1.0//EN
CALSCALE:GREGORIAN
METHOD:PUBLISH
X-WR-CALNAME:femvents.at
X-ORIGINAL-URL:https://www.femvents.at
X-WR-CALDESC:Veranstaltungen für femvents.at
REFRESH-INTERVAL;VALUE=DURATION:PT1H
X-Robots-Tag:noindex
X-PUBLISHED-TTL:PT1H
BEGIN:VTIMEZONE
TZID:Europe/Vienna
BEGIN:DAYLIGHT
TZOFFSETFROM:+0100
TZOFFSETTO:+0200
TZNAME:CEST
DTSTART:20240331T010000
END:DAYLIGHT
BEGIN:STANDARD
TZOFFSETFROM:+0200
TZOFFSETTO:+0100
TZNAME:CET
DTSTART:20241027T010000
END:STANDARD
BEGIN:DAYLIGHT
TZOFFSETFROM:+0100
TZOFFSETTO:+0200
TZNAME:CEST
DTSTART:20250330T010000
END:DAYLIGHT
BEGIN:STANDARD
TZOFFSETFROM:+0200
TZOFFSETTO:+0100
TZNAME:CET
DTSTART:20251026T010000
END:STANDARD
BEGIN:DAYLIGHT
TZOFFSETFROM:+0100
TZOFFSETTO:+0200
TZNAME:CEST
DTSTART:20260329T010000
END:DAYLIGHT
BEGIN:STANDARD
TZOFFSETFROM:+0200
TZOFFSETTO:+0100
TZNAME:CET
DTSTART:20261025T010000
END:STANDARD
END:VTIMEZONE
BEGIN:VEVENT
DTSTART;TZID=Europe/Vienna:20251218T190000
DTEND;TZID=Europe/Vienna:20251218T213000
DTSTAMP:20260422T191148
CREATED:20251124T075612Z
LAST-MODIFIED:20251124T075612Z
UID:10000529-1766084400-1766093400@www.femvents.at
SUMMARY:Visionen weben
DESCRIPTION:Ihr wunderschönen Frauen! \nDiese Zeit lädt uns ganz bewusst ein\, inne zu halten\, zur Ruhe zu kommen\, Trajme zu weben. \nIchh möchte euch gern einladen zu einem ganz besonderen Kreis. \n✨✨Visionen weben✨✨ \nGestalte dein Visionslboard für das Neue Jahr. \nEs wird Raum geben für \n✨Meditationen\n✨Visualisierungen\n✨Körperübungen\n✨Kreatives Gestalten in Gemeinschaft\n✨Sisterhood\n✨ Herzensrunden… \nWas darf in das Neue Jahr gewebt werden?\nWie kann ich meine Ideen auf ein Visionsboard bringen?\nWas ist mein Warum? \nWas du bis dahin schon sammeln kannst: Fotos\, Bilder\, Sprüche\,… Alles was du schon weißt dass du auf deinem Visionboard sehen möchtest. \nIch freu mich sehr auf einen gemütlichen Kreis🔥 \n 
URL:https://www.femvents.at/event/visionen-weben-2/
LOCATION:Kufstein\, Kufstein\, Tirol\, Austria
CATEGORIES:After Work,Frauenkreis,Meditation,Tirol
ATTACH;FMTTYPE=image/jpeg:https://www.femvents.at/wp-content/uploads/2025/11/1000001303-1-scaled.jpg
GEO:47.58237;12.16275
END:VEVENT
END:VCALENDAR