BEGIN:VCALENDAR
VERSION:2.0
PRODID:-//femvents.at - ECPv6.15.18//NONSGML v1.0//EN
CALSCALE:GREGORIAN
METHOD:PUBLISH
X-WR-CALNAME:femvents.at
X-ORIGINAL-URL:https://www.femvents.at
X-WR-CALDESC:Veranstaltungen für femvents.at
REFRESH-INTERVAL;VALUE=DURATION:PT1H
X-Robots-Tag:noindex
X-PUBLISHED-TTL:PT1H
BEGIN:VTIMEZONE
TZID:Europe/Vienna
BEGIN:DAYLIGHT
TZOFFSETFROM:+0100
TZOFFSETTO:+0200
TZNAME:CEST
DTSTART:20250330T010000
END:DAYLIGHT
BEGIN:STANDARD
TZOFFSETFROM:+0200
TZOFFSETTO:+0100
TZNAME:CET
DTSTART:20251026T010000
END:STANDARD
BEGIN:DAYLIGHT
TZOFFSETFROM:+0100
TZOFFSETTO:+0200
TZNAME:CEST
DTSTART:20260329T010000
END:DAYLIGHT
BEGIN:STANDARD
TZOFFSETFROM:+0200
TZOFFSETTO:+0100
TZNAME:CET
DTSTART:20261025T010000
END:STANDARD
BEGIN:DAYLIGHT
TZOFFSETFROM:+0100
TZOFFSETTO:+0200
TZNAME:CEST
DTSTART:20270328T010000
END:DAYLIGHT
BEGIN:STANDARD
TZOFFSETFROM:+0200
TZOFFSETTO:+0100
TZNAME:CET
DTSTART:20271031T010000
END:STANDARD
END:VTIMEZONE
BEGIN:VEVENT
DTSTART;TZID=Europe/Vienna:20260108T090000
DTEND;TZID=Europe/Vienna:20260111T170000
DTSTAMP:20260422T154657
CREATED:20251015T115702Z
LAST-MODIFIED:20251015T121914Z
UID:10000399-1767862800-1768150800@www.femvents.at
SUMMARY:Face Reflex Therapy Ausbildung
DESCRIPTION:Entdecke die Kraft der FACE-Reflex Therapie nach der Originalmethode Lone Sorensen \nModul 1 und 2 von 7 \nDie FACE-Reflex Therapie wurde von Lone Sorensen seit 1978 entwickelt und basiert auf der manuellen Stimulation spezifischer Nervenreflexzonen und Punkte im Gesicht sowie auf der Kopfhaut. Diese Aktivierung wirkt direkt auf das Nervensystem und beeinflusst die Körperfunktionen positiv und ausgleichend. \nSie verbindet: \n\n🧠 Moderne Neurowissenschaft\n🌀 Energetische Balancierung\n📜 Traditionelle Mikrosysteme aus Tibet\, Vietnam & Südamerika\n\n👩‍⚕️ Für wen ist die Ausbildung geeignet?\nOb Du bereits im Gesundheitsbereich tätig sind oder als Quereinsteiger starten möchten:\nEs sind keine Vorkenntnisse erforderlich! \n\nFür Therapeuten\, Heilpraktiker & Pflegekräfte\nFür Mütter & Väter mit einem Wunsch nach natürlicher Familiengesundheit\nFür alle\, die neue Wege der Selbstheilung entdecken möchten\n\n\nKosten: € 800 pro Modul (€ 800\,00 bei Anmeldung\, der Rest jeweils\nvor Start des nächsten Moduls)\noder für alle 7 Module\neinmalig statt € 5.600\,00 dann € 5.390\,00\nEs besteht die Möglichkeit einer zinslosen Ratenzahlung \n⭐ Dein Weg zum Erfolg beginnt jetzt!\nMelde dich noch heute an und beginnen eine Reise\, die nicht nur das Leben Deiner Klienten verändert – sondern auch Dein eigenes.\nErlebe\, wie Berührung zur Selbstheilung anregt.\n„Starte jetzt und verändere Leben – durch FACE-Reflex Therapie.“ \n📩 Für weitere Informationen https://www.face-reflex.at/ausbildung1
URL:https://www.femvents.at/event/face-reflex-therapy-ausbildung/
LOCATION:Gesundheitszentrum Fondavo\, Joanelligasse 5 Eingang Dürergasse\, Wien\, Wien\, 1060\, Austria
CATEGORIES:Kurs,Wien
ATTACH;FMTTYPE=image/png:https://www.femvents.at/wp-content/uploads/2025/10/A-Facial-Reflexology-full-education-5-levels.png
ORGANIZER;CN="Andrea Steinkellner Instruktorin der Neuro-Reflex-Therapien nach der Originalmethode Lone Sorensen":MAILTO:info@face-reflex.at
GEO:48.1974535;16.3569388
X-APPLE-STRUCTURED-LOCATION;VALUE=URI;X-ADDRESS=Gesundheitszentrum Fondavo Joanelligasse 5 Eingang Dürergasse Wien Wien 1060 Austria;X-APPLE-RADIUS=500;X-TITLE=Joanelligasse 5 Eingang Dürergasse:geo:16.3569388,48.1974535
END:VEVENT
BEGIN:VEVENT
DTSTART;TZID=Europe/Vienna:20260110T083000
DTEND;TZID=Europe/Vienna:20260110T093000
DTSTAMP:20260422T154657
CREATED:20260106T190731Z
LAST-MODIFIED:20260107T143123Z
UID:10000608-1768033800-1768037400@www.femvents.at
SUMMARY:Schwangerschaftsyoga
DESCRIPTION:Schwangerschaftsyoga jeden Samstag 8:30 Uhr bis 9:30 Uhr im Fitnessstudio Prolife in Pfandl bei Bad Ischl. \n100 Euro für einen 10er Block.
URL:https://www.femvents.at/event/schwangerschaftsyoga/
LOCATION:Bad Ischl
CATEGORIES:Oberösterreich,Sport
ATTACH;FMTTYPE=image/png:https://www.femvents.at/wp-content/uploads/2025/05/cropped-LogoFavicon.png
ORGANIZER;CN="doula_mamaoase":MAILTO:doula_mamaoase@gmx.at
END:VEVENT
BEGIN:VEVENT
DTSTART;TZID=Europe/Vienna:20260110T093000
DTEND;TZID=Europe/Vienna:20260110T103000
DTSTAMP:20260422T154657
CREATED:20260106T190943Z
LAST-MODIFIED:20260106T190943Z
UID:10000611-1768037400-1768041000@www.femvents.at
SUMMARY:Yoga für Mama und Baby
DESCRIPTION:Yoga für Mama und Baby jeden Samstag in Fitness Studio Prolife in Pfandl Bad Ischl um 9:40-10:40 Uhr. Kommt vorbei\, gönnt euch Entspannung\, ankommen\, starke Verbindung zum Baby aufbauen.
URL:https://www.femvents.at/event/yoga-fuer-mama-und-baby/
LOCATION:Bad Ischl
CATEGORIES:Oberösterreich,Sport
ATTACH;FMTTYPE=image/jpeg:https://www.femvents.at/wp-content/uploads/2026/01/inbound6349752108538108639-scaled.jpg
ORGANIZER;CN="doula_mamaoase":MAILTO:doula_mamaoase@gmx.at
END:VEVENT
BEGIN:VEVENT
DTSTART;TZID=Europe/Vienna:20260110T100000
DTEND;TZID=Europe/Vienna:20260110T113000
DTSTAMP:20260422T154657
CREATED:20251230T103153Z
LAST-MODIFIED:20251230T103153Z
UID:10000601-1768039200-1768044600@www.femvents.at
SUMMARY:Body Confidence Yoga
DESCRIPTION:Ein Raum ohne Druck. Ein Körper\, der nichts beweisen muss. \nStarte dein neues Jahr mit einer Yogastunde\, die dich in deinem Körper willkommen heißt – genau so wie du bist – ohne etwas verändern zu wollen. \nWir lassen Druck\, Neujahrsvorsätze und Selbstoptimierung zum Beginn des Jahres bewusst los und fokussieren stattdessen ein liebevolles Körpergefühl voller Vertrauen und Selbstannahme. Denn du bist bereits VOLLKOMMEN💛 \n\n\n\n\n\n🧘‍♀️ Was dich erwartet: \n\nAchtsames\, körperbewusstes Yoga mit Endentspannung\nFokus auf Selbstannahme\, Selbstliebe und bewusstes Sein\nRuhige\, wertschätzende Anleitung\nFür alle Körper & Erfahrungslevel geeignet – du brauchst keine Vorkenntnisse 🙂\nProbiere Yoga ohne Verpflichtung & finde deinen eigenen Rhythmus auf der Matte\nEine tolle Location mit gemütlicher Atmosphäre\n\nJetzt deinen Platz sichern! \nIch freu mich auf dich 💛 \nHinweis zur Teilnahme:\nDie Yogastunde dient der allgemeinen Gesundheitsförderung und ersetzt keine ärztliche Beratung oder Behandlung. Bitte achte auf dein persönliches Wohlbefinden und nimm nur teil\, wenn du dich körperlich fit und gesund fühlst. Die Teilnahme erfolgt auf eigene Verantwortung – für gesundheitliche Beschwerden oder Verletzungen übernehmen wir keine Haftung. \nFoto- und Videoaufnahmen:\nIm Rahmen der Veranstaltung können Foto- und Videoaufnahmen zu Marketingzwecken gemacht werden. Wenn du nicht auf Bildmaterial erscheinen möchtest\, gib mir bitte direkt vor Beginn Bescheid.
URL:https://www.femvents.at/event/body-confidence-yoga/
LOCATION:The Soul Space\, Alexander-Girardi-Straße 39\, Salzburg\, 5020
CATEGORIES:Kurs,Salzburg
ATTACH;FMTTYPE=image/png:https://www.femvents.at/wp-content/uploads/2025/12/inbound6493416021511249910.png
GEO:47.8014154;13.0448441
X-APPLE-STRUCTURED-LOCATION;VALUE=URI;X-ADDRESS=The Soul Space Alexander-Girardi-Straße 39 Salzburg 5020;X-APPLE-RADIUS=500;X-TITLE=Alexander-Girardi-Straße 39:geo:13.0448441,47.8014154
END:VEVENT
BEGIN:VEVENT
DTSTART;TZID=Europe/Vienna:20260110T160000
DTEND;TZID=Europe/Vienna:20260110T190000
DTSTAMP:20260422T154657
CREATED:20260103T185617Z
LAST-MODIFIED:20260103T185617Z
UID:10000606-1768060800-1768071600@www.femvents.at
SUMMARY:Zyklus Zirkel Baden
DESCRIPTION:Der Zyklus Zirkel ist ein monatliches kostenloses Treffen (Spende nach Belieben zur Unterstützung des Projekt)\, in dem wir Frauen über alles sprechen können\, was uns mit oder ohne Zyklus beschäftigt. Diesmal geht es um Sport und Bewegung im Einklang mit dem weiblichen Zyklus bzw. weiblichen Körper.
URL:https://www.femvents.at/event/zyklus-zirkel-baden-2/
LOCATION:Das Yogaprojekt Studio\, Pelzgasse 18\, 2500 Baden\, Pelzgasse 18\, Baden\, Niederösterreich\, 2500\, Austria
CATEGORIES:Frauenkreis,Meetup,Niederösterreich
ATTACH;FMTTYPE=image/jpeg:https://www.femvents.at/wp-content/uploads/2026/01/1000117543.jpg
ORGANIZER;CN="Katharina Gl%C3%B6ckel":MAILTO:katharina.gloeckel@gmail.com
GEO:48.00821;16.2284136
X-APPLE-STRUCTURED-LOCATION;VALUE=URI;X-ADDRESS=Das Yogaprojekt Studio Pelzgasse 18 2500 Baden Pelzgasse 18 Baden Niederösterreich 2500 Austria;X-APPLE-RADIUS=500;X-TITLE=Pelzgasse 18:geo:16.2284136,48.00821
END:VEVENT
END:VCALENDAR